{"text_format":"1","workbook":"xlsx","n_sheets":5,"sheets":["DATA","OFFICIAL","Appointments","Ump-teams","TCU Report"],"not_rendered":{"charts":0,"images":2,"macros":1,"external_links":0,"defined_names":9,"comments":1,"pivot_tables":0},"unopened":[],"bounds":{"document_bytes":16777216,"sheet_cells":100000,"rows_first":2000,"rows_last":500,"rows_between":2000,"halvings":0,"cell_chars":16384,"cell_head_chars":4096},"cells_cut":0,"cells_raw":0,"read":"whole","date_system":"1900"}

{"sheet":"DATA","index":0,"n_rows":45,"n_cols":20,"rows_kept":45,"cut":false,"hidden":false,"merged":[[19,10,19,19],[1,1,1,3],[1,5,1,8],[0,10,0,18],[2,10,2,18],[0,1,0,8],[1,10,1,18],[10,10,10,19],[11,10,11,19],[4,10,4,19],[5,10,5,19],[6,10,6,19],[44,1,45,11],[7,10,7,19],[13,10,13,19],[14,10,14,19],[15,10,15,19],[8,10,8,19],[9,10,9,19],[27,10,27,19],[20,10,20,19],[22,10,22,19],[21,10,21,19],[24,10,24,19],[25,10,25,19],[16,11,16,19],[17,11,17,19],[18,10,18,19]]}
[null,null,null,null,null,null,null,null,null,null,"INSTRUCTIONS FOR USE"]
[null,"Teams",null,null,null,"Umpires",null,null,null,null,"To maximise the benefits of this template please"]
[null,"Country/Team as in Draw","ABR","Section/Pool",null,"Initials","Surname,    First Name","Country","ABR",null,"follow these basic set-up instructions "]
[null,null,null,null,null,null,null,null,null,null,null,null,null,null,null,null,null,null,null,"Ver 2019.1"]
[null,null,null,null,null,null,null,null,null,null,"1. Enter the Tournament Name in the Upper Most Cell"]
[null,null,null,null,null,null,null,null,null,null,"2. Enter the teams as per the draw."]
[null,null,null,null,null,null,null,null,null,null,"3. SORT the teams (Press the Sort Teams button)"]
[null,null,null,null,null,null,null,null,null,null,"4. Enter all the umpires assigned to the Tournament per your schedule"]
[null,null,null,null,null,null,null,null,null,null,"5. SORT the umpires (Press the Sort Umps button)"]
[null,null,null,null,null,null,null,null,null,null," NOTE: You MUST SORT umpires (even if you enter alphabetically) "]
[null,null,null,null,null,null,null,null,null,null,"6. Print this sheet and display it on your notice board."]
[null,null,null,null,null,null,null,null,null,null,"7. Save As : Tournament Name"]
[]
[null,null,null,null,null,null,null,null,null,null,"Entering the Draw"]
[null,null,null,null,null,null,null,null,null,null,"1. Click on the Tab named \"OFFICIAL\""]
[null,null,null,null,null,null,null,null,null,null,"2. Enter the draw as per your programme."]
[null,null,null,null,null,null,null,null,null,null,null,"Team names are already \"listed\" in a dropdown box - select and tab to the next field"]
[]
[null,null,null,null,null,null,null,null,null,null,"Once the Draw has been entered SAVE. - You don't want to have to re-type"]
[]
[null,null,null,null,null,null,null,null,null,null,"3. Enter your umpires (use initials only) Dropdown boxes aid input"]
[null,null,null,null,null,null,null,null,null,null,"    To check umpire - umpire buddies use the \"Appointments\"  tab "]
[null,null,null,null,null,null,null,null,null,null,"    To check umpire - team allocations use the \"Ump-teams\"  tab "]
[]
[null,null,null,null,null,null,null,null,null,null,"To PRINT each day's allocations from the OFFICIAL Tab or TCU Report"]
[null,null,null,null,null,null,null,null,null,null,"1. Press the PRINT PREVIEW button         on your worksheet or toolbar"]
[null,null,null,null,null,null,null,null,null,null,"2. Then select Page Break Preview"]
[null,null,null,null,null,null,null,null,null,null,"Switches to page break preview in which you can adjust the page breaks on the active worksheet."]
[null,null,null,null,null,null,null,null,null,null,"  Adjust the page breaks to display the day required to print"]
[]
[null,null,null,null,null,null,null,null,null,null,"3. Press the PRINT PREVIEW button again, then Normal View to return to the "]
[null,null,null,null,null,null,null,null,null,null,"  worksheet."]
[null,null,null,null,null,null,null,null,null,null,"4. Press PRINT from your  main menu (Only the area selected will be printed)"]
[null,null,null,null,null,null,null,null,null,null,"    The Column names print by default and do not need to be selected."]
[]
[]
[null,"page break preview (Worksheet view that displays the areas to be printed and the locations of page breaks. The area to be printed is displayed in white, automatic page breaks appear as dashed lines,"]
[null,null," and manual page breaks appear as solid lines.)"]
[null,"page break: (Divider that breaks a worksheet into separate pages for printing. on the active worksheet)"]
[null,"print area: (One or more ranges of cells that you designate to print when you don't want to print the entire worksheet. If a worksheet includes a print area, only the print area is printed.) "]
[]
[null,"The name of the button changes from Page Break Preview to Normal View if you were in page break preview when you clicked Print Preview ."]
[null,"On completion of tournament - the TCU Report is the one required to be forwarded to the UIC as part of your tournament report."]
[]
[null,"Should Alterations be required to meet individual requirements, Each sheet can be unprotected to allow for modification. PLEASE NOTE this is NOT Recommended. Please contact the NUS manager for details."]

{"sheet":"OFFICIAL","index":1,"n_rows":112,"n_cols":87,"rows_kept":112,"cut":false,"hidden":false,"merged":[[32,15,32,16],[0,1,0,14]]}
[null,{"$f":"DATA!B1","v":0},null,null,null,null,null,null,null,null,null,null,null,null,null,null,null,null,null,null,null,null,null,null,null,null,null,null,null,null,null,null,null,null,null,null,null,null,null,null,null,null,null,null,null,null,null,null,null,null,null,null,null,null,null,null,null,null,null,null,null,null,null,null,null,null,null,null,null,null,null,null,null,null,null,null,null,null,null,null,null,null,null,null,null,null,"x"]
[]
["Game ","Date","TIME","Sectn","Team","v","Team","P",1,2,3,"LF","RF","Clock","◊",null,null,{"$f":"CONCATENATE(H3,\" : \",I3)","v":"P : 1"},{"$f":"CONCATENATE(H3,\" : \",J3)","v":"P : 2"},{"$f":"CONCATENATE(H3,\" : \",K3)","v":"P : 3"},"P : LF","P : RF",{"$f":"CONCATENATE(I3,\" : \",J3)","v":"1 : 2"},{"$f":"CONCATENATE(I3,\" : \",K3)","v":"1 : 3"},"1 : LF","1: RF",{"$f":"CONCATENATE(J3,\" : \",K3)","v":"2 : 3"},"2 : LF","2 : RF","3 : LF","3 : RF","LF : RF",{"$f":"CONCATENATE(H3,\" : \",E3)","v":"P : Team"},{"$f":"CONCATENATE(H3,\" : \",G3)","v":"P : Team"},{"$f":"CONCATENATE(I3,\" : \",E3)","v":"1 : Team"},{"$f":"CONCATENATE(I3,\" : \",G3)","v":"1 : Team"},{"$f":"CONCATENATE(J3,\" : \",E3)","v":"2 : Team"},{"$f":"CONCATENATE(J3,\" : \",G3)","v":"2 : Team"},{"$f":"CONCATENATE(K3,\" : \",E3)","v":"3 : Team"},{"$f":"CONCATENATE(K3,\" : \",G3)","v":"3 : Team"},{"$f":"CONCATENATE(L3,\" : \",E3)","v":"LF : Team"},{"$f":"CONCATENATE(L3,\" : \",G3)","v":"LF : Team"},{"$f":"CONCATENATE(M3,\" : \",E3)","v":"RF : Team"},{"$f":"CONCATENATE(M3,\" : \",G3)","v":"RF : Team"},"Team1Abr","Team2Abr","P",1,2,3,"LF","RF","T1","T2","P",1,2,3,"LF","RF","who:beat:who",{"$f":"IF(DATA!$F4=\"\",\" \",DATA!$F4)","v":" "},{"$f":"IF(DATA!$F5=\"\",\" \",DATA!$F5)","v":" "},{"$f":"IF(DATA!$F6=\"\",\" \",DATA!$F6)","v":" "},{"$f":"IF(DATA!$F7=\"\",\" \",DATA!$F7)","v":" "},{"$f":"IF(DATA!$F8=\"\",\" \",DATA!$F8)","v":" "},{"$f":"IF(DATA!$F9=\"\",\" \",DATA!$F9)","v":" "},{"$f":"IF(DATA!$F10=\"\",\" \",DATA!$F10)","v":" "},{"$f":"IF(DATA!$F11=\"\",\" \",DATA!$F11)","v":" "},{"$f":"IF(DATA!$F12=\"\",\" \",DATA!$F12)","v":" "},{"$f":"IF(DATA!$F13=\"\",\" \",DATA!$F13)","v":" "},{"$f":"IF(DATA!$F14=\"\",\" \",DATA!$F14)","v":" "},{"$f":"IF(DATA!$F15=\"\",\" \",DATA!$F15)","v":" "},{"$f":"IF(DATA!$F16=\"\",\" \",DATA!$F16)","v":" "},{"$f":"IF(DATA!$F17=\"\",\" \",DATA!$F17)","v":" "},{"$f":"IF(DATA!$F18=\"\",\" \",DATA!$F18)","v":" "},{"$f":"IF(DATA!$F19=\"\",\" \",DATA!$F19)","v":" "},{"$f":"IF(DATA!$F20=\"\",\" \",DATA!$F20)","v":" "},{"$f":"IF(DATA!$F21=\"\",\" \",DATA!$F21)","v":" "},{"$f":"IF(DATA!$F22=\"\",\" \",DATA!$F22)","v":" "},{"$f":"IF(DATA!$F23=\"\",\" \",DATA!$F23)","v":" "},{"$f":"IF(DATA!$F24=\"\",\" \",DATA!$F24)","v":" "},{"$f":"IF(DATA!$F25=\"\",\" \",DATA!$F25)","v":" "},{"$f":"IF(DATA!$F26=\"\",\" \",DATA!$F26)","v":" "},{"$f":"IF(DATA!$F27=\"\",\" \",DATA!$F27)","v":" "},{"$f":"IF(DATA!$F28=\"\",\" \",DATA!$F28)","v":" "},{"$f":"IF(DATA!$F29=\"\",\" \",DATA!$F29)","v":" "}]
[null,null,null,null,null,{"$f":"IF(E4=\"\",\" \",\"v\")","v":" "},null,null,null,null,null,null,null,null,null,null,{"$f":"IF($H4=$AS$3,$H$3,IF($I4=$AS$3,$I$3,IF($J4=$AS$3,$J$3,IF($K4=$AS$3,$K$3,IF($L4=$AS$3,$L$4,IF($M4=$AS$3,$M$4,\" \"))))))","v":" "},{"$f":"CONCATENATE(H4,\" : \",I4)","v":" : "},{"$f":"CONCATENATE(H4,\" : \",J4)","v":" : "},{"$f":"CONCATENATE(H4,\" : \",K4)","v":" : "},{"$f":"CONCATENATE($H4,\" : \",L4)","v":" : "},{"$f":"CONCATENATE($H4,\" : \",M4)","v":" : "},{"$f":"CONCATENATE(I4,\" : \",J4)","v":" : "},{"$f":"CONCATENATE($I4,\" : \",K4)","v":" : "},{"$f":"CONCATENATE($I4,\" : \",L4)","v":" : "},{"$f":"CONCATENATE($I4,\" : \",M4)","v":" : "},{"$f":"CONCATENATE($J4,\" : \",K4)","v":" : "},{"$f":"CONCATENATE($J4,\" : \",L4)","v":" : "},{"$f":"CONCATENATE($J4,\" : \",M4)","v":" : "},{"$f":"CONCATENATE($K4,\" : \",L4)","v":" : "},{"$f":"CONCATENATE($K4,\" : \",M4)","v":" : "},{"$f":"CONCATENATE($L4,\" : \",M4)","v":" : "}," : "," : "," : "," : "," : ",{"$f":"CONCATENATE(J4,\" : \",G4)","v":" : "}," : "," : ",{"$f":"CONCATENATE(L4,\" : \",E4)","v":" : "},{"$f":"CONCATENATE(L4,\" : \",G4)","v":" : "},{"$f":"CONCATENATE(M4,\" : \",E4)","v":" : "},{"$f":"CONCATENATE(M4,\" : \",G4)","v":" : "},{"$f":"IF(E4>0,VLOOKUP($E4,'TCU Report'!$Z$4:$AA$35,2),99)","v":99},{"$f":"IF(G4>0,VLOOKUP($G4,'TCU Report'!$Z$4:$AA$35,2),99)","v":99},{"$f":"IF(H4>0,VLOOKUP($H4,'TCU Report'!$W$4:$Y$35,3),0)","v":0},{"$f":"IF(I4>0,VLOOKUP($I4,'TCU Report'!$W$4:$Y$35,3),0)","v":0},{"$f":"IF(J4>0,VLOOKUP($J4,'TCU Report'!$W$4:$Y$35,3),0)","v":0},{"$f":"IF(K4>0,VLOOKUP($K4,'TCU Report'!$W$4:$Y$35,3),0)","v":0},{"$f":"IF(L4>0,VLOOKUP($L4,'TCU Report'!$W$4:$Y$35,3),0)","v":0},{"$f":"IF(M4>0,VLOOKUP($M4,'TCU Report'!$W$4:$Y$35,3),0)","v":0},{"$f":"IF($AS4=$AU4,1,IF($AS4=$AV4,1,IF($AS4=$AW4,1,IF($AS4=AX4,1,IF($AS4=AY4,1,IF($AS4=AZ4,1,0))))))","v":0},{"$f":"IF($AT4=AU4,1,IF($AT4=AV4,1,IF($AT4=AW4,1,IF($AT4=AX4,1,IF($AT4=AY4,1,IF($AT4=AZ4,1,0))))))","v":0},{"$f":"IF(AU4=$AS4,1,IF(AU4=$AT4,1,0))","v":0},0,0,0,0,0,{"$f":"IF($H4=$AS$3,$H$3,IF($I4=$AS$3,$I$3,IF($J4=$AS$3,$J$3,IF($K4=$AS$3,$K$3,IF($L4=$AS$3,$L$4,IF($M4=$AS$3,$M$4,\" \"))))))","v":" "},{"$f":"IF($H4=$BJ$3,$H$3,IF($I4=$BJ$3,$I$3,IF($J4=$BJ$3,$J$3,IF($K4=$BJ$3,$K$3,IF($L4=$BJ$3,$L$3,IF($M4=$BJ$3,$M$3,\" \"))))))","v":" "},{"$f":"IF($H4=$BK$3,$H$3,IF($I4=$BK$3,$I$3,IF($J4=$BK$3,$J$3,IF($K4=$BK$3,$K$3,IF($L4=$BK$3,$L$3,IF($M4=$BK$3,$M$3,\" \"))))))","v":" "},{"$f":"IF($H4=$BL$3,$H$3,IF($I4=$BL$3,$I$3,IF($J4=$BL$3,$J$3,IF($K4=$BL$3,$K$3,IF($L4=$BL$3,$L$3,IF($M4=$BL$3,$M$3,\" \"))))))","v":" "},{"$f":"IF($H4=$BM$3,$H$3,IF($I4=$BM$3,$I$3,IF($J4=$BM$3,$J$3,IF($K4=$BM$3,$K$3,IF($L4=$BM$3,$L$3,IF($M4=$BM$3,$M$3,\" \"))))))","v":" "},{"$f":"IF($H4=$BN$3,$H$3,IF($I4=$BN$3,$I$3,IF($J4=$BN$3,$J$3,IF($K4=$BN$3,$K$3,IF($L4=$BN$3,$L$3,IF($M4=$BN$3,$M$3,\" \"))))))","v":" "},{"$f":"IF($H4=$BO$3,$H$3,IF($I4=$BO$3,$I$3,IF($J4=$BO$3,$J$3,IF($K4=$BO$3,$K$3,IF($L4=$BO$3,$L$3,IF($M4=$BO$3,$M$3,\" \"))))))","v":" "},{"$f":"IF($H4=$BP$3,$H$3,IF($I4=$BP$3,$I$3,IF($J4=$BP$3,$J$3,IF($K4=$BP$3,$K$3,IF($L4=$BP$3,$L$3,IF($M4=$BP$3,$M$3,\" \"))))))","v":" "},{"$f":"IF($H4=$BQ$3,$H$3,IF($I4=$BQ$3,$I$3,IF($J4=$BQ$3,$J$3,IF($K4=$BQ$3,$K$3,IF($L4=$BQ$3,$L$3,IF($M4=$BQ$3,$M$3,\" \"))))))","v":" "},{"$f":"IF($H4=$BR$3,$H$3,IF($I4=$BR$3,$I$3,IF($J4=$BR$3,$J$3,IF($K4=$BR$3,$K$3,IF($L4=$BR$3,$L$3,IF($M4=$BR$3,$M$3,\" \"))))))","v":" "},{"$f":"IF($H4=$BS$3,$H$3,IF($I4=$BS$3,$I$3,IF($J4=$BS$3,$J$3,IF($K4=$BS$3,$K$3,IF($L4=$BS$3,$L$3,IF($M4=$BS$3,$M$3,\" \"))))))","v":" "},{"$f":"IF($H4=$BT$3,$H$3,IF($I4=$BT$3,$I$3,IF($J4=$BT$3,$J$3,IF($K4=$BT$3,$K$3,IF($L4=$BT$3,$L$3,IF($M4=$BT$3,$M$3,\" \"))))))","v":" "},{"$f":"IF($H4=$BU$3,$H$3,IF($I4=$BU$3,$I$3,IF($J4=$BU$3,$J$3,IF($K4=$BU$3,$K$3,IF($L4=$BU$3,$L$3,IF($M4=$BU$3,$M$3,\" \"))))))","v":" "},{"$f":"IF($H4=$BV$3,$H$3,IF($I4=$BV$3,$I$3,IF($J4=$BV$3,$J$3,IF($K4=$BV$3,$K$3,IF($L4=$BV$3,$L$3,IF($M4=$BV$3,$M$3,\" \"))))))","v":" "},{"$f":"IF($H4=$BW$3,$H$3,IF($I4=$BW$3,$I$3,IF($J4=$BW$3,$J$3,IF($K4=$BW$3,$K$3,IF($L4=$BW$3,$L$3,IF($M4=$BW$3,$M$3,\" \"))))))","v":" "},{"$f":"IF($H4=$BX$3,$H$3,IF($I4=$BX$3,$I$3,IF($J4=$BX$3,$J$3,IF($K4=$BX$3,$K$3,IF($L4=$BX$3,$L$3,IF($M4=$BX$3,$M$3,\" \"))))))","v":" "},{"$f":"IF($H4=$BY$3,$H$3,IF($I4=$BY$3,$I$3,IF($J4=$BY$3,$J$3,IF($K4=$BY$3,$K$3,IF($L4=$BY$3,$L$3,IF($M4=$BY$3,$M$3,\" \"))))))","v":" "},{"$f":"IF($H4=$BZ$3,$H$3,IF($I4=$BZ$3,$I$3,IF($J4=$BZ$3,$J$3,IF($K4=$BZ$3,$K$3,IF($L4=$BZ$3,$L$3,IF($M4=$BZ$3,$M$3,\" \"))))))","v":" "},{"$f":"IF($H4=$CA$3,$H$3,IF($I4=$CA$3,$I$3,IF($J4=$CA$3,$J$3,IF($K4=$CA$3,$K$3,IF($L4=$CA$3,$L$3,IF($M4=$CA$3,$M$3,\" \"))))))","v":" "},{"$f":"IF($H4=$CB$3,$H$3,IF($I4=$CB$3,$I$3,IF($J4=$CB$3,$J$3,IF($K4=$CB$3,$K$3,IF($L4=$CB$3,$L$3,IF($M4=$CB$3,$M$3,\" \"))))))","v":" "},{"$f":"IF($H4=$CC$3,$H$3,IF($I4=$CC$3,$I$3,IF($J4=$CC$3,$J$3,IF($K4=$CC$3,$K$3,IF($L4=$CC$3,$L$3,IF($M4=$CC$3,$M$3,\" \"))))))","v":" "},{"$f":"IF($H4=$CD$3,$H$3,IF($I4=$CD$3,$I$3,IF($J4=$CD$3,$J$3,IF($K4=$CD$3,$K$3,IF($L4=$CD$3,$L$3,IF($M4=$CD$3,$M$3,\" \"))))))","v":" "},{"$f":"IF($H4=$CE$3,$H$3,IF($I4=$CE$3,$I$3,IF($J4=$CE$3,$J$3,IF($K4=$CE$3,$K$3,IF($L4=$CE$3,$L$3,IF($M4=$CE$3,$M$3,\" \"))))))","v":" "},{"$f":"IF($H4=$CF$3,$H$3,IF($I4=$CF$3,$I$3,IF($J4=$CF$3,$J$3,IF($K4=$CF$3,$K$3,IF($L4=$CF$3,$L$3,IF($M4=$CF$3,$M$3,\" \"))))))","v":" "},{"$f":"IF($H4=$CG$3,$H$3,IF($I4=$CG$3,$I$3,IF($J4=$CG$3,$J$3,IF($K4=$CG$3,$K$3,IF($L4=$CG$3,$L$3,IF($M4=$CG$3,$M$3,\" \"))))))","v":" "},{"$f":"IF($H4=$CH$3,$H$3,IF($I4=$CH$3,$I$3,IF($J4=$CH$3,$J$3,IF($K4=$CH$3,$K$3,IF($L4=$CH$3,$L$3,IF($M4=$CH$3,$M$3,\" \"))))))","v":" "},{"$f":"IF($H4=$CI$3,$H$3,IF($I4=$CI$3,$I$3,IF($J4=$CI$3,$J$3,IF($K4=$CI$3,$K$3,IF($L4=$CI$3,$L$3,IF($M4=$CI$3,$M$3,\" \"))))))","v":" "}]
[null,null,null,null,null," ",null,null,null,null,null,null,null,null,null,null," "," : "," : "," : ",{"$f":"CONCATENATE($H5,\" : \",L5)","v":" : "}," : "," : ",{"$f":"CONCATENATE(I5,\" : \",K5)","v":" : "},{"$f":"CONCATENATE($I5,\" : \",L5)","v":" : "}," : ",{"$f":"CONCATENATE(J5,\" : \",K5)","v":" : "},{"$f":"CONCATENATE($J5,\" : \",L5)","v":" : "}," : ",{"$f":"CONCATENATE($K5,\" : \",L5)","v":" : "}," : ",{"$f":"CONCATENATE($L5,\" : \",M5)","v":" : "}," : "," : "," : "," : "," : "," : "," : "," : ",{"$f":"CONCATENATE(L5,\" : \",E5)","v":" : "},{"$f":"CONCATENATE(L5,\" : \",G5)","v":" : "},{"$f":"CONCATENATE(M5,\" : \",E5)","v":" : "},{"$f":"CONCATENATE(M5,\" : \",G5)","v":" : "},{"$f":"IF(E5>0,VLOOKUP($E5,'TCU Report'!$Z$4:$AA$35,2),99)","v":99},{"$f":"IF(G5>0,VLOOKUP($G5,'TCU Report'!$Z$4:$AA$35,2),99)","v":99},{"$f":"IF(H5>0,VLOOKUP($H5,'TCU Report'!$W$4:$Y$35,3),0)","v":0},{"$f":"IF(I5>0,VLOOKUP($I5,'TCU Report'!$W$4:$Y$35,3),0)","v":0},{"$f":"IF(J5>0,VLOOKUP($J5,'TCU Report'!$W$4:$Y$35,3),0)","v":0},{"$f":"IF(K5>0,VLOOKUP($K5,'TCU Report'!$W$4:$Y$35,3),0)","v":0},{"$f":"IF(L5>0,VLOOKUP($L5,'TCU Report'!$W$4:$Y$35,3),0)","v":0},{"$f":"IF(M5>0,VLOOKUP($M5,'TCU Report'!$W$4:$Y$35,3),0)","v":0},{"$f":"IF($AS5=$AU5,1,IF($AS5=$AV5,1,IF($AS5=$AW5,1,IF($AS5=AX5,1,IF($AS5=AY5,1,IF($AS5=AZ5,1,0))))))","v":0},{"$f":"IF($AT5=AU5,1,IF($AT5=AV5,1,IF($AT5=AW5,1,IF($AT5=AX5,1,IF($AT5=AY5,1,IF($AT5=AZ5,1,0))))))","v":0},{"$f":"IF(AU5=$AS5,1,IF(AU5=$AT5,1,0))","v":0},{"$f":"IF(AV5=$AS5,1,IF(AV5=$AT5,1,0))","v":0},{"$f":"IF(AW5=$AS5,1,IF(AW5=$AT5,1,0))","v":0},{"$f":"IF(AX5=$AS5,1,IF(AX5=$AT5,1,0))","v":0},{"$f":"IF(AY5=$AS5,1,IF(AY5=$AT5,1,0))","v":0},{"$f":"IF(AZ5=$AS5,1,IF(AZ5=$AT5,1,0))","v":0}," "," "," "," "," "," "," "," "," "," "," "," "," "," "," "," ",{"$f":"IF($H5=$BY$3,$H$3,IF($I5=$BY$3,$I$3,IF($J5=$BY$3,$J$3,IF($K5=$BY$3,$K$3,IF($L5=$BY$3,$L$3,IF($M5=$BY$3,$M$3,\" \"))))))","v":" "}," "," "," "," "," "," "," "," "," "," "]
[null,null,null,null,null," ",null,null,null,null,null,null,null,null,null,null," "," : "," : "," : "," : "," : "," : "," : "," : "," : "," : "," : "," : "," : "," : "," : "," : "," : "," : "," : "," : "," : "," : "," : "," : "," : "," : "," : ",{"$f":"IF(E6>0,VLOOKUP($E6,'TCU Report'!$Z$4:$AA$35,2),99)","v":99},{"$f":"IF(G6>0,VLOOKUP($G6,'TCU Report'!$Z$4:$AA$35,2),99)","v":99},{"$f":"IF(H6>0,VLOOKUP($H6,'TCU Report'!$W$4:$Y$35,3),0)","v":0},{"$f":"IF(I6>0,VLOOKUP($I6,'TCU Report'!$W$4:$Y$35,3),0)","v":0},{"$f":"IF(J6>0,VLOOKUP($J6,'TCU Report'!$W$4:$Y$35,3),0)","v":0},{"$f":"IF(K6>0,VLOOKUP($K6,'TCU Report'!$W$4:$Y$35,3),0)","v":0},{"$f":"IF(L6>0,VLOOKUP($L6,'TCU Report'!$W$4:$Y$35,3),0)","v":0},{"$f":"IF(M6>0,VLOOKUP($M6,'TCU Report'!$W$4:$Y$35,3),0)","v":0},0,0,0,0,0,0,0,0," "," "," "," "," "," "," "," "," "," "," "," "," "," "," "," "," "," "," "," "," "," "," "," "," "," "," "]
[null,null,null,null,null," ",null,null,null,null,null,null,null,null,null,null," "," : "," : "," : "," : "," : "," : "," : "," : "," : "," : "," : "," : "," : "," : "," : "," : "," : "," : "," : "," : "," : "," : "," : "," : "," : "," : "," : ",{"$f":"IF(E7>0,VLOOKUP($E7,'TCU Report'!$Z$4:$AA$35,2),99)","v":99},{"$f":"IF(G7>0,VLOOKUP($G7,'TCU Report'!$Z$4:$AA$35,2),99)","v":99},{"$f":"IF(H7>0,VLOOKUP($H7,'TCU Report'!$W$4:$Y$35,3),0)","v":0},{"$f":"IF(I7>0,VLOOKUP($I7,'TCU Report'!$W$4:$Y$35,3),0)","v":0},{"$f":"IF(J7>0,VLOOKUP($J7,'TCU Report'!$W$4:$Y$35,3),0)","v":0},{"$f":"IF(K7>0,VLOOKUP($K7,'TCU Report'!$W$4:$Y$35,3),0)","v":0},{"$f":"IF(L7>0,VLOOKUP($L7,'TCU Report'!$W$4:$Y$35,3),0)","v":0},{"$f":"IF(M7>0,VLOOKUP($M7,'TCU Report'!$W$4:$Y$35,3),0)","v":0},0,0,0,0,0,0,0,0," "," "," "," "," "," "," "," "," "," "," "," "," "," "," "," "," "," "," "," "," "," "," "," "," "," "," "]
[null,null,null,null,null," ",null,null,null,null,null,null,null,null,null,null," "," : "," : "," : "," : "," : "," : "," : "," : "," : "," : "," : "," : "," : "," : "," : "," : "," : "," : "," : "," : "," : "," : "," : "," : "," : "," : "," : ",{"$f":"IF(E8>0,VLOOKUP($E8,'TCU Report'!$Z$4:$AA$35,2),99)","v":99},{"$f":"IF(G8>0,VLOOKUP($G8,'TCU Report'!$Z$4:$AA$35,2),99)","v":99},{"$f":"IF(H8>0,VLOOKUP($H8,'TCU Report'!$W$4:$Y$35,3),0)","v":0},{"$f":"IF(I8>0,VLOOKUP($I8,'TCU Report'!$W$4:$Y$35,3),0)","v":0},{"$f":"IF(J8>0,VLOOKUP($J8,'TCU Report'!$W$4:$Y$35,3),0)","v":0},{"$f":"IF(K8>0,VLOOKUP($K8,'TCU Report'!$W$4:$Y$35,3),0)","v":0},{"$f":"IF(L8>0,VLOOKUP($L8,'TCU Report'!$W$4:$Y$35,3),0)","v":0},{"$f":"IF(M8>0,VLOOKUP($M8,'TCU Report'!$W$4:$Y$35,3),0)","v":0},0,0,0,0,0,0,0,0," "," "," "," "," "," "," "," "," "," "," "," "," "," "," "," "," "," "," "," "," "," "," "," "," "," "," "]
[null,null,null,null,null," ",null,null,null,null,null,null,null,null,null,null," "," : "," : "," : "," : "," : "," : "," : "," : "," : "," : "," : "," : "," : "," : "," : "," : "," : "," : "," : "," : "," : "," : "," : "," : "," : "," : "," : ",{"$f":"IF(E9>0,VLOOKUP($E9,'TCU Report'!$Z$4:$AA$35,2),99)","v":99},{"$f":"IF(G9>0,VLOOKUP($G9,'TCU Report'!$Z$4:$AA$35,2),99)","v":99},{"$f":"IF(H9>0,VLOOKUP($H9,'TCU Report'!$W$4:$Y$35,3),0)","v":0},{"$f":"IF(I9>0,VLOOKUP($I9,'TCU Report'!$W$4:$Y$35,3),0)","v":0},{"$f":"IF(J9>0,VLOOKUP($J9,'TCU Report'!$W$4:$Y$35,3),0)","v":0},{"$f":"IF(K9>0,VLOOKUP($K9,'TCU Report'!$W$4:$Y$35,3),0)","v":0},{"$f":"IF(L9>0,VLOOKUP($L9,'TCU Report'!$W$4:$Y$35,3),0)","v":0},{"$f":"IF(M9>0,VLOOKUP($M9,'TCU Report'!$W$4:$Y$35,3),0)","v":0},0,0,0,0,0,0,0,0," "," "," "," "," "," "," "," "," "," "," "," "," "," "," "," "," "," "," "," "," "," "," "," "," "," "," "]
[null,null,null,null,null," ",null,null,null,null,null,null,null,null,null,null," "," : "," : "," : "," : "," : "," : "," : "," : "," : "," : "," : "," : "," : "," : "," : "," : "," : "," : "," : "," : "," : "," : "," : "," : "," : "," : "," : ",{"$f":"IF(E10>0,VLOOKUP($E10,'TCU Report'!$Z$4:$AA$35,2),99)","v":99},{"$f":"IF(G10>0,VLOOKUP($G10,'TCU Report'!$Z$4:$AA$35,2),99)","v":99},{"$f":"IF(H10>0,VLOOKUP($H10,'TCU Report'!$W$4:$Y$35,3),0)","v":0},{"$f":"IF(I10>0,VLOOKUP($I10,'TCU Report'!$W$4:$Y$35,3),0)","v":0},{"$f":"IF(J10>0,VLOOKUP($J10,'TCU Report'!$W$4:$Y$35,3),0)","v":0},{"$f":"IF(K10>0,VLOOKUP($K10,'TCU Report'!$W$4:$Y$35,3),0)","v":0},{"$f":"IF(L10>0,VLOOKUP($L10,'TCU Report'!$W$4:$Y$35,3),0)","v":0},{"$f":"IF(M10>0,VLOOKUP($M10,'TCU Report'!$W$4:$Y$35,3),0)","v":0},0,0,0,0,0,0,0,0," "," "," "," "," "," "," "," "," "," "," "," "," "," "," "," "," "," "," "," "," "," "," "," "," "," "," "]
[null,null,null,null,null," ",null,null,null,null,null,null,null,null,null,null," "," : "," : "," : "," : "," : "," : "," : "," : "," : "," : "," : "," : "," : "," : "," : "," : "," : "," : "," : "," : "," : "," : "," : "," : "," : "," : "," : ",{"$f":"IF(E11>0,VLOOKUP($E11,'TCU Report'!$Z$4:$AA$35,2),99)","v":99},{"$f":"IF(G11>0,VLOOKUP($G11,'TCU Report'!$Z$4:$AA$35,2),99)","v":99},{"$f":"IF(H11>0,VLOOKUP($H11,'TCU Report'!$W$4:$Y$35,3),0)","v":0},{"$f":"IF(I11>0,VLOOKUP($I11,'TCU Report'!$W$4:$Y$35,3),0)","v":0},{"$f":"IF(J11>0,VLOOKUP($J11,'TCU Report'!$W$4:$Y$35,3),0)","v":0},{"$f":"IF(K11>0,VLOOKUP($K11,'TCU Report'!$W$4:$Y$35,3),0)","v":0},{"$f":"IF(L11>0,VLOOKUP($L11,'TCU Report'!$W$4:$Y$35,3),0)","v":0},{"$f":"IF(M11>0,VLOOKUP($M11,'TCU Report'!$W$4:$Y$35,3),0)","v":0},0,0,0,0,0,0,0,0," "," "," "," "," "," "," "," "," "," "," "," "," "," "," "," "," "," "," "," "," "," "," "," "," "," "," "]
[null,null,null,null,null," ",null,null,null,null,null,null,null,null,null,null," "," : "," : "," : "," : "," : "," : "," : "," : "," : "," : "," : "," : "," : "," : "," : "," : "," : "," : "," : "," : "," : "," : "," : "," : "," : "," : "," : ",{"$f":"IF(E12>0,VLOOKUP($E12,'TCU Report'!$Z$4:$AA$35,2),99)","v":99},{"$f":"IF(G12>0,VLOOKUP($G12,'TCU Report'!$Z$4:$AA$35,2),99)","v":99},{"$f":"IF(H12>0,VLOOKUP($H12,'TCU Report'!$W$4:$Y$35,3),0)","v":0},{"$f":"IF(I12>0,VLOOKUP($I12,'TCU Report'!$W$4:$Y$35,3),0)","v":0},{"$f":"IF(J12>0,VLOOKUP($J12,'TCU Report'!$W$4:$Y$35,3),0)","v":0},{"$f":"IF(K12>0,VLOOKUP($K12,'TCU Report'!$W$4:$Y$35,3),0)","v":0},{"$f":"IF(L12>0,VLOOKUP($L12,'TCU Report'!$W$4:$Y$35,3),0)","v":0},{"$f":"IF(M12>0,VLOOKUP($M12,'TCU Report'!$W$4:$Y$35,3),0)","v":0},0,0,0,0,0,0,0,0,{"$f":"IF($H12=$AS$3,$H$3,IF($I12=$AS$3,$I$3,IF($J12=$AS$3,$J$3,IF($K12=$AS$3,$K$3,IF($L12=$AS$3,$L$4,IF($M12=$AS$3,$M$4,\" \"))))))","v":" "}," "," "," "," "," "," "," "," "," "," "," "," "," "," "," "," "," "," "," "," "," "," "," "," "," "," "]
[null,null,null,null,null," ",null,null,null,null,null,null,null,null,null,null," "," : "," : "," : "," : "," : "," : "," : "," : "," : "," : "," : "," : "," : "," : "," : "," : "," : "," : "," : "," : "," : "," : "," : "," : "," : "," : "," : ",{"$f":"IF(E13>0,VLOOKUP($E13,'TCU Report'!$Z$4:$AA$35,2),99)","v":99},{"$f":"IF(G13>0,VLOOKUP($G13,'TCU Report'!$Z$4:$AA$35,2),99)","v":99},{"$f":"IF(H13>0,VLOOKUP($H13,'TCU Report'!$W$4:$Y$35,3),0)","v":0},{"$f":"IF(I13>0,VLOOKUP($I13,'TCU Report'!$W$4:$Y$35,3),0)","v":0},{"$f":"IF(J13>0,VLOOKUP($J13,'TCU Report'!$W$4:$Y$35,3),0)","v":0},{"$f":"IF(K13>0,VLOOKUP($K13,'TCU Report'!$W$4:$Y$35,3),0)","v":0},{"$f":"IF(L13>0,VLOOKUP($L13,'TCU Report'!$W$4:$Y$35,3),0)","v":0},{"$f":"IF(M13>0,VLOOKUP($M13,'TCU Report'!$W$4:$Y$35,3),0)","v":0},0,0,0,0,0,0,0,0," "," "," "," "," "," "," "," "," "," "," "," "," "," "," "," "," "," "," "," "," "," "," "," "," "," "," "]
[null,null,null,null,null," ",null,null,null,null,null,null,null,null,null,null," "," : "," : "," : "," : "," : "," : "," : "," : "," : "," : "," : "," : "," : "," : "," : "," : "," : "," : "," : "," : "," : "," : "," : "," : "," : "," : "," : ",{"$f":"IF(E14>0,VLOOKUP($E14,'TCU Report'!$Z$4:$AA$35,2),99)","v":99},{"$f":"IF(G14>0,VLOOKUP($G14,'TCU Report'!$Z$4:$AA$35,2),99)","v":99},{"$f":"IF(H14>0,VLOOKUP($H14,'TCU Report'!$W$4:$Y$35,3),0)","v":0},{"$f":"IF(I14>0,VLOOKUP($I14,'TCU Report'!$W$4:$Y$35,3),0)","v":0},{"$f":"IF(J14>0,VLOOKUP($J14,'TCU Report'!$W$4:$Y$35,3),0)","v":0},{"$f":"IF(K14>0,VLOOKUP($K14,'TCU Report'!$W$4:$Y$35,3),0)","v":0},{"$f":"IF(L14>0,VLOOKUP($L14,'TCU Report'!$W$4:$Y$35,3),0)","v":0},{"$f":"IF(M14>0,VLOOKUP($M14,'TCU Report'!$W$4:$Y$35,3),0)","v":0},0,0,0,0,0,0,0,0," "," "," "," "," "," "," "," "," "," "," "," "," "," "," "," "," "," "," "," "," "," "," "," "," "," "," "]
[null,null,null,null,null," ",null,null,null,null,null,null,null,null,null,null," "," : "," : "," : "," : "," : "," : "," : "," : "," : "," : "," : "," : "," : "," : "," : "," : "," : "," : "," : "," : "," : "," : "," : "," : "," : "," : "," : ",{"$f":"IF(E15>0,VLOOKUP($E15,'TCU Report'!$Z$4:$AA$35,2),99)","v":99},{"$f":"IF(G15>0,VLOOKUP($G15,'TCU Report'!$Z$4:$AA$35,2),99)","v":99},{"$f":"IF(H15>0,VLOOKUP($H15,'TCU Report'!$W$4:$Y$35,3),0)","v":0},{"$f":"IF(I15>0,VLOOKUP($I15,'TCU Report'!$W$4:$Y$35,3),0)","v":0},{"$f":"IF(J15>0,VLOOKUP($J15,'TCU Report'!$W$4:$Y$35,3),0)","v":0},{"$f":"IF(K15>0,VLOOKUP($K15,'TCU Report'!$W$4:$Y$35,3),0)","v":0},{"$f":"IF(L15>0,VLOOKUP($L15,'TCU Report'!$W$4:$Y$35,3),0)","v":0},{"$f":"IF(M15>0,VLOOKUP($M15,'TCU Report'!$W$4:$Y$35,3),0)","v":0},0,0,0,0,0,0,0,0," "," "," "," "," "," "," "," "," "," "," "," "," "," "," "," "," "," "," "," "," "," "," "," "," "," "," "]
[null,null,null,null,null,{"$f":"IF(E16=\"\",\" \",\"v\")","v":" "},null,null,null,null,null,null,null,null,null,null," "," : "," : "," : "," : "," : "," : "," : "," : "," : "," : "," : "," : "," : "," : "," : "," : "," : "," : "," : "," : "," : "," : "," : "," : "," : "," : "," : ",{"$f":"IF(E16>0,VLOOKUP($E16,'TCU Report'!$Z$4:$AA$35,2),99)","v":99},{"$f":"IF(G16>0,VLOOKUP($G16,'TCU Report'!$Z$4:$AA$35,2),99)","v":99},{"$f":"IF(H16>0,VLOOKUP($H16,'TCU Report'!$W$4:$Y$35,3),0)","v":0},{"$f":"IF(I16>0,VLOOKUP($I16,'TCU Report'!$W$4:$Y$35,3),0)","v":0},{"$f":"IF(J16>0,VLOOKUP($J16,'TCU Report'!$W$4:$Y$35,3),0)","v":0},{"$f":"IF(K16>0,VLOOKUP($K16,'TCU Report'!$W$4:$Y$35,3),0)","v":0},{"$f":"IF(L16>0,VLOOKUP($L16,'TCU Report'!$W$4:$Y$35,3),0)","v":0},{"$f":"IF(M16>0,VLOOKUP($M16,'TCU Report'!$W$4:$Y$35,3),0)","v":0},0,0,0,0,0,0,0,0," "," "," "," "," "," "," "," "," "," "," "," "," "," "," "," "," "," "," "," "," "," "," "," "," "," "," "]
[null,null,null,null,null," ",null,null,null,null,null,null,null,null,null,null," "," : "," : "," : "," : "," : "," : "," : "," : "," : "," : "," : "," : "," : "," : "," : "," : "," : "," : "," : "," : "," : "," : "," : "," : "," : "," : "," : ",{"$f":"IF(E17>0,VLOOKUP($E17,'TCU Report'!$Z$4:$AA$35,2),99)","v":99},{"$f":"IF(G17>0,VLOOKUP($G17,'TCU Report'!$Z$4:$AA$35,2),99)","v":99},{"$f":"IF(H17>0,VLOOKUP($H17,'TCU Report'!$W$4:$Y$35,3),0)","v":0},{"$f":"IF(I17>0,VLOOKUP($I17,'TCU Report'!$W$4:$Y$35,3),0)","v":0},{"$f":"IF(J17>0,VLOOKUP($J17,'TCU Report'!$W$4:$Y$35,3),0)","v":0},{"$f":"IF(K17>0,VLOOKUP($K17,'TCU Report'!$W$4:$Y$35,3),0)","v":0},{"$f":"IF(L17>0,VLOOKUP($L17,'TCU Report'!$W$4:$Y$35,3),0)","v":0},{"$f":"IF(M17>0,VLOOKUP($M17,'TCU Report'!$W$4:$Y$35,3),0)","v":0},0,0,0,0,0,0,0,0," "," "," "," "," "," "," "," "," "," "," "," "," "," "," "," "," "," "," "," "," "," "," "," "," "," "," "]
[null,null,null,null,null," ",null,null,null,null,null,null,null,null,null,null," "," : "," : "," : "," : "," : "," : "," : "," : "," : "," : "," : "," : "," : "," : "," : "," : "," : "," : "," : "," : "," : "," : "," : "," : "," : "," : "," : ",{"$f":"IF(E18>0,VLOOKUP($E18,'TCU Report'!$Z$4:$AA$35,2),99)","v":99},{"$f":"IF(G18>0,VLOOKUP($G18,'TCU Report'!$Z$4:$AA$35,2),99)","v":99},{"$f":"IF(H18>0,VLOOKUP($H18,'TCU Report'!$W$4:$Y$35,3),0)","v":0},{"$f":"IF(I18>0,VLOOKUP($I18,'TCU Report'!$W$4:$Y$35,3),0)","v":0},{"$f":"IF(J18>0,VLOOKUP($J18,'TCU Report'!$W$4:$Y$35,3),0)","v":0},{"$f":"IF(K18>0,VLOOKUP($K18,'TCU Report'!$W$4:$Y$35,3),0)","v":0},{"$f":"IF(L18>0,VLOOKUP($L18,'TCU Report'!$W$4:$Y$35,3),0)","v":0},{"$f":"IF(M18>0,VLOOKUP($M18,'TCU Report'!$W$4:$Y$35,3),0)","v":0},0,0,0,0,0,0,0,0," "," "," "," "," "," "," "," "," "," "," "," "," "," "," "," "," "," "," "," "," "," "," "," "," "," "," "]
[null,null,null,null,null," ",null,null,null,null,null,null,null,null,null,null," "," : "," : "," : "," : "," : "," : "," : "," : "," : "," : "," : "," : "," : "," : "," : "," : "," : "," : "," : "," : "," : "," : "," : "," : "," : "," : "," : ",{"$f":"IF(E19>0,VLOOKUP($E19,'TCU Report'!$Z$4:$AA$35,2),99)","v":99},{"$f":"IF(G19>0,VLOOKUP($G19,'TCU Report'!$Z$4:$AA$35,2),99)","v":99},{"$f":"IF(H19>0,VLOOKUP($H19,'TCU Report'!$W$4:$Y$35,3),0)","v":0},{"$f":"IF(I19>0,VLOOKUP($I19,'TCU Report'!$W$4:$Y$35,3),0)","v":0},{"$f":"IF(J19>0,VLOOKUP($J19,'TCU Report'!$W$4:$Y$35,3),0)","v":0},{"$f":"IF(K19>0,VLOOKUP($K19,'TCU Report'!$W$4:$Y$35,3),0)","v":0},{"$f":"IF(L19>0,VLOOKUP($L19,'TCU Report'!$W$4:$Y$35,3),0)","v":0},{"$f":"IF(M19>0,VLOOKUP($M19,'TCU Report'!$W$4:$Y$35,3),0)","v":0},0,0,0,0,0,0,0,0," "," "," "," "," "," "," "," "," "," "," "," "," "," "," "," "," "," "," "," "," "," "," "," "," "," "," "]
[null,null,null,null,null," ",null,null,null,null,null,null,null,null,null,null," "," : "," : "," : "," : "," : "," : "," : "," : "," : "," : "," : "," : "," : "," : "," : "," : "," : "," : "," : "," : "," : "," : "," : "," : "," : "," : "," : ",{"$f":"IF(E20>0,VLOOKUP($E20,'TCU Report'!$Z$4:$AA$35,2),99)","v":99},{"$f":"IF(G20>0,VLOOKUP($G20,'TCU Report'!$Z$4:$AA$35,2),99)","v":99},{"$f":"IF(H20>0,VLOOKUP($H20,'TCU Report'!$W$4:$Y$35,3),0)","v":0},{"$f":"IF(I20>0,VLOOKUP($I20,'TCU Report'!$W$4:$Y$35,3),0)","v":0},{"$f":"IF(J20>0,VLOOKUP($J20,'TCU Report'!$W$4:$Y$35,3),0)","v":0},{"$f":"IF(K20>0,VLOOKUP($K20,'TCU Report'!$W$4:$Y$35,3),0)","v":0},{"$f":"IF(L20>0,VLOOKUP($L20,'TCU Report'!$W$4:$Y$35,3),0)","v":0},{"$f":"IF(M20>0,VLOOKUP($M20,'TCU Report'!$W$4:$Y$35,3),0)","v":0},0,0,0,0,0,0,0,0," "," "," "," "," "," "," "," "," "," "," "," "," "," "," "," "," "," "," "," "," "," "," "," "," "," "," "]
[null,null,null,null,null," ",null,null,null,null,null,null,null,null,null,null," "," : "," : "," : "," : "," : "," : "," : "," : "," : "," : "," : "," : "," : "," : "," : "," : "," : "," : "," : "," : "," : "," : "," : "," : "," : "," : "," : ",{"$f":"IF(E21>0,VLOOKUP($E21,'TCU Report'!$Z$4:$AA$35,2),99)","v":99},{"$f":"IF(G21>0,VLOOKUP($G21,'TCU Report'!$Z$4:$AA$35,2),99)","v":99},{"$f":"IF(H21>0,VLOOKUP($H21,'TCU Report'!$W$4:$Y$35,3),0)","v":0},{"$f":"IF(I21>0,VLOOKUP($I21,'TCU Report'!$W$4:$Y$35,3),0)","v":0},{"$f":"IF(J21>0,VLOOKUP($J21,'TCU Report'!$W$4:$Y$35,3),0)","v":0},{"$f":"IF(K21>0,VLOOKUP($K21,'TCU Report'!$W$4:$Y$35,3),0)","v":0},{"$f":"IF(L21>0,VLOOKUP($L21,'TCU Report'!$W$4:$Y$35,3),0)","v":0},{"$f":"IF(M21>0,VLOOKUP($M21,'TCU Report'!$W$4:$Y$35,3),0)","v":0},0,0,0,0,0,0,0,0," "," "," "," "," "," "," "," "," "," "," "," "," "," "," "," "," "," "," "," "," "," "," "," "," "," "," "]
[null,null,null,null,null," ",null,null,null,null,null,null,null,null,null,null," "," : "," : "," : "," : "," : "," : "," : "," : "," : "," : "," : "," : "," : "," : "," : "," : "," : "," : "," : "," : "," : "," : "," : "," : "," : "," : "," : ",{"$f":"IF(E22>0,VLOOKUP($E22,'TCU Report'!$Z$4:$AA$35,2),99)","v":99},{"$f":"IF(G22>0,VLOOKUP($G22,'TCU Report'!$Z$4:$AA$35,2),99)","v":99},{"$f":"IF(H22>0,VLOOKUP($H22,'TCU Report'!$W$4:$Y$35,3),0)","v":0},{"$f":"IF(I22>0,VLOOKUP($I22,'TCU Report'!$W$4:$Y$35,3),0)","v":0},{"$f":"IF(J22>0,VLOOKUP($J22,'TCU Report'!$W$4:$Y$35,3),0)","v":0},{"$f":"IF(K22>0,VLOOKUP($K22,'TCU Report'!$W$4:$Y$35,3),0)","v":0},{"$f":"IF(L22>0,VLOOKUP($L22,'TCU Report'!$W$4:$Y$35,3),0)","v":0},{"$f":"IF(M22>0,VLOOKUP($M22,'TCU Report'!$W$4:$Y$35,3),0)","v":0},0,0,0,0,0,0,0,0," "," "," "," "," "," "," "," "," "," "," "," "," "," "," "," "," "," "," "," "," "," "," "," "," "," "," "]
[null,null,null,null,null," ",null,null,null,null,null,null,null,null,null,null," "," : "," : "," : "," : "," : "," : "," : "," : "," : "," : "," : "," : "," : "," : "," : "," : "," : "," : "," : "," : "," : "," : "," : "," : "," : "," : "," : ",{"$f":"IF(E23>0,VLOOKUP($E23,'TCU Report'!$Z$4:$AA$35,2),99)","v":99},{"$f":"IF(G23>0,VLOOKUP($G23,'TCU Report'!$Z$4:$AA$35,2),99)","v":99},{"$f":"IF(H23>0,VLOOKUP($H23,'TCU Report'!$W$4:$Y$35,3),0)","v":0},{"$f":"IF(I23>0,VLOOKUP($I23,'TCU Report'!$W$4:$Y$35,3),0)","v":0},{"$f":"IF(J23>0,VLOOKUP($J23,'TCU Report'!$W$4:$Y$35,3),0)","v":0},{"$f":"IF(K23>0,VLOOKUP($K23,'TCU Report'!$W$4:$Y$35,3),0)","v":0},{"$f":"IF(L23>0,VLOOKUP($L23,'TCU Report'!$W$4:$Y$35,3),0)","v":0},{"$f":"IF(M23>0,VLOOKUP($M23,'TCU Report'!$W$4:$Y$35,3),0)","v":0},0,0,0,0,0,0,0,0," "," "," "," "," "," "," "," "," "," "," "," "," "," "," "," "," "," "," "," "," "," "," "," "," "," "," "]
[null,null,null,null,null," ",null,null,null,null,null,null,null,null,null,null," "," : "," : "," : "," : "," : "," : "," : "," : "," : "," : "," : "," : "," : "," : "," : "," : "," : "," : "," : "," : "," : "," : "," : "," : "," : "," : "," : ",{"$f":"IF(E24>0,VLOOKUP($E24,'TCU Report'!$Z$4:$AA$35,2),99)","v":99},{"$f":"IF(G24>0,VLOOKUP($G24,'TCU Report'!$Z$4:$AA$35,2),99)","v":99},{"$f":"IF(H24>0,VLOOKUP($H24,'TCU Report'!$W$4:$Y$35,3),0)","v":0},{"$f":"IF(I24>0,VLOOKUP($I24,'TCU Report'!$W$4:$Y$35,3),0)","v":0},{"$f":"IF(J24>0,VLOOKUP($J24,'TCU Report'!$W$4:$Y$35,3),0)","v":0},{"$f":"IF(K24>0,VLOOKUP($K24,'TCU Report'!$W$4:$Y$35,3),0)","v":0},{"$f":"IF(L24>0,VLOOKUP($L24,'TCU Report'!$W$4:$Y$35,3),0)","v":0},{"$f":"IF(M24>0,VLOOKUP($M24,'TCU Report'!$W$4:$Y$35,3),0)","v":0},0,0,0,0,0,0,0,0," "," "," "," "," "," "," "," "," "," "," "," "," "," "," "," "," "," "," "," "," "," "," "," "," "," "," "]
[null,null,null,null,null,null,null,null,null,null,null,null,null,null,null,null," "," : "," : "," : "," : "," : "," : "," : "," : "," : "," : "," : "," : "," : "," : "," : "," : "," : "," : "," : "," : "," : "," : "," : "," : "," : "," : "," : ",{"$f":"IF(E25>0,VLOOKUP($E25,'TCU Report'!$Z$4:$AA$35,2),99)","v":99},{"$f":"IF(G25>0,VLOOKUP($G25,'TCU Report'!$Z$4:$AA$35,2),99)","v":99},{"$f":"IF(H25>0,VLOOKUP($H25,'TCU Report'!$W$4:$Y$35,3),0)","v":0},{"$f":"IF(I25>0,VLOOKUP($I25,'TCU Report'!$W$4:$Y$35,3),0)","v":0},{"$f":"IF(J25>0,VLOOKUP($J25,'TCU Report'!$W$4:$Y$35,3),0)","v":0},{"$f":"IF(K25>0,VLOOKUP($K25,'TCU Report'!$W$4:$Y$35,3),0)","v":0},{"$f":"IF(L25>0,VLOOKUP($L25,'TCU Report'!$W$4:$Y$35,3),0)","v":0},{"$f":"IF(M25>0,VLOOKUP($M25,'TCU Report'!$W$4:$Y$35,3),0)","v":0},0,0,0,0,0,0,0,0," "," "," "," "," "," "," "," "," "," "," "," "," "," "," "," "," "," "," "," "," "," "," "," "," "," "," "]
[null,null,null,null,null,null,null,null,null,null,null,null,null,null,null,null," "," : "," : "," : "," : "," : "," : "," : "," : "," : "," : "," : "," : "," : "," : "," : "," : "," : "," : "," : "," : "," : "," : "," : "," : "," : "," : "," : ",{"$f":"IF(E26>0,VLOOKUP($E26,'TCU Report'!$Z$4:$AA$35,2),99)","v":99},{"$f":"IF(G26>0,VLOOKUP($G26,'TCU Report'!$Z$4:$AA$35,2),99)","v":99},{"$f":"IF(H26>0,VLOOKUP($H26,'TCU Report'!$W$4:$Y$35,3),0)","v":0},{"$f":"IF(I26>0,VLOOKUP($I26,'TCU Report'!$W$4:$Y$35,3),0)","v":0},{"$f":"IF(J26>0,VLOOKUP($J26,'TCU Report'!$W$4:$Y$35,3),0)","v":0},{"$f":"IF(K26>0,VLOOKUP($K26,'TCU Report'!$W$4:$Y$35,3),0)","v":0},{"$f":"IF(L26>0,VLOOKUP($L26,'TCU Report'!$W$4:$Y$35,3),0)","v":0},{"$f":"IF(M26>0,VLOOKUP($M26,'TCU Report'!$W$4:$Y$35,3),0)","v":0},0,0,0,0,0,0,0,0," "," "," "," "," "," "," "," "," "," "," "," "," "," "," "," "," "," "," "," "," "," "," "," "," "," "," "]
[null,null,null,null,null,null,null,null,null,null,null,null,null,null,null,null," "," : "," : "," : "," : "," : "," : "," : "," : "," : "," : "," : "," : "," : "," : "," : "," : "," : "," : "," : "," : "," : "," : "," : "," : "," : "," : "," : ",{"$f":"IF(E27>0,VLOOKUP($E27,'TCU Report'!$Z$4:$AA$35,2),99)","v":99},{"$f":"IF(G27>0,VLOOKUP($G27,'TCU Report'!$Z$4:$AA$35,2),99)","v":99},{"$f":"IF(H27>0,VLOOKUP($H27,'TCU Report'!$W$4:$Y$35,3),0)","v":0},{"$f":"IF(I27>0,VLOOKUP($I27,'TCU Report'!$W$4:$Y$35,3),0)","v":0},{"$f":"IF(J27>0,VLOOKUP($J27,'TCU Report'!$W$4:$Y$35,3),0)","v":0},{"$f":"IF(K27>0,VLOOKUP($K27,'TCU Report'!$W$4:$Y$35,3),0)","v":0},{"$f":"IF(L27>0,VLOOKUP($L27,'TCU Report'!$W$4:$Y$35,3),0)","v":0},{"$f":"IF(M27>0,VLOOKUP($M27,'TCU Report'!$W$4:$Y$35,3),0)","v":0},0,0,0,0,0,0,0,0," "," "," "," "," "," "," "," "," "," "," "," "," "," "," "," "," "," "," "," "," "," "," "," "," "," "," "]
[null,null,null,null,null,null,null,null,null,null,null,null,null,null,null,null," "," : "," : "," : "," : "," : "," : "," : "," : "," : "," : "," : "," : "," : "," : "," : "," : "," : "," : "," : "," : "," : "," : "," : "," : "," : "," : "," : ",{"$f":"IF(E28>0,VLOOKUP($E28,'TCU Report'!$Z$4:$AA$35,2),99)","v":99},{"$f":"IF(G28>0,VLOOKUP($G28,'TCU Report'!$Z$4:$AA$35,2),99)","v":99},{"$f":"IF(H28>0,VLOOKUP($H28,'TCU Report'!$W$4:$Y$35,3),0)","v":0},{"$f":"IF(I28>0,VLOOKUP($I28,'TCU Report'!$W$4:$Y$35,3),0)","v":0},{"$f":"IF(J28>0,VLOOKUP($J28,'TCU Report'!$W$4:$Y$35,3),0)","v":0},{"$f":"IF(K28>0,VLOOKUP($K28,'TCU Report'!$W$4:$Y$35,3),0)","v":0},{"$f":"IF(L28>0,VLOOKUP($L28,'TCU Report'!$W$4:$Y$35,3),0)","v":0},{"$f":"IF(M28>0,VLOOKUP($M28,'TCU Report'!$W$4:$Y$35,3),0)","v":0},0,0,0,0,0,0,0,0," "," "," "," "," "," "," "," "," "," "," "," "," "," "," "," "," "," "," "," "," "," "," "," "," "," "," "]
[null,null,null,null,null,null,null,null,null,null,null,null,null,null,null,null," "," : "," : "," : "," : "," : "," : "," : "," : "," : "," : "," : "," : "," : "," : "," : "," : "," : "," : "," : "," : "," : "," : "," : "," : "," : "," : "," : ",{"$f":"IF(E29>0,VLOOKUP($E29,'TCU Report'!$Z$4:$AA$35,2),99)","v":99},{"$f":"IF(G29>0,VLOOKUP($G29,'TCU Report'!$Z$4:$AA$35,2),99)","v":99},{"$f":"IF(H29>0,VLOOKUP($H29,'TCU Report'!$W$4:$Y$35,3),0)","v":0},{"$f":"IF(I29>0,VLOOKUP($I29,'TCU Report'!$W$4:$Y$35,3),0)","v":0},{"$f":"IF(J29>0,VLOOKUP($J29,'TCU Report'!$W$4:$Y$35,3),0)","v":0},{"$f":"IF(K29>0,VLOOKUP($K29,'TCU Report'!$W$4:$Y$35,3),0)","v":0},{"$f":"IF(L29>0,VLOOKUP($L29,'TCU Report'!$W$4:$Y$35,3),0)","v":0},{"$f":"IF(M29>0,VLOOKUP($M29,'TCU Report'!$W$4:$Y$35,3),0)","v":0},0,0,0,0,0,0,0,0," "," "," "," "," "," "," "," "," "," "," "," "," "," "," "," "," "," "," "," "," "," "," "," "," "," "," "]
[null,null,null,null,null,null,null,null,null,null,null,null,null,null,null,null," "," : "," : "," : "," : "," : "," : "," : "," : "," : "," : "," : "," : "," : "," : "," : "," : "," : "," : "," : "," : "," : "," : "," : "," : "," : "," : "," : ",{"$f":"IF(E30>0,VLOOKUP($E30,'TCU Report'!$Z$4:$AA$35,2),99)","v":99},{"$f":"IF(G30>0,VLOOKUP($G30,'TCU Report'!$Z$4:$AA$35,2),99)","v":99},{"$f":"IF(H30>0,VLOOKUP($H30,'TCU Report'!$W$4:$Y$35,3),0)","v":0},{"$f":"IF(I30>0,VLOOKUP($I30,'TCU Report'!$W$4:$Y$35,3),0)","v":0},{"$f":"IF(J30>0,VLOOKUP($J30,'TCU Report'!$W$4:$Y$35,3),0)","v":0},{"$f":"IF(K30>0,VLOOKUP($K30,'TCU Report'!$W$4:$Y$35,3),0)","v":0},{"$f":"IF(L30>0,VLOOKUP($L30,'TCU Report'!$W$4:$Y$35,3),0)","v":0},{"$f":"IF(M30>0,VLOOKUP($M30,'TCU Report'!$W$4:$Y$35,3),0)","v":0},0,0,0,0,0,0,0,0," "," "," "," "," "," "," "," "," "," "," "," "," "," "," "," "," "," "," "," "," "," "," "," "," "," "," "]
[null,null,null,null,null,null,null,null,null,null,null,null,null,null,null,null," "," : "," : "," : "," : "," : "," : "," : "," : "," : "," : "," : "," : "," : "," : "," : "," : "," : "," : "," : "," : "," : "," : "," : "," : "," : "," : "," : ",{"$f":"IF(E31>0,VLOOKUP($E31,'TCU Report'!$Z$4:$AA$35,2),99)","v":99},{"$f":"IF(G31>0,VLOOKUP($G31,'TCU Report'!$Z$4:$AA$35,2),99)","v":99},{"$f":"IF(H31>0,VLOOKUP($H31,'TCU Report'!$W$4:$Y$35,3),0)","v":0},{"$f":"IF(I31>0,VLOOKUP($I31,'TCU Report'!$W$4:$Y$35,3),0)","v":0},{"$f":"IF(J31>0,VLOOKUP($J31,'TCU Report'!$W$4:$Y$35,3),0)","v":0},{"$f":"IF(K31>0,VLOOKUP($K31,'TCU Report'!$W$4:$Y$35,3),0)","v":0},{"$f":"IF(L31>0,VLOOKUP($L31,'TCU Report'!$W$4:$Y$35,3),0)","v":0},{"$f":"IF(M31>0,VLOOKUP($M31,'TCU Report'!$W$4:$Y$35,3),0)","v":0},0,0,0,0,0,0,0,0," "," "," "," "," "," "," "," "," "," "," "," "," "," "," "," "," "," "," "," "," "," "," "," "," "," "," "]
[null,null,null,null,null,null,null,null,null,null,null,null,null,null,null,null," "," : "," : "," : "," : "," : "," : "," : "," : "," : "," : "," : "," : "," : "," : "," : "," : "," : "," : "," : "," : "," : "," : "," : "," : "," : "," : "," : ",{"$f":"IF(E32>0,VLOOKUP($E32,'TCU Report'!$Z$4:$AA$35,2),99)","v":99},{"$f":"IF(G32>0,VLOOKUP($G32,'TCU Report'!$Z$4:$AA$35,2),99)","v":99},{"$f":"IF(H32>0,VLOOKUP($H32,'TCU Report'!$W$4:$Y$35,3),0)","v":0},{"$f":"IF(I32>0,VLOOKUP($I32,'TCU Report'!$W$4:$Y$35,3),0)","v":0},{"$f":"IF(J32>0,VLOOKUP($J32,'TCU Report'!$W$4:$Y$35,3),0)","v":0},{"$f":"IF(K32>0,VLOOKUP($K32,'TCU Report'!$W$4:$Y$35,3),0)","v":0},{"$f":"IF(L32>0,VLOOKUP($L32,'TCU Report'!$W$4:$Y$35,3),0)","v":0},{"$f":"IF(M32>0,VLOOKUP($M32,'TCU Report'!$W$4:$Y$35,3),0)","v":0},0,0,0,0,0,0,0,0," "," "," "," "," "," "," "," "," "," "," "," "," "," "," "," "," "," "," "," "," "," "," "," "," "," "," "]
[null,null,null,null,null,null,null,null,null,null,null,null,null,null,null,null,null," : "," : "," : "," : "," : "," : "," : "," : "," : "," : "," : "," : "," : "," : "," : "," : "," : "," : "," : "," : "," : "," : "," : "," : "," : "," : "," : ",{"$f":"IF(E33>0,VLOOKUP($E33,'TCU Report'!$Z$4:$AA$35,2),99)","v":99},{"$f":"IF(G33>0,VLOOKUP($G33,'TCU Report'!$Z$4:$AA$35,2),99)","v":99},{"$f":"IF(H33>0,VLOOKUP($H33,'TCU Report'!$W$4:$Y$35,3),0)","v":0},{"$f":"IF(I33>0,VLOOKUP($I33,'TCU Report'!$W$4:$Y$35,3),0)","v":0},{"$f":"IF(J33>0,VLOOKUP($J33,'TCU Report'!$W$4:$Y$35,3),0)","v":0},{"$f":"IF(K33>0,VLOOKUP($K33,'TCU Report'!$W$4:$Y$35,3),0)","v":0},{"$f":"IF(L33>0,VLOOKUP($L33,'TCU Report'!$W$4:$Y$35,3),0)","v":0},{"$f":"IF(M33>0,VLOOKUP($M33,'TCU Report'!$W$4:$Y$35,3),0)","v":0},0,0,0,0,0,0,0,0," "," "," "," "," "," "," "," "," "," "," "," "," "," "," "," "," "," "," "," "," "," "," "," "," "," "," "]
[null,null,null,null,null,null,null,null,null,null,null,null,null,null,null,null,null," : "," : "," : "," : "," : "," : "," : "," : "," : "," : "," : "," : "," : "," : "," : "," : "," : "," : "," : "," : "," : "," : "," : "," : "," : "," : "," : ",{"$f":"IF(E34>0,VLOOKUP($E34,'TCU Report'!$Z$4:$AA$35,2),99)","v":99},{"$f":"IF(G34>0,VLOOKUP($G34,'TCU Report'!$Z$4:$AA$35,2),99)","v":99},{"$f":"IF(H34>0,VLOOKUP($H34,'TCU Report'!$W$4:$Y$35,3),0)","v":0},{"$f":"IF(I34>0,VLOOKUP($I34,'TCU Report'!$W$4:$Y$35,3),0)","v":0},{"$f":"IF(J34>0,VLOOKUP($J34,'TCU Report'!$W$4:$Y$35,3),0)","v":0},{"$f":"IF(K34>0,VLOOKUP($K34,'TCU Report'!$W$4:$Y$35,3),0)","v":0},{"$f":"IF(L34>0,VLOOKUP($L34,'TCU Report'!$W$4:$Y$35,3),0)","v":0},{"$f":"IF(M34>0,VLOOKUP($M34,'TCU Report'!$W$4:$Y$35,3),0)","v":0},0,0,0,0,0,0,0,0," "," "," "," "," "," "," "," "," "," "," "," "," "," "," "," "," "," "," "," "," "," "," "," "," "," "," "]
[null,null,null,null,null,null,null,null,null,null,null,null,null,null,null,null,null," : "," : "," : "," : "," : "," : "," : "," : "," : "," : "," : "," : "," : "," : "," : ",{"$f":"CONCATENATE(H35,\" : \",E35)","v":" : "},{"$f":"CONCATENATE(H35,\" : \",G35)","v":" : "},{"$f":"CONCATENATE(I35,\" : \",E35)","v":" : "},{"$f":"CONCATENATE(I35,\" : \",G35)","v":" : "},{"$f":"CONCATENATE(J35,\" : \",E35)","v":" : "}," : ",{"$f":"CONCATENATE(K35,\" : \",E35)","v":" : "},{"$f":"CONCATENATE(K35,\" : \",G35)","v":" : "}," : "," : "," : "," : ",{"$f":"IF(E35>0,VLOOKUP($E35,'TCU Report'!$Z$4:$AA$35,2),99)","v":99},{"$f":"IF(G35>0,VLOOKUP($G35,'TCU Report'!$Z$4:$AA$35,2),99)","v":99},{"$f":"IF(H35>0,VLOOKUP($H35,'TCU Report'!$W$4:$Y$35,3),0)","v":0},{"$f":"IF(I35>0,VLOOKUP($I35,'TCU Report'!$W$4:$Y$35,3),0)","v":0},{"$f":"IF(J35>0,VLOOKUP($J35,'TCU Report'!$W$4:$Y$35,3),0)","v":0},{"$f":"IF(K35>0,VLOOKUP($K35,'TCU Report'!$W$4:$Y$35,3),0)","v":0},{"$f":"IF(L35>0,VLOOKUP($L35,'TCU Report'!$W$4:$Y$35,3),0)","v":0},{"$f":"IF(M35>0,VLOOKUP($M35,'TCU Report'!$W$4:$Y$35,3),0)","v":0},0,0,0,0,0,0,0,0," "," "," "," "," "," "," "," "," "," "," "," "," "," "," "," "," "," "," "," "," "," "," "," "," "," "," "]
[null,null,null,null,null,null,null,null,null,null,null,null,null,null,null,null,null," : "," : "," : "," : "," : "," : "," : "," : "," : "," : "," : "," : "," : "," : "," : "," : "," : "," : "," : "," : "," : "," : "," : "," : "," : "," : "," : ",{"$f":"IF(E36>0,VLOOKUP($E36,'TCU Report'!$Z$4:$AA$35,2),99)","v":99},{"$f":"IF(G36>0,VLOOKUP($G36,'TCU Report'!$Z$4:$AA$35,2),99)","v":99},{"$f":"IF(H36>0,VLOOKUP($H36,'TCU Report'!$W$4:$Y$35,3),0)","v":0},{"$f":"IF(I36>0,VLOOKUP($I36,'TCU Report'!$W$4:$Y$35,3),0)","v":0},{"$f":"IF(J36>0,VLOOKUP($J36,'TCU Report'!$W$4:$Y$35,3),0)","v":0},{"$f":"IF(K36>0,VLOOKUP($K36,'TCU Report'!$W$4:$Y$35,3),0)","v":0},{"$f":"IF(L36>0,VLOOKUP($L36,'TCU Report'!$W$4:$Y$35,3),0)","v":0},{"$f":"IF(M36>0,VLOOKUP($M36,'TCU Report'!$W$4:$Y$35,3),0)","v":0},0,0,0,0,0,0,0,0," ",{"$f":"IF($H36=$BJ$3,$H$3,IF($I36=$BJ$3,$I$3,IF($J36=$BJ$3,$J$3,IF($K36=$BJ$3,$K$3,IF($L36=$BJ$3,$L$3,IF($M36=$BJ$3,$M$3,\" \"))))))","v":" "},{"$f":"IF($H36=$BK$3,$H$3,IF($I36=$BK$3,$I$3,IF($J36=$BK$3,$J$3,IF($K36=$BK$3,$K$3,IF($L36=$BK$3,$L$3,IF($M36=$BK$3,$M$3,\" \"))))))","v":" "},{"$f":"IF($H36=$BL$3,$H$3,IF($I36=$BL$3,$I$3,IF($J36=$BL$3,$J$3,IF($K36=$BL$3,$K$3,IF($L36=$BL$3,$L$3,IF($M36=$BL$3,$M$3,\" \"))))))","v":" "},{"$f":"IF($H36=$BM$3,$H$3,IF($I36=$BM$3,$I$3,IF($J36=$BM$3,$J$3,IF($K36=$BM$3,$K$3,IF($L36=$BM$3,$L$3,IF($M36=$BM$3,$M$3,\" \"))))))","v":" "},{"$f":"IF($H36=$BN$3,$H$3,IF($I36=$BN$3,$I$3,IF($J36=$BN$3,$J$3,IF($K36=$BN$3,$K$3,IF($L36=$BN$3,$L$3,IF($M36=$BN$3,$M$3,\" \"))))))","v":" "},{"$f":"IF($H36=$BO$3,$H$3,IF($I36=$BO$3,$I$3,IF($J36=$BO$3,$J$3,IF($K36=$BO$3,$K$3,IF($L36=$BO$3,$L$3,IF($M36=$BO$3,$M$3,\" \"))))))","v":" "},{"$f":"IF($H36=$BP$3,$H$3,IF($I36=$BP$3,$I$3,IF($J36=$BP$3,$J$3,IF($K36=$BP$3,$K$3,IF($L36=$BP$3,$L$3,IF($M36=$BP$3,$M$3,\" \"))))))","v":" "},{"$f":"IF($H36=$BQ$3,$H$3,IF($I36=$BQ$3,$I$3,IF($J36=$BQ$3,$J$3,IF($K36=$BQ$3,$K$3,IF($L36=$BQ$3,$L$3,IF($M36=$BQ$3,$M$3,\" \"))))))","v":" "},{"$f":"IF($H36=$BR$3,$H$3,IF($I36=$BR$3,$I$3,IF($J36=$BR$3,$J$3,IF($K36=$BR$3,$K$3,IF($L36=$BR$3,$L$3,IF($M36=$BR$3,$M$3,\" \"))))))","v":" "},{"$f":"IF($H36=$BS$3,$H$3,IF($I36=$BS$3,$I$3,IF($J36=$BS$3,$J$3,IF($K36=$BS$3,$K$3,IF($L36=$BS$3,$L$3,IF($M36=$BS$3,$M$3,\" \"))))))","v":" "},{"$f":"IF($H36=$BT$3,$H$3,IF($I36=$BT$3,$I$3,IF($J36=$BT$3,$J$3,IF($K36=$BT$3,$K$3,IF($L36=$BT$3,$L$3,IF($M36=$BT$3,$M$3,\" \"))))))","v":" "},{"$f":"IF($H36=$BU$3,$H$3,IF($I36=$BU$3,$I$3,IF($J36=$BU$3,$J$3,IF($K36=$BU$3,$K$3,IF($L36=$BU$3,$L$3,IF($M36=$BU$3,$M$3,\" \"))))))","v":" "},{"$f":"IF($H36=$BV$3,$H$3,IF($I36=$BV$3,$I$3,IF($J36=$BV$3,$J$3,IF($K36=$BV$3,$K$3,IF($L36=$BV$3,$L$3,IF($M36=$BV$3,$M$3,\" \"))))))","v":" "},{"$f":"IF($H36=$BW$3,$H$3,IF($I36=$BW$3,$I$3,IF($J36=$BW$3,$J$3,IF($K36=$BW$3,$K$3,IF($L36=$BW$3,$L$3,IF($M36=$BW$3,$M$3,\" \"))))))","v":" "},{"$f":"IF($H36=$BX$3,$H$3,IF($I36=$BX$3,$I$3,IF($J36=$BX$3,$J$3,IF($K36=$BX$3,$K$3,IF($L36=$BX$3,$L$3,IF($M36=$BX$3,$M$3,\" \"))))))","v":" "},{"$f":"IF($H36=$BY$3,$H$3,IF($I36=$BY$3,$I$3,IF($J36=$BY$3,$J$3,IF($K36=$BY$3,$K$3,IF($L36=$BY$3,$L$3,IF($M36=$BY$3,$M$3,\" \"))))))","v":" "},{"$f":"IF($H36=$BZ$3,$H$3,IF($I36=$BZ$3,$I$3,IF($J36=$BZ$3,$J$3,IF($K36=$BZ$3,$K$3,IF($L36=$BZ$3,$L$3,IF($M36=$BZ$3,$M$3,\" \"))))))","v":" "},{"$f":"IF($H36=$CA$3,$H$3,IF($I36=$CA$3,$I$3,IF($J36=$CA$3,$J$3,IF($K36=$CA$3,$K$3,IF($L36=$CA$3,$L$3,IF($M36=$CA$3,$M$3,\" \"))))))","v":" "},{"$f":"IF($H36=$CB$3,$H$3,IF($I36=$CB$3,$I$3,IF($J36=$CB$3,$J$3,IF($K36=$CB$3,$K$3,IF($L36=$CB$3,$L$3,IF($M36=$CB$3,$M$3,\" \"))))))","v":" "},{"$f":"IF($H36=$CC$3,$H$3,IF($I36=$CC$3,$I$3,IF($J36=$CC$3,$J$3,IF($K36=$CC$3,$K$3,IF($L36=$CC$3,$L$3,IF($M36=$CC$3,$M$3,\" \"))))))","v":" "},{"$f":"IF($H36=$CD$3,$H$3,IF($I36=$CD$3,$I$3,IF($J36=$CD$3,$J$3,IF($K36=$CD$3,$K$3,IF($L36=$CD$3,$L$3,IF($M36=$CD$3,$M$3,\" \"))))))","v":" "},{"$f":"IF($H36=$CE$3,$H$3,IF($I36=$CE$3,$I$3,IF($J36=$CE$3,$J$3,IF($K36=$CE$3,$K$3,IF($L36=$CE$3,$L$3,IF($M36=$CE$3,$M$3,\" \"))))))","v":" "},{"$f":"IF($H36=$CF$3,$H$3,IF($I36=$CF$3,$I$3,IF($J36=$CF$3,$J$3,IF($K36=$CF$3,$K$3,IF($L36=$CF$3,$L$3,IF($M36=$CF$3,$M$3,\" \"))))))","v":" "},{"$f":"IF($H36=$CG$3,$H$3,IF($I36=$CG$3,$I$3,IF($J36=$CG$3,$J$3,IF($K36=$CG$3,$K$3,IF($L36=$CG$3,$L$3,IF($M36=$CG$3,$M$3,\" \"))))))","v":" "},{"$f":"IF($H36=$CH$3,$H$3,IF($I36=$CH$3,$I$3,IF($J36=$CH$3,$J$3,IF($K36=$CH$3,$K$3,IF($L36=$CH$3,$L$3,IF($M36=$CH$3,$M$3,\" \"))))))","v":" "},{"$f":"IF($H36=$CI$3,$H$3,IF($I36=$CI$3,$I$3,IF($J36=$CI$3,$J$3,IF($K36=$CI$3,$K$3,IF($L36=$CI$3,$L$3,IF($M36=$CI$3,$M$3,\" \"))))))","v":" "}]
[null,null,null,null,null," ",null,null,null,null,null,null,null,null,null,null,null," : "," : "," : "," : "," : "," : "," : "," : "," : "," : "," : "," : "," : "," : "," : "," : "," : "," : "," : "," : "," : "," : "," : "," : "," : "," : "," : ",{"$f":"IF(E37>0,VLOOKUP($E37,'TCU Report'!$Z$4:$AA$35,2),99)","v":99},{"$f":"IF(G37>0,VLOOKUP($G37,'TCU Report'!$Z$4:$AA$35,2),99)","v":99},{"$f":"IF(H37>0,VLOOKUP($H37,'TCU Report'!$W$4:$Y$35,3),0)","v":0},{"$f":"IF(I37>0,VLOOKUP($I37,'TCU Report'!$W$4:$Y$35,3),0)","v":0},{"$f":"IF(J37>0,VLOOKUP($J37,'TCU Report'!$W$4:$Y$35,3),0)","v":0},{"$f":"IF(K37>0,VLOOKUP($K37,'TCU Report'!$W$4:$Y$35,3),0)","v":0},{"$f":"IF(L37>0,VLOOKUP($L37,'TCU Report'!$W$4:$Y$35,3),0)","v":0},{"$f":"IF(M37>0,VLOOKUP($M37,'TCU Report'!$W$4:$Y$35,3),0)","v":0},0,0,0,0,0,0,0,0," "," "," "," "," "," "," "," "," "," "," "," "," "," "," "," "," "," "," "," "," "," "," "," "," "," "," "]
[null,null,null,null,null," ",null,null,null,null,null,null,null,null,null,null,null," : "," : "," : "," : "," : "," : "," : "," : "," : "," : "," : "," : "," : "," : "," : "," : "," : "," : "," : "," : "," : "," : "," : "," : "," : "," : "," : ",{"$f":"IF(E38>0,VLOOKUP($E38,'TCU Report'!$Z$4:$AA$35,2),99)","v":99},{"$f":"IF(G38>0,VLOOKUP($G38,'TCU Report'!$Z$4:$AA$35,2),99)","v":99},{"$f":"IF(H38>0,VLOOKUP($H38,'TCU Report'!$W$4:$Y$35,3),0)","v":0},{"$f":"IF(I38>0,VLOOKUP($I38,'TCU Report'!$W$4:$Y$35,3),0)","v":0},{"$f":"IF(J38>0,VLOOKUP($J38,'TCU Report'!$W$4:$Y$35,3),0)","v":0},{"$f":"IF(K38>0,VLOOKUP($K38,'TCU Report'!$W$4:$Y$35,3),0)","v":0},{"$f":"IF(L38>0,VLOOKUP($L38,'TCU Report'!$W$4:$Y$35,3),0)","v":0},{"$f":"IF(M38>0,VLOOKUP($M38,'TCU Report'!$W$4:$Y$35,3),0)","v":0},0,0,0,0,0,0,0,0," "," "," "," "," "," "," "," "," "," "," "," "," "," "," "," "," "," "," "," "," "," "," "," "," "," "," "]
[null,null,null,null,null," ",null,null,null,null,null,null,null,null,null,null,null," : "," : "," : "," : "," : "," : "," : "," : "," : "," : "," : "," : "," : "," : "," : "," : "," : "," : "," : "," : "," : "," : "," : "," : "," : "," : "," : ",{"$f":"IF(E39>0,VLOOKUP($E39,'TCU Report'!$Z$4:$AA$35,2),99)","v":99},{"$f":"IF(G39>0,VLOOKUP($G39,'TCU Report'!$Z$4:$AA$35,2),99)","v":99},{"$f":"IF(H39>0,VLOOKUP($H39,'TCU Report'!$W$4:$Y$35,3),0)","v":0},{"$f":"IF(I39>0,VLOOKUP($I39,'TCU Report'!$W$4:$Y$35,3),0)","v":0},{"$f":"IF(J39>0,VLOOKUP($J39,'TCU Report'!$W$4:$Y$35,3),0)","v":0},{"$f":"IF(K39>0,VLOOKUP($K39,'TCU Report'!$W$4:$Y$35,3),0)","v":0},{"$f":"IF(L39>0,VLOOKUP($L39,'TCU Report'!$W$4:$Y$35,3),0)","v":0},{"$f":"IF(M39>0,VLOOKUP($M39,'TCU Report'!$W$4:$Y$35,3),0)","v":0},0,0,0,0,0,0,0,0," "," "," "," "," "," "," "," "," "," "," "," "," "," "," "," "," "," "," "," "," "," "," "," "," "," "," "]
[null,null,null,null,null," ",null,null,null,null,null,null,null,null,null,null,null," : "," : "," : "," : "," : "," : "," : "," : "," : "," : "," : "," : "," : "," : "," : "," : "," : "," : "," : "," : "," : "," : "," : "," : "," : "," : "," : ",{"$f":"IF(E40>0,VLOOKUP($E40,'TCU Report'!$Z$4:$AA$35,2),99)","v":99},{"$f":"IF(G40>0,VLOOKUP($G40,'TCU Report'!$Z$4:$AA$35,2),99)","v":99},{"$f":"IF(H40>0,VLOOKUP($H40,'TCU Report'!$W$4:$Y$35,3),0)","v":0},{"$f":"IF(I40>0,VLOOKUP($I40,'TCU Report'!$W$4:$Y$35,3),0)","v":0},{"$f":"IF(J40>0,VLOOKUP($J40,'TCU Report'!$W$4:$Y$35,3),0)","v":0},{"$f":"IF(K40>0,VLOOKUP($K40,'TCU Report'!$W$4:$Y$35,3),0)","v":0},{"$f":"IF(L40>0,VLOOKUP($L40,'TCU Report'!$W$4:$Y$35,3),0)","v":0},{"$f":"IF(M40>0,VLOOKUP($M40,'TCU Report'!$W$4:$Y$35,3),0)","v":0},0,0,0,0,0,0,0,0," "," "," "," "," "," "," "," "," "," "," "," "," "," "," "," "," "," "," "," "," "," "," "," "," "," "," "]
[null,null,null,null,null," ",null,null,null,null,null,null,null,null,null,null,null," : "," : "," : "," : "," : "," : "," : "," : "," : "," : "," : "," : "," : "," : "," : "," : "," : "," : "," : "," : "," : "," : "," : "," : "," : "," : "," : ",{"$f":"IF(E41>0,VLOOKUP($E41,'TCU Report'!$Z$4:$AA$35,2),99)","v":99},{"$f":"IF(G41>0,VLOOKUP($G41,'TCU Report'!$Z$4:$AA$35,2),99)","v":99},{"$f":"IF(H41>0,VLOOKUP($H41,'TCU Report'!$W$4:$Y$35,3),0)","v":0},{"$f":"IF(I41>0,VLOOKUP($I41,'TCU Report'!$W$4:$Y$35,3),0)","v":0},{"$f":"IF(J41>0,VLOOKUP($J41,'TCU Report'!$W$4:$Y$35,3),0)","v":0},{"$f":"IF(K41>0,VLOOKUP($K41,'TCU Report'!$W$4:$Y$35,3),0)","v":0},{"$f":"IF(L41>0,VLOOKUP($L41,'TCU Report'!$W$4:$Y$35,3),0)","v":0},{"$f":"IF(M41>0,VLOOKUP($M41,'TCU Report'!$W$4:$Y$35,3),0)","v":0},0,0,0,0,0,0,0,0," "," "," "," "," "," "," "," "," "," "," "," "," "," "," "," "," "," "," "," "," "," "," "," "," "," "," "]
[null,null,null,null,null," ",null,null,null,null,null,null,null,null,null,null,null," : "," : "," : "," : "," : "," : "," : "," : "," : "," : "," : "," : "," : "," : "," : "," : "," : "," : "," : "," : "," : "," : "," : "," : "," : "," : "," : ",{"$f":"IF(E42>0,VLOOKUP($E42,'TCU Report'!$Z$4:$AA$35,2),99)","v":99},{"$f":"IF(G42>0,VLOOKUP($G42,'TCU Report'!$Z$4:$AA$35,2),99)","v":99},{"$f":"IF(H42>0,VLOOKUP($H42,'TCU Report'!$W$4:$Y$35,3),0)","v":0},{"$f":"IF(I42>0,VLOOKUP($I42,'TCU Report'!$W$4:$Y$35,3),0)","v":0},{"$f":"IF(J42>0,VLOOKUP($J42,'TCU Report'!$W$4:$Y$35,3),0)","v":0},{"$f":"IF(K42>0,VLOOKUP($K42,'TCU Report'!$W$4:$Y$35,3),0)","v":0},{"$f":"IF(L42>0,VLOOKUP($L42,'TCU Report'!$W$4:$Y$35,3),0)","v":0},{"$f":"IF(M42>0,VLOOKUP($M42,'TCU Report'!$W$4:$Y$35,3),0)","v":0},0,0,0,0,0,0,0,0," "," "," "," "," "," "," "," "," "," "," "," "," "," "," "," "," "," "," "," "," "," "," "," "," "," "," "]
[null,null,null,null,null," ",null,null,null,null,null,null,null,null,null,null,null," : "," : "," : "," : "," : "," : "," : "," : "," : "," : "," : "," : "," : "," : "," : "," : "," : "," : "," : "," : "," : "," : "," : "," : "," : "," : "," : ",{"$f":"IF(E43>0,VLOOKUP($E43,'TCU Report'!$Z$4:$AA$35,2),99)","v":99},{"$f":"IF(G43>0,VLOOKUP($G43,'TCU Report'!$Z$4:$AA$35,2),99)","v":99},{"$f":"IF(H43>0,VLOOKUP($H43,'TCU Report'!$W$4:$Y$35,3),0)","v":0},{"$f":"IF(I43>0,VLOOKUP($I43,'TCU Report'!$W$4:$Y$35,3),0)","v":0},{"$f":"IF(J43>0,VLOOKUP($J43,'TCU Report'!$W$4:$Y$35,3),0)","v":0},{"$f":"IF(K43>0,VLOOKUP($K43,'TCU Report'!$W$4:$Y$35,3),0)","v":0},{"$f":"IF(L43>0,VLOOKUP($L43,'TCU Report'!$W$4:$Y$35,3),0)","v":0},{"$f":"IF(M43>0,VLOOKUP($M43,'TCU Report'!$W$4:$Y$35,3),0)","v":0},0,0,0,0,0,0,0,0," "," "," "," "," "," "," "," "," "," "," "," "," "," "," "," "," "," "," "," "," "," "," "," "," "," "," "]
[null,null,null,null,null," ",null,null,null,null,null,null,null,null,null,null,null," : "," : "," : "," : "," : "," : "," : "," : "," : "," : "," : "," : "," : "," : "," : "," : "," : "," : "," : "," : "," : "," : "," : "," : "," : "," : "," : ",{"$f":"IF(E44>0,VLOOKUP($E44,'TCU Report'!$Z$4:$AA$35,2),99)","v":99},{"$f":"IF(G44>0,VLOOKUP($G44,'TCU Report'!$Z$4:$AA$35,2),99)","v":99},{"$f":"IF(H44>0,VLOOKUP($H44,'TCU Report'!$W$4:$Y$35,3),0)","v":0},{"$f":"IF(I44>0,VLOOKUP($I44,'TCU Report'!$W$4:$Y$35,3),0)","v":0},{"$f":"IF(J44>0,VLOOKUP($J44,'TCU Report'!$W$4:$Y$35,3),0)","v":0},{"$f":"IF(K44>0,VLOOKUP($K44,'TCU Report'!$W$4:$Y$35,3),0)","v":0},{"$f":"IF(L44>0,VLOOKUP($L44,'TCU Report'!$W$4:$Y$35,3),0)","v":0},{"$f":"IF(M44>0,VLOOKUP($M44,'TCU Report'!$W$4:$Y$35,3),0)","v":0},0,0,0,0,0,0,0,0," "," "," "," "," "," "," "," "," "," "," "," "," "," "," "," "," "," "," "," "," "," "," "," "," "," "," "]
[null,null,null,null,null," ",null,null,null,null,null,null,null,null,null,null,null," : "," : "," : "," : "," : "," : "," : "," : "," : "," : "," : "," : "," : "," : "," : "," : "," : "," : "," : "," : "," : "," : "," : "," : "," : "," : "," : ",{"$f":"IF(E45>0,VLOOKUP($E45,'TCU Report'!$Z$4:$AA$35,2),99)","v":99},{"$f":"IF(G45>0,VLOOKUP($G45,'TCU Report'!$Z$4:$AA$35,2),99)","v":99},{"$f":"IF(H45>0,VLOOKUP($H45,'TCU Report'!$W$4:$Y$35,3),0)","v":0},{"$f":"IF(I45>0,VLOOKUP($I45,'TCU Report'!$W$4:$Y$35,3),0)","v":0},{"$f":"IF(J45>0,VLOOKUP($J45,'TCU Report'!$W$4:$Y$35,3),0)","v":0},{"$f":"IF(K45>0,VLOOKUP($K45,'TCU Report'!$W$4:$Y$35,3),0)","v":0},{"$f":"IF(L45>0,VLOOKUP($L45,'TCU Report'!$W$4:$Y$35,3),0)","v":0},{"$f":"IF(M45>0,VLOOKUP($M45,'TCU Report'!$W$4:$Y$35,3),0)","v":0},0,0,0,0,0,0,0,0," "," "," "," "," "," "," "," "," "," "," "," "," "," "," "," "," "," "," "," "," "," "," "," "," "," "," "]
[null,null,null,null,null," ",null,null,null,null,null,null,null,null,null,null,null," : "," : "," : "," : "," : "," : "," : "," : "," : "," : "," : "," : "," : "," : "," : "," : "," : "," : "," : "," : "," : "," : "," : "," : "," : "," : "," : ",{"$f":"IF(E46>0,VLOOKUP($E46,'TCU Report'!$Z$4:$AA$35,2),99)","v":99},{"$f":"IF(G46>0,VLOOKUP($G46,'TCU Report'!$Z$4:$AA$35,2),99)","v":99},{"$f":"IF(H46>0,VLOOKUP($H46,'TCU Report'!$W$4:$Y$35,3),0)","v":0},{"$f":"IF(I46>0,VLOOKUP($I46,'TCU Report'!$W$4:$Y$35,3),0)","v":0},{"$f":"IF(J46>0,VLOOKUP($J46,'TCU Report'!$W$4:$Y$35,3),0)","v":0},{"$f":"IF(K46>0,VLOOKUP($K46,'TCU Report'!$W$4:$Y$35,3),0)","v":0},{"$f":"IF(L46>0,VLOOKUP($L46,'TCU Report'!$W$4:$Y$35,3),0)","v":0},{"$f":"IF(M46>0,VLOOKUP($M46,'TCU Report'!$W$4:$Y$35,3),0)","v":0},0,0,0,0,0,0,0,0," "," "," "," "," "," "," "," "," "," "," "," "," "," "," "," "," "," "," "," "," "," "," "," "," "," "," "]
[null,null,null,null,null," ",null,null,null,null,null,null,null,null,null,null,null," : "," : "," : "," : "," : "," : "," : "," : "," : "," : "," : "," : "," : "," : "," : "," : "," : "," : "," : "," : "," : "," : "," : "," : "," : "," : "," : ",{"$f":"IF(E47>0,VLOOKUP($E47,'TCU Report'!$Z$4:$AA$35,2),99)","v":99},{"$f":"IF(G47>0,VLOOKUP($G47,'TCU Report'!$Z$4:$AA$35,2),99)","v":99},{"$f":"IF(H47>0,VLOOKUP($H47,'TCU Report'!$W$4:$Y$35,3),0)","v":0},{"$f":"IF(I47>0,VLOOKUP($I47,'TCU Report'!$W$4:$Y$35,3),0)","v":0},{"$f":"IF(J47>0,VLOOKUP($J47,'TCU Report'!$W$4:$Y$35,3),0)","v":0},{"$f":"IF(K47>0,VLOOKUP($K47,'TCU Report'!$W$4:$Y$35,3),0)","v":0},{"$f":"IF(L47>0,VLOOKUP($L47,'TCU Report'!$W$4:$Y$35,3),0)","v":0},{"$f":"IF(M47>0,VLOOKUP($M47,'TCU Report'!$W$4:$Y$35,3),0)","v":0},0,0,0,0,0,0,0,0," "," "," "," "," "," "," "," "," "," "," "," "," "," "," "," "," "," "," "," "," "," "," "," "," "," "," "]
[null,null,null,null,null," ",null,null,null,null,null,null,null,null,null,null,null," : "," : "," : "," : "," : "," : "," : "," : "," : "," : "," : "," : "," : "," : "," : "," : "," : "," : "," : "," : "," : "," : "," : "," : "," : "," : "," : ",{"$f":"IF(E48>0,VLOOKUP($E48,'TCU Report'!$Z$4:$AA$35,2),99)","v":99},{"$f":"IF(G48>0,VLOOKUP($G48,'TCU Report'!$Z$4:$AA$35,2),99)","v":99},{"$f":"IF(H48>0,VLOOKUP($H48,'TCU Report'!$W$4:$Y$35,3),0)","v":0},{"$f":"IF(I48>0,VLOOKUP($I48,'TCU Report'!$W$4:$Y$35,3),0)","v":0},{"$f":"IF(J48>0,VLOOKUP($J48,'TCU Report'!$W$4:$Y$35,3),0)","v":0},{"$f":"IF(K48>0,VLOOKUP($K48,'TCU Report'!$W$4:$Y$35,3),0)","v":0},{"$f":"IF(L48>0,VLOOKUP($L48,'TCU Report'!$W$4:$Y$35,3),0)","v":0},{"$f":"IF(M48>0,VLOOKUP($M48,'TCU Report'!$W$4:$Y$35,3),0)","v":0},0,0,0,0,0,0,0,0," "," "," "," "," "," "," "," "," "," "," "," "," "," "," "," "," "," "," "," "," "," "," "," "," "," "," "]
[null,null,null,null,null," ",null,null,null,null,null,null,null,null,null,null,null," : "," : "," : "," : "," : "," : "," : "," : "," : "," : "," : "," : "," : "," : "," : "," : "," : "," : "," : "," : "," : "," : "," : "," : "," : "," : "," : ",{"$f":"IF(E49>0,VLOOKUP($E49,'TCU Report'!$Z$4:$AA$35,2),99)","v":99},{"$f":"IF(G49>0,VLOOKUP($G49,'TCU Report'!$Z$4:$AA$35,2),99)","v":99},{"$f":"IF(H49>0,VLOOKUP($H49,'TCU Report'!$W$4:$Y$35,3),0)","v":0},{"$f":"IF(I49>0,VLOOKUP($I49,'TCU Report'!$W$4:$Y$35,3),0)","v":0},{"$f":"IF(J49>0,VLOOKUP($J49,'TCU Report'!$W$4:$Y$35,3),0)","v":0},{"$f":"IF(K49>0,VLOOKUP($K49,'TCU Report'!$W$4:$Y$35,3),0)","v":0},{"$f":"IF(L49>0,VLOOKUP($L49,'TCU Report'!$W$4:$Y$35,3),0)","v":0},{"$f":"IF(M49>0,VLOOKUP($M49,'TCU Report'!$W$4:$Y$35,3),0)","v":0},0,0,0,0,0,0,0,0," "," "," "," "," "," "," "," "," "," "," "," "," "," "," "," "," "," "," "," "," "," "," "," "," "," "," "]
[null,null,null,null,null," ",null,null,null,null,null,null,null,null,null,null,null," : "," : "," : "," : "," : "," : "," : "," : "," : "," : "," : "," : "," : "," : "," : "," : "," : "," : "," : "," : "," : "," : "," : "," : "," : "," : "," : ",{"$f":"IF(E50>0,VLOOKUP($E50,'TCU Report'!$Z$4:$AA$35,2),99)","v":99},{"$f":"IF(G50>0,VLOOKUP($G50,'TCU Report'!$Z$4:$AA$35,2),99)","v":99},{"$f":"IF(H50>0,VLOOKUP($H50,'TCU Report'!$W$4:$Y$35,3),0)","v":0},{"$f":"IF(I50>0,VLOOKUP($I50,'TCU Report'!$W$4:$Y$35,3),0)","v":0},{"$f":"IF(J50>0,VLOOKUP($J50,'TCU Report'!$W$4:$Y$35,3),0)","v":0},{"$f":"IF(K50>0,VLOOKUP($K50,'TCU Report'!$W$4:$Y$35,3),0)","v":0},{"$f":"IF(L50>0,VLOOKUP($L50,'TCU Report'!$W$4:$Y$35,3),0)","v":0},{"$f":"IF(M50>0,VLOOKUP($M50,'TCU Report'!$W$4:$Y$35,3),0)","v":0},0,0,0,0,0,0,0,0," "," "," "," "," "," "," "," "," "," "," "," "," "," "," "," "," "," "," "," "," "," "," "," "," "," "," "]
[null,null,null,null,null," ",null,null,null,null,null,null,null,null,null,null,null," : "," : "," : "," : "," : "," : "," : "," : "," : "," : "," : "," : "," : "," : "," : "," : "," : "," : "," : "," : "," : "," : "," : "," : "," : "," : "," : ",{"$f":"IF(E51>0,VLOOKUP($E51,'TCU Report'!$Z$4:$AA$35,2),99)","v":99},{"$f":"IF(G51>0,VLOOKUP($G51,'TCU Report'!$Z$4:$AA$35,2),99)","v":99},{"$f":"IF(H51>0,VLOOKUP($H51,'TCU Report'!$W$4:$Y$35,3),0)","v":0},{"$f":"IF(I51>0,VLOOKUP($I51,'TCU Report'!$W$4:$Y$35,3),0)","v":0},{"$f":"IF(J51>0,VLOOKUP($J51,'TCU Report'!$W$4:$Y$35,3),0)","v":0},{"$f":"IF(K51>0,VLOOKUP($K51,'TCU Report'!$W$4:$Y$35,3),0)","v":0},{"$f":"IF(L51>0,VLOOKUP($L51,'TCU Report'!$W$4:$Y$35,3),0)","v":0},{"$f":"IF(M51>0,VLOOKUP($M51,'TCU Report'!$W$4:$Y$35,3),0)","v":0},0,0,0,0,0,0,0,0," "," "," "," "," "," "," "," "," "," "," "," "," "," "," "," "," "," "," "," "," "," "," "," "," "," "," "]
[null,null,null,null,null," ",null,null,null,null,null,null,null,null,null,null,null," : "," : "," : "," : "," : "," : "," : "," : "," : "," : "," : "," : "," : "," : "," : "," : "," : "," : "," : "," : "," : "," : "," : "," : "," : "," : "," : ",{"$f":"IF(E52>0,VLOOKUP($E52,'TCU Report'!$Z$4:$AA$35,2),99)","v":99},{"$f":"IF(G52>0,VLOOKUP($G52,'TCU Report'!$Z$4:$AA$35,2),99)","v":99},{"$f":"IF(H52>0,VLOOKUP($H52,'TCU Report'!$W$4:$Y$35,3),0)","v":0},{"$f":"IF(I52>0,VLOOKUP($I52,'TCU Report'!$W$4:$Y$35,3),0)","v":0},{"$f":"IF(J52>0,VLOOKUP($J52,'TCU Report'!$W$4:$Y$35,3),0)","v":0},{"$f":"IF(K52>0,VLOOKUP($K52,'TCU Report'!$W$4:$Y$35,3),0)","v":0},{"$f":"IF(L52>0,VLOOKUP($L52,'TCU Report'!$W$4:$Y$35,3),0)","v":0},{"$f":"IF(M52>0,VLOOKUP($M52,'TCU Report'!$W$4:$Y$35,3),0)","v":0},0,0,0,0,0,0,0,0," "," "," "," "," "," "," "," "," "," "," "," "," "," "," "," "," "," "," "," "," "," "," "," "," "," "," "]
[null,null,null,null,null," ",null,null,null,null,null,null,null,null,null,null,null," : "," : "," : "," : "," : "," : "," : "," : "," : "," : "," : "," : "," : "," : "," : "," : "," : "," : "," : "," : "," : "," : "," : "," : "," : "," : "," : ",{"$f":"IF(E53>0,VLOOKUP($E53,'TCU Report'!$Z$4:$AA$35,2),99)","v":99},{"$f":"IF(G53>0,VLOOKUP($G53,'TCU Report'!$Z$4:$AA$35,2),99)","v":99},{"$f":"IF(H53>0,VLOOKUP($H53,'TCU Report'!$W$4:$Y$35,3),0)","v":0},{"$f":"IF(I53>0,VLOOKUP($I53,'TCU Report'!$W$4:$Y$35,3),0)","v":0},{"$f":"IF(J53>0,VLOOKUP($J53,'TCU Report'!$W$4:$Y$35,3),0)","v":0},{"$f":"IF(K53>0,VLOOKUP($K53,'TCU Report'!$W$4:$Y$35,3),0)","v":0},{"$f":"IF(L53>0,VLOOKUP($L53,'TCU Report'!$W$4:$Y$35,3),0)","v":0},{"$f":"IF(M53>0,VLOOKUP($M53,'TCU Report'!$W$4:$Y$35,3),0)","v":0},0,0,0,0,0,0,0,0," "," "," "," "," "," "," "," "," "," "," "," "," "," "," "," "," "," "," "," "," "," "," "," "," "," "," "]
[null,null,null,null,null," ",null,null,null,null,null,null,null,null,null,null,null," : "," : "," : "," : "," : "," : "," : "," : "," : "," : "," : "," : "," : "," : "," : "," : "," : "," : "," : "," : "," : "," : "," : "," : "," : "," : "," : ",{"$f":"IF(E54>0,VLOOKUP($E54,'TCU Report'!$Z$4:$AA$35,2),99)","v":99},{"$f":"IF(G54>0,VLOOKUP($G54,'TCU Report'!$Z$4:$AA$35,2),99)","v":99},{"$f":"IF(H54>0,VLOOKUP($H54,'TCU Report'!$W$4:$Y$35,3),0)","v":0},{"$f":"IF(I54>0,VLOOKUP($I54,'TCU Report'!$W$4:$Y$35,3),0)","v":0},{"$f":"IF(J54>0,VLOOKUP($J54,'TCU Report'!$W$4:$Y$35,3),0)","v":0},{"$f":"IF(K54>0,VLOOKUP($K54,'TCU Report'!$W$4:$Y$35,3),0)","v":0},{"$f":"IF(L54>0,VLOOKUP($L54,'TCU Report'!$W$4:$Y$35,3),0)","v":0},{"$f":"IF(M54>0,VLOOKUP($M54,'TCU Report'!$W$4:$Y$35,3),0)","v":0},0,0,0,0,0,0,0,0," "," "," "," "," "," "," "," "," "," "," "," "," "," "," "," "," "," "," "," "," "," "," "," "," "," "," "]
[null,null,null,null,null," ",null,null,null,null,null,null,null,null,null,null,null," : "," : "," : "," : "," : "," : "," : "," : "," : "," : "," : "," : "," : "," : "," : "," : "," : "," : "," : "," : "," : "," : "," : "," : "," : "," : "," : ",{"$f":"IF(E55>0,VLOOKUP($E55,'TCU Report'!$Z$4:$AA$35,2),99)","v":99},{"$f":"IF(G55>0,VLOOKUP($G55,'TCU Report'!$Z$4:$AA$35,2),99)","v":99},{"$f":"IF(H55>0,VLOOKUP($H55,'TCU Report'!$W$4:$Y$35,3),0)","v":0},{"$f":"IF(I55>0,VLOOKUP($I55,'TCU Report'!$W$4:$Y$35,3),0)","v":0},{"$f":"IF(J55>0,VLOOKUP($J55,'TCU Report'!$W$4:$Y$35,3),0)","v":0},{"$f":"IF(K55>0,VLOOKUP($K55,'TCU Report'!$W$4:$Y$35,3),0)","v":0},{"$f":"IF(L55>0,VLOOKUP($L55,'TCU Report'!$W$4:$Y$35,3),0)","v":0},{"$f":"IF(M55>0,VLOOKUP($M55,'TCU Report'!$W$4:$Y$35,3),0)","v":0},0,0,0,0,0,0,0,0," "," "," "," "," "," "," "," "," "," "," "," "," "," "," "," "," "," "," "," "," "," "," "," "," "," "," "]
[null,null,null,null,null," ",null,null,null,null,null,null,null,null,null,null,null," : "," : "," : "," : "," : "," : "," : "," : "," : "," : "," : "," : "," : "," : "," : "," : "," : "," : "," : "," : "," : "," : "," : "," : "," : "," : "," : ",{"$f":"IF(E56>0,VLOOKUP($E56,'TCU Report'!$Z$4:$AA$35,2),99)","v":99},{"$f":"IF(G56>0,VLOOKUP($G56,'TCU Report'!$Z$4:$AA$35,2),99)","v":99},{"$f":"IF(H56>0,VLOOKUP($H56,'TCU Report'!$W$4:$Y$35,3),0)","v":0},{"$f":"IF(I56>0,VLOOKUP($I56,'TCU Report'!$W$4:$Y$35,3),0)","v":0},{"$f":"IF(J56>0,VLOOKUP($J56,'TCU Report'!$W$4:$Y$35,3),0)","v":0},{"$f":"IF(K56>0,VLOOKUP($K56,'TCU Report'!$W$4:$Y$35,3),0)","v":0},{"$f":"IF(L56>0,VLOOKUP($L56,'TCU Report'!$W$4:$Y$35,3),0)","v":0},{"$f":"IF(M56>0,VLOOKUP($M56,'TCU Report'!$W$4:$Y$35,3),0)","v":0},0,0,0,0,0,0,0,0," "," "," "," "," "," "," "," "," "," "," "," "," "," "," "," "," "," "," "," "," "," "," "," "," "," "," "]
[null,null,null,null,null," ",null,null,null,null,null,null,null,null,null,null,null," : "," : "," : "," : "," : "," : "," : "," : "," : "," : "," : "," : "," : "," : "," : "," : "," : "," : "," : "," : "," : "," : "," : "," : "," : "," : "," : ",{"$f":"IF(E57>0,VLOOKUP($E57,'TCU Report'!$Z$4:$AA$35,2),99)","v":99},{"$f":"IF(G57>0,VLOOKUP($G57,'TCU Report'!$Z$4:$AA$35,2),99)","v":99},{"$f":"IF(H57>0,VLOOKUP($H57,'TCU Report'!$W$4:$Y$35,3),0)","v":0},{"$f":"IF(I57>0,VLOOKUP($I57,'TCU Report'!$W$4:$Y$35,3),0)","v":0},{"$f":"IF(J57>0,VLOOKUP($J57,'TCU Report'!$W$4:$Y$35,3),0)","v":0},{"$f":"IF(K57>0,VLOOKUP($K57,'TCU Report'!$W$4:$Y$35,3),0)","v":0},{"$f":"IF(L57>0,VLOOKUP($L57,'TCU Report'!$W$4:$Y$35,3),0)","v":0},{"$f":"IF(M57>0,VLOOKUP($M57,'TCU Report'!$W$4:$Y$35,3),0)","v":0},0,0,0,0,0,0,0,0," "," "," "," "," "," "," "," "," "," "," "," "," "," "," "," "," "," "," "," "," "," "," "," "," "," "," "]
[null,null,null,null,null," ",null,null,null,null,null,null,null,null,null,null,null," : "," : "," : "," : "," : "," : "," : "," : "," : "," : "," : "," : "," : "," : "," : "," : "," : "," : "," : "," : "," : "," : "," : "," : "," : "," : "," : ",{"$f":"IF(E58>0,VLOOKUP($E58,'TCU Report'!$Z$4:$AA$35,2),99)","v":99},{"$f":"IF(G58>0,VLOOKUP($G58,'TCU Report'!$Z$4:$AA$35,2),99)","v":99},{"$f":"IF(H58>0,VLOOKUP($H58,'TCU Report'!$W$4:$Y$35,3),0)","v":0},{"$f":"IF(I58>0,VLOOKUP($I58,'TCU Report'!$W$4:$Y$35,3),0)","v":0},{"$f":"IF(J58>0,VLOOKUP($J58,'TCU Report'!$W$4:$Y$35,3),0)","v":0},{"$f":"IF(K58>0,VLOOKUP($K58,'TCU Report'!$W$4:$Y$35,3),0)","v":0},{"$f":"IF(L58>0,VLOOKUP($L58,'TCU Report'!$W$4:$Y$35,3),0)","v":0},{"$f":"IF(M58>0,VLOOKUP($M58,'TCU Report'!$W$4:$Y$35,3),0)","v":0},0,0,0,0,0,0,0,0," "," "," "," "," "," "," "," "," "," "," "," "," "," "," "," "," "," "," "," "," "," "," "," "," "," "," "]
[null,null,null,null,null," ",null,null,null,null,null,null,null,null,null,null,null," : "," : "," : "," : "," : "," : "," : "," : "," : "," : "," : "," : "," : "," : "," : "," : "," : "," : "," : "," : "," : "," : "," : "," : "," : "," : "," : ",{"$f":"IF(E59>0,VLOOKUP($E59,'TCU Report'!$Z$4:$AA$35,2),99)","v":99},{"$f":"IF(G59>0,VLOOKUP($G59,'TCU Report'!$Z$4:$AA$35,2),99)","v":99},{"$f":"IF(H59>0,VLOOKUP($H59,'TCU Report'!$W$4:$Y$35,3),0)","v":0},{"$f":"IF(I59>0,VLOOKUP($I59,'TCU Report'!$W$4:$Y$35,3),0)","v":0},{"$f":"IF(J59>0,VLOOKUP($J59,'TCU Report'!$W$4:$Y$35,3),0)","v":0},{"$f":"IF(K59>0,VLOOKUP($K59,'TCU Report'!$W$4:$Y$35,3),0)","v":0},{"$f":"IF(L59>0,VLOOKUP($L59,'TCU Report'!$W$4:$Y$35,3),0)","v":0},{"$f":"IF(M59>0,VLOOKUP($M59,'TCU Report'!$W$4:$Y$35,3),0)","v":0},0,0,0,0,0,0,0,0," "," "," "," "," "," "," "," "," "," "," "," "," "," "," "," "," "," "," "," "," "," "," "," "," "," "," "]
[null,null,null,null,null," ",null,null,null,null,null,null,null,null,null,null,null," : "," : "," : "," : "," : "," : "," : "," : "," : "," : "," : "," : "," : "," : "," : "," : "," : "," : "," : "," : "," : "," : "," : "," : "," : "," : "," : ",{"$f":"IF(E60>0,VLOOKUP($E60,'TCU Report'!$Z$4:$AA$35,2),99)","v":99},{"$f":"IF(G60>0,VLOOKUP($G60,'TCU Report'!$Z$4:$AA$35,2),99)","v":99},{"$f":"IF(H60>0,VLOOKUP($H60,'TCU Report'!$W$4:$Y$35,3),0)","v":0},{"$f":"IF(I60>0,VLOOKUP($I60,'TCU Report'!$W$4:$Y$35,3),0)","v":0},{"$f":"IF(J60>0,VLOOKUP($J60,'TCU Report'!$W$4:$Y$35,3),0)","v":0},{"$f":"IF(K60>0,VLOOKUP($K60,'TCU Report'!$W$4:$Y$35,3),0)","v":0},{"$f":"IF(L60>0,VLOOKUP($L60,'TCU Report'!$W$4:$Y$35,3),0)","v":0},{"$f":"IF(M60>0,VLOOKUP($M60,'TCU Report'!$W$4:$Y$35,3),0)","v":0},0,0,0,0,0,0,0,0," "," "," "," "," "," "," "," "," "," "," "," "," "," "," "," "," "," "," "," "," "," "," "," "," "," "," "]
[null,null,null,null,null," ",null,null,null,null,null,null,null,null,null,null,null," : "," : "," : "," : "," : "," : "," : "," : "," : "," : "," : "," : "," : "," : "," : "," : "," : "," : "," : "," : "," : "," : "," : "," : "," : "," : "," : ",{"$f":"IF(E61>0,VLOOKUP($E61,'TCU Report'!$Z$4:$AA$35,2),99)","v":99},{"$f":"IF(G61>0,VLOOKUP($G61,'TCU Report'!$Z$4:$AA$35,2),99)","v":99},{"$f":"IF(H61>0,VLOOKUP($H61,'TCU Report'!$W$4:$Y$35,3),0)","v":0},{"$f":"IF(I61>0,VLOOKUP($I61,'TCU Report'!$W$4:$Y$35,3),0)","v":0},{"$f":"IF(J61>0,VLOOKUP($J61,'TCU Report'!$W$4:$Y$35,3),0)","v":0},{"$f":"IF(K61>0,VLOOKUP($K61,'TCU Report'!$W$4:$Y$35,3),0)","v":0},{"$f":"IF(L61>0,VLOOKUP($L61,'TCU Report'!$W$4:$Y$35,3),0)","v":0},{"$f":"IF(M61>0,VLOOKUP($M61,'TCU Report'!$W$4:$Y$35,3),0)","v":0},0,0,0,0,0,0,0,0," "," "," "," "," "," "," "," "," "," "," "," "," "," "," "," "," "," "," "," "," "," "," "," "," "," "," "]
[null,null,null,null,null," ",null,null,null,null,null,null,null,null,null,null,null," : "," : "," : "," : "," : "," : "," : "," : "," : "," : "," : "," : "," : "," : "," : "," : "," : "," : "," : "," : "," : "," : "," : "," : "," : "," : "," : ",{"$f":"IF(E62>0,VLOOKUP($E62,'TCU Report'!$Z$4:$AA$35,2),99)","v":99},{"$f":"IF(G62>0,VLOOKUP($G62,'TCU Report'!$Z$4:$AA$35,2),99)","v":99},{"$f":"IF(H62>0,VLOOKUP($H62,'TCU Report'!$W$4:$Y$35,3),0)","v":0},{"$f":"IF(I62>0,VLOOKUP($I62,'TCU Report'!$W$4:$Y$35,3),0)","v":0},{"$f":"IF(J62>0,VLOOKUP($J62,'TCU Report'!$W$4:$Y$35,3),0)","v":0},{"$f":"IF(K62>0,VLOOKUP($K62,'TCU Report'!$W$4:$Y$35,3),0)","v":0},{"$f":"IF(L62>0,VLOOKUP($L62,'TCU Report'!$W$4:$Y$35,3),0)","v":0},{"$f":"IF(M62>0,VLOOKUP($M62,'TCU Report'!$W$4:$Y$35,3),0)","v":0},0,0,0,0,0,0,0,0," "," "," "," "," "," "," "," "," "," "," "," "," "," "," "," "," "," "," "," "," "," "," "," "," "," "," "]
[null,null,null,null,null," ",null,null,null,null,null,null,null,null,null,null,null," : "," : "," : "," : "," : "," : "," : "," : "," : "," : "," : "," : "," : "," : "," : "," : "," : "," : "," : "," : "," : "," : "," : "," : "," : "," : "," : ",{"$f":"IF(E63>0,VLOOKUP($E63,'TCU Report'!$Z$4:$AA$35,2),99)","v":99},{"$f":"IF(G63>0,VLOOKUP($G63,'TCU Report'!$Z$4:$AA$35,2),99)","v":99},{"$f":"IF(H63>0,VLOOKUP($H63,'TCU Report'!$W$4:$Y$35,3),0)","v":0},{"$f":"IF(I63>0,VLOOKUP($I63,'TCU Report'!$W$4:$Y$35,3),0)","v":0},{"$f":"IF(J63>0,VLOOKUP($J63,'TCU Report'!$W$4:$Y$35,3),0)","v":0},{"$f":"IF(K63>0,VLOOKUP($K63,'TCU Report'!$W$4:$Y$35,3),0)","v":0},{"$f":"IF(L63>0,VLOOKUP($L63,'TCU Report'!$W$4:$Y$35,3),0)","v":0},{"$f":"IF(M63>0,VLOOKUP($M63,'TCU Report'!$W$4:$Y$35,3),0)","v":0},0,0,0,0,0,0,0,0," "," "," "," "," "," "," "," "," "," "," "," "," "," "," "," "," "," "," "," "," "," "," "," "," "," "," "]
[null,null,null,null,null," ",null,null,null,null,null,null,null,null,null,null,null," : "," : "," : "," : "," : "," : "," : "," : "," : "," : "," : "," : "," : "," : "," : "," : "," : "," : "," : "," : "," : "," : "," : "," : "," : "," : "," : ",{"$f":"IF(E64>0,VLOOKUP($E64,'TCU Report'!$Z$4:$AA$35,2),99)","v":99},{"$f":"IF(G64>0,VLOOKUP($G64,'TCU Report'!$Z$4:$AA$35,2),99)","v":99},{"$f":"IF(H64>0,VLOOKUP($H64,'TCU Report'!$W$4:$Y$35,3),0)","v":0},{"$f":"IF(I64>0,VLOOKUP($I64,'TCU Report'!$W$4:$Y$35,3),0)","v":0},{"$f":"IF(J64>0,VLOOKUP($J64,'TCU Report'!$W$4:$Y$35,3),0)","v":0},{"$f":"IF(K64>0,VLOOKUP($K64,'TCU Report'!$W$4:$Y$35,3),0)","v":0},{"$f":"IF(L64>0,VLOOKUP($L64,'TCU Report'!$W$4:$Y$35,3),0)","v":0},{"$f":"IF(M64>0,VLOOKUP($M64,'TCU Report'!$W$4:$Y$35,3),0)","v":0},0,0,0,0,0,0,0,0," "," "," "," "," "," "," "," "," "," "," "," "," "," "," "," "," "," "," "," "," "," "," "," "," "," "," "]
[null,null,null,null,null," ",null,null,null,null,null,null,null,null,null,null,null," : "," : "," : "," : "," : "," : "," : "," : "," : "," : "," : "," : "," : "," : "," : "," : "," : "," : "," : "," : "," : "," : "," : "," : "," : "," : "," : ",{"$f":"IF(E65>0,VLOOKUP($E65,'TCU Report'!$Z$4:$AA$35,2),99)","v":99},{"$f":"IF(G65>0,VLOOKUP($G65,'TCU Report'!$Z$4:$AA$35,2),99)","v":99},{"$f":"IF(H65>0,VLOOKUP($H65,'TCU Report'!$W$4:$Y$35,3),0)","v":0},{"$f":"IF(I65>0,VLOOKUP($I65,'TCU Report'!$W$4:$Y$35,3),0)","v":0},{"$f":"IF(J65>0,VLOOKUP($J65,'TCU Report'!$W$4:$Y$35,3),0)","v":0},{"$f":"IF(K65>0,VLOOKUP($K65,'TCU Report'!$W$4:$Y$35,3),0)","v":0},{"$f":"IF(L65>0,VLOOKUP($L65,'TCU Report'!$W$4:$Y$35,3),0)","v":0},{"$f":"IF(M65>0,VLOOKUP($M65,'TCU Report'!$W$4:$Y$35,3),0)","v":0},0,0,0,0,0,0,0,0," "," "," "," "," "," "," "," "," "," "," "," "," "," "," "," "," "," "," "," "," "," "," "," "," "," "," "]
[null,null,null,null,null," ",null,null,null,null,null,null,null,null,null,null,null," : "," : "," : "," : "," : "," : "," : "," : "," : "," : "," : "," : "," : "," : "," : "," : "," : "," : "," : "," : "," : "," : "," : "," : "," : "," : "," : ",{"$f":"IF(E66>0,VLOOKUP($E66,'TCU Report'!$Z$4:$AA$35,2),99)","v":99},{"$f":"IF(G66>0,VLOOKUP($G66,'TCU Report'!$Z$4:$AA$35,2),99)","v":99},{"$f":"IF(H66>0,VLOOKUP($H66,'TCU Report'!$W$4:$Y$35,3),0)","v":0},{"$f":"IF(I66>0,VLOOKUP($I66,'TCU Report'!$W$4:$Y$35,3),0)","v":0},{"$f":"IF(J66>0,VLOOKUP($J66,'TCU Report'!$W$4:$Y$35,3),0)","v":0},{"$f":"IF(K66>0,VLOOKUP($K66,'TCU Report'!$W$4:$Y$35,3),0)","v":0},{"$f":"IF(L66>0,VLOOKUP($L66,'TCU Report'!$W$4:$Y$35,3),0)","v":0},{"$f":"IF(M66>0,VLOOKUP($M66,'TCU Report'!$W$4:$Y$35,3),0)","v":0},0,0,0,0,0,0,0,0," "," "," "," "," "," "," "," "," "," "," "," "," "," "," "," "," "," "," "," "," "," "," "," "," "," "," "]
[null,null,null,null,null," ",null,null,null,null,null,null,null,null,null,null,null," : "," : "," : "," : "," : "," : "," : "," : "," : "," : "," : "," : "," : "," : "," : ",{"$f":"CONCATENATE(H67,\" : \",E67)","v":" : "},{"$f":"CONCATENATE(H67,\" : \",G67)","v":" : "},{"$f":"CONCATENATE(I67,\" : \",E67)","v":" : "},{"$f":"CONCATENATE(I67,\" : \",G67)","v":" : "},{"$f":"CONCATENATE(J67,\" : \",E67)","v":" : "}," : ",{"$f":"CONCATENATE(K67,\" : \",E67)","v":" : "},{"$f":"CONCATENATE(K67,\" : \",G67)","v":" : "}," : "," : "," : "," : ",{"$f":"IF(E67>0,VLOOKUP($E67,'TCU Report'!$Z$4:$AA$35,2),99)","v":99},{"$f":"IF(G67>0,VLOOKUP($G67,'TCU Report'!$Z$4:$AA$35,2),99)","v":99},{"$f":"IF(H67>0,VLOOKUP($H67,'TCU Report'!$W$4:$Y$35,3),0)","v":0},{"$f":"IF(I67>0,VLOOKUP($I67,'TCU Report'!$W$4:$Y$35,3),0)","v":0},{"$f":"IF(J67>0,VLOOKUP($J67,'TCU Report'!$W$4:$Y$35,3),0)","v":0},{"$f":"IF(K67>0,VLOOKUP($K67,'TCU Report'!$W$4:$Y$35,3),0)","v":0},{"$f":"IF(L67>0,VLOOKUP($L67,'TCU Report'!$W$4:$Y$35,3),0)","v":0},{"$f":"IF(M67>0,VLOOKUP($M67,'TCU Report'!$W$4:$Y$35,3),0)","v":0},0,0,0,0,0,0,0,0," "," "," "," "," "," "," "," "," "," "," "," "," "," "," "," "," "," "," "," "," "," "," "," "," "," "," "]
[null,null,null,null,null," ",null,null,null,null,null,null,null,null,null,null,null,{"$f":"CONCATENATE(H68,\" : \",I68)","v":" : "},{"$f":"CONCATENATE(H68,\" : \",J68)","v":" : "},{"$f":"CONCATENATE(H68,\" : \",K68)","v":" : "}," : "," : ",{"$f":"CONCATENATE(I68,\" : \",J68)","v":" : "}," : "," : "," : "," : "," : "," : "," : "," : "," : "," : "," : "," : "," : "," : ",{"$f":"CONCATENATE(J68,\" : \",G68)","v":" : "}," : "," : "," : "," : "," : "," : ",{"$f":"IF(E68>0,VLOOKUP($E68,'TCU Report'!$Z$4:$AA$35,2),99)","v":99},{"$f":"IF(G68>0,VLOOKUP($G68,'TCU Report'!$Z$4:$AA$35,2),99)","v":99},{"$f":"IF(H68>0,VLOOKUP($H68,'TCU Report'!$W$4:$Y$35,3),0)","v":0},{"$f":"IF(I68>0,VLOOKUP($I68,'TCU Report'!$W$4:$Y$35,3),0)","v":0},{"$f":"IF(J68>0,VLOOKUP($J68,'TCU Report'!$W$4:$Y$35,3),0)","v":0},{"$f":"IF(K68>0,VLOOKUP($K68,'TCU Report'!$W$4:$Y$35,3),0)","v":0},{"$f":"IF(L68>0,VLOOKUP($L68,'TCU Report'!$W$4:$Y$35,3),0)","v":0},{"$f":"IF(M68>0,VLOOKUP($M68,'TCU Report'!$W$4:$Y$35,3),0)","v":0},0,0,0,0,0,0,0,0,null,{"$f":"IF($H68=$BJ$3,$H$3,IF($I68=$BJ$3,$I$3,IF($J68=$BJ$3,$J$3,IF($K68=$BJ$3,$K$3,IF($L68=$BJ$3,$L$3,IF($M68=$BJ$3,$M$3,\" \"))))))","v":" "},{"$f":"IF($H68=$BK$3,$H$3,IF($I68=$BK$3,$I$3,IF($J68=$BK$3,$J$3,IF($K68=$BK$3,$K$3,IF($L68=$BK$3,$L$3,IF($M68=$BK$3,$M$3,\" \"))))))","v":" "},{"$f":"IF($H68=$BL$3,$H$3,IF($I68=$BL$3,$I$3,IF($J68=$BL$3,$J$3,IF($K68=$BL$3,$K$3,IF($L68=$BL$3,$L$3,IF($M68=$BL$3,$M$3,\" \"))))))","v":" "},{"$f":"IF($H68=$BM$3,$H$3,IF($I68=$BM$3,$I$3,IF($J68=$BM$3,$J$3,IF($K68=$BM$3,$K$3,IF($L68=$BM$3,$L$3,IF($M68=$BM$3,$M$3,\" \"))))))","v":" "},{"$f":"IF($H68=$BN$3,$H$3,IF($I68=$BN$3,$I$3,IF($J68=$BN$3,$J$3,IF($K68=$BN$3,$K$3,IF($L68=$BN$3,$L$3,IF($M68=$BN$3,$M$3,\" \"))))))","v":" "},{"$f":"IF($H68=$BO$3,$H$3,IF($I68=$BO$3,$I$3,IF($J68=$BO$3,$J$3,IF($K68=$BO$3,$K$3,IF($L68=$BO$3,$L$3,IF($M68=$BO$3,$M$3,\" \"))))))","v":" "},{"$f":"IF($H68=$BP$3,$H$3,IF($I68=$BP$3,$I$3,IF($J68=$BP$3,$J$3,IF($K68=$BP$3,$K$3,IF($L68=$BP$3,$L$3,IF($M68=$BP$3,$M$3,\" \"))))))","v":" "},{"$f":"IF($H68=$BQ$3,$H$3,IF($I68=$BQ$3,$I$3,IF($J68=$BQ$3,$J$3,IF($K68=$BQ$3,$K$3,IF($L68=$BQ$3,$L$3,IF($M68=$BQ$3,$M$3,\" \"))))))","v":" "},{"$f":"IF($H68=$BR$3,$H$3,IF($I68=$BR$3,$I$3,IF($J68=$BR$3,$J$3,IF($K68=$BR$3,$K$3,IF($L68=$BR$3,$L$3,IF($M68=$BR$3,$M$3,\" \"))))))","v":" "},{"$f":"IF($H68=$BS$3,$H$3,IF($I68=$BS$3,$I$3,IF($J68=$BS$3,$J$3,IF($K68=$BS$3,$K$3,IF($L68=$BS$3,$L$3,IF($M68=$BS$3,$M$3,\" \"))))))","v":" "},{"$f":"IF($H68=$BT$3,$H$3,IF($I68=$BT$3,$I$3,IF($J68=$BT$3,$J$3,IF($K68=$BT$3,$K$3,IF($L68=$BT$3,$L$3,IF($M68=$BT$3,$M$3,\" \"))))))","v":" "},{"$f":"IF($H68=$BU$3,$H$3,IF($I68=$BU$3,$I$3,IF($J68=$BU$3,$J$3,IF($K68=$BU$3,$K$3,IF($L68=$BU$3,$L$3,IF($M68=$BU$3,$M$3,\" \"))))))","v":" "},{"$f":"IF($H68=$BV$3,$H$3,IF($I68=$BV$3,$I$3,IF($J68=$BV$3,$J$3,IF($K68=$BV$3,$K$3,IF($L68=$BV$3,$L$3,IF($M68=$BV$3,$M$3,\" \"))))))","v":" "},{"$f":"IF($H68=$BW$3,$H$3,IF($I68=$BW$3,$I$3,IF($J68=$BW$3,$J$3,IF($K68=$BW$3,$K$3,IF($L68=$BW$3,$L$3,IF($M68=$BW$3,$M$3,\" \"))))))","v":" "},{"$f":"IF($H68=$BX$3,$H$3,IF($I68=$BX$3,$I$3,IF($J68=$BX$3,$J$3,IF($K68=$BX$3,$K$3,IF($L68=$BX$3,$L$3,IF($M68=$BX$3,$M$3,\" \"))))))","v":" "},{"$f":"IF($H68=$BY$3,$H$3,IF($I68=$BY$3,$I$3,IF($J68=$BY$3,$J$3,IF($K68=$BY$3,$K$3,IF($L68=$BY$3,$L$3,IF($M68=$BY$3,$M$3,\" \"))))))","v":" "},{"$f":"IF($H68=$BZ$3,$H$3,IF($I68=$BZ$3,$I$3,IF($J68=$BZ$3,$J$3,IF($K68=$BZ$3,$K$3,IF($L68=$BZ$3,$L$3,IF($M68=$BZ$3,$M$3,\" \"))))))","v":" "},{"$f":"IF($H68=$CA$3,$H$3,IF($I68=$CA$3,$I$3,IF($J68=$CA$3,$J$3,IF($K68=$CA$3,$K$3,IF($L68=$CA$3,$L$3,IF($M68=$CA$3,$M$3,\" \"))))))","v":" "},{"$f":"IF($H68=$CB$3,$H$3,IF($I68=$CB$3,$I$3,IF($J68=$CB$3,$J$3,IF($K68=$CB$3,$K$3,IF($L68=$CB$3,$L$3,IF($M68=$CB$3,$M$3,\" \"))))))","v":" "},{"$f":"IF($H68=$CC$3,$H$3,IF($I68=$CC$3,$I$3,IF($J68=$CC$3,$J$3,IF($K68=$CC$3,$K$3,IF($L68=$CC$3,$L$3,IF($M68=$CC$3,$M$3,\" \"))))))","v":" "},{"$f":"IF($H68=$CD$3,$H$3,IF($I68=$CD$3,$I$3,IF($J68=$CD$3,$J$3,IF($K68=$CD$3,$K$3,IF($L68=$CD$3,$L$3,IF($M68=$CD$3,$M$3,\" \"))))))","v":" "},{"$f":"IF($H68=$CE$3,$H$3,IF($I68=$CE$3,$I$3,IF($J68=$CE$3,$J$3,IF($K68=$CE$3,$K$3,IF($L68=$CE$3,$L$3,IF($M68=$CE$3,$M$3,\" \"))))))","v":" "},{"$f":"IF($H68=$CF$3,$H$3,IF($I68=$CF$3,$I$3,IF($J68=$CF$3,$J$3,IF($K68=$CF$3,$K$3,IF($L68=$CF$3,$L$3,IF($M68=$CF$3,$M$3,\" \"))))))","v":" "},{"$f":"IF($H68=$CG$3,$H$3,IF($I68=$CG$3,$I$3,IF($J68=$CG$3,$J$3,IF($K68=$CG$3,$K$3,IF($L68=$CG$3,$L$3,IF($M68=$CG$3,$M$3,\" \"))))))","v":" "},{"$f":"IF($H68=$CH$3,$H$3,IF($I68=$CH$3,$I$3,IF($J68=$CH$3,$J$3,IF($K68=$CH$3,$K$3,IF($L68=$CH$3,$L$3,IF($M68=$CH$3,$M$3,\" \"))))))","v":" "},{"$f":"IF($H68=$CI$3,$H$3,IF($I68=$CI$3,$I$3,IF($J68=$CI$3,$J$3,IF($K68=$CI$3,$K$3,IF($L68=$CI$3,$L$3,IF($M68=$CI$3,$M$3,\" \"))))))","v":" "}]
[null,null,null,null,null," ",null,null,null,null,null,null,null,null,null,null,null," : "," : "," : ",{"$f":"CONCATENATE($H69,\" : \",L69)","v":" : "}," : "," : ",{"$f":"CONCATENATE(I69,\" : \",K69)","v":" : "},{"$f":"CONCATENATE($I69,\" : \",L69)","v":" : "}," : ",{"$f":"CONCATENATE(J69,\" : \",K69)","v":" : "},{"$f":"CONCATENATE($J69,\" : \",L69)","v":" : "}," : ",{"$f":"CONCATENATE($K69,\" : \",L69)","v":" : "}," : ",{"$f":"CONCATENATE($L69,\" : \",M69)","v":" : "}," : "," : "," : "," : "," : "," : "," : "," : ",{"$f":"CONCATENATE(L69,\" : \",E69)","v":" : "},{"$f":"CONCATENATE(L69,\" : \",G69)","v":" : "},{"$f":"CONCATENATE(M69,\" : \",E69)","v":" : "},{"$f":"CONCATENATE(M69,\" : \",G69)","v":" : "},{"$f":"IF(E69>0,VLOOKUP($E69,'TCU Report'!$Z$4:$AA$35,2),99)","v":99},{"$f":"IF(G69>0,VLOOKUP($G69,'TCU Report'!$Z$4:$AA$35,2),99)","v":99},{"$f":"IF(H69>0,VLOOKUP($H69,'TCU Report'!$W$4:$Y$35,3),0)","v":0},{"$f":"IF(I69>0,VLOOKUP($I69,'TCU Report'!$W$4:$Y$35,3),0)","v":0},{"$f":"IF(J69>0,VLOOKUP($J69,'TCU Report'!$W$4:$Y$35,3),0)","v":0},{"$f":"IF(K69>0,VLOOKUP($K69,'TCU Report'!$W$4:$Y$35,3),0)","v":0},{"$f":"IF(L69>0,VLOOKUP($L69,'TCU Report'!$W$4:$Y$35,3),0)","v":0},{"$f":"IF(M69>0,VLOOKUP($M69,'TCU Report'!$W$4:$Y$35,3),0)","v":0},{"$f":"IF($AS69=$AU69,1,IF($AS69=$AV69,1,IF($AS69=$AW69,1,IF($AS69=AX69,1,IF($AS69=AY69,1,IF($AS69=AZ69,1,0))))))","v":0},{"$f":"IF($AT69=AU69,1,IF($AT69=AV69,1,IF($AT69=AW69,1,IF($AT69=AX69,1,IF($AT69=AY69,1,IF($AT69=AZ69,1,0))))))","v":0},{"$f":"IF(AU69=$AS69,1,IF(AU69=$AT69,1,0))","v":0},{"$f":"IF(AV69=$AS69,1,IF(AV69=$AT69,1,0))","v":0},{"$f":"IF(AW69=$AS69,1,IF(AW69=$AT69,1,0))","v":0},{"$f":"IF(AX69=$AS69,1,IF(AX69=$AT69,1,0))","v":0},{"$f":"IF(AY69=$AS69,1,IF(AY69=$AT69,1,0))","v":0},{"$f":"IF(AZ69=$AS69,1,IF(AZ69=$AT69,1,0))","v":0},null," "," "," "," "," "," "," "," "," "," "," "," "," "," "," "," "," "," "," "," "," "," "," "," "," "," "]
[null,null,null,null,null," ",null,null,null,null,null,null,null,null,null,null,null," : "," : "," : "," : "," : "," : "," : "," : "," : "," : "," : "," : "," : "," : "," : "," : "," : "," : "," : "," : "," : "," : "," : "," : "," : "," : "," : ",{"$f":"IF(E70>0,VLOOKUP($E70,'TCU Report'!$Z$4:$AA$35,2),99)","v":99},{"$f":"IF(G70>0,VLOOKUP($G70,'TCU Report'!$Z$4:$AA$35,2),99)","v":99},{"$f":"IF(H70>0,VLOOKUP($H70,'TCU Report'!$W$4:$Y$35,3),0)","v":0},{"$f":"IF(I70>0,VLOOKUP($I70,'TCU Report'!$W$4:$Y$35,3),0)","v":0},{"$f":"IF(J70>0,VLOOKUP($J70,'TCU Report'!$W$4:$Y$35,3),0)","v":0},{"$f":"IF(K70>0,VLOOKUP($K70,'TCU Report'!$W$4:$Y$35,3),0)","v":0},{"$f":"IF(L70>0,VLOOKUP($L70,'TCU Report'!$W$4:$Y$35,3),0)","v":0},{"$f":"IF(M70>0,VLOOKUP($M70,'TCU Report'!$W$4:$Y$35,3),0)","v":0},0,0,0,0,0,0,0,0,null," "," "," "," "," "," "," "," "," "," "," "," "," "," "," "," "," "," "," "," "," "," "," "," "," "," "]
[null,null,null,null,null," ",null,null,null,null,null,null,null,null,null,null,null," : "," : "," : "," : "," : "," : "," : "," : "," : "," : "," : "," : "," : "," : "," : "," : "," : "," : "," : "," : "," : "," : "," : "," : "," : "," : "," : ",{"$f":"IF(E71>0,VLOOKUP($E71,'TCU Report'!$Z$4:$AA$35,2),99)","v":99},{"$f":"IF(G71>0,VLOOKUP($G71,'TCU Report'!$Z$4:$AA$35,2),99)","v":99},{"$f":"IF(H71>0,VLOOKUP($H71,'TCU Report'!$W$4:$Y$35,3),0)","v":0},{"$f":"IF(I71>0,VLOOKUP($I71,'TCU Report'!$W$4:$Y$35,3),0)","v":0},{"$f":"IF(J71>0,VLOOKUP($J71,'TCU Report'!$W$4:$Y$35,3),0)","v":0},{"$f":"IF(K71>0,VLOOKUP($K71,'TCU Report'!$W$4:$Y$35,3),0)","v":0},{"$f":"IF(L71>0,VLOOKUP($L71,'TCU Report'!$W$4:$Y$35,3),0)","v":0},{"$f":"IF(M71>0,VLOOKUP($M71,'TCU Report'!$W$4:$Y$35,3),0)","v":0},0,0,0,0,0,0,0,0,null," "," "," "," "," "," "," "," "," "," "," "," "," "," "," "," "," "," "," "," "," "," "," "," "," "," "]
[null,null,null,null,null," ",null,null,null,null,null,null,null,null,null,null,null," : "," : "," : "," : "," : "," : "," : "," : "," : "," : "," : "," : "," : "," : "," : "," : "," : "," : "," : "," : "," : "," : "," : "," : "," : "," : "," : ",{"$f":"IF(E72>0,VLOOKUP($E72,'TCU Report'!$Z$4:$AA$35,2),99)","v":99},{"$f":"IF(G72>0,VLOOKUP($G72,'TCU Report'!$Z$4:$AA$35,2),99)","v":99},{"$f":"IF(H72>0,VLOOKUP($H72,'TCU Report'!$W$4:$Y$35,3),0)","v":0},{"$f":"IF(I72>0,VLOOKUP($I72,'TCU Report'!$W$4:$Y$35,3),0)","v":0},{"$f":"IF(J72>0,VLOOKUP($J72,'TCU Report'!$W$4:$Y$35,3),0)","v":0},{"$f":"IF(K72>0,VLOOKUP($K72,'TCU Report'!$W$4:$Y$35,3),0)","v":0},{"$f":"IF(L72>0,VLOOKUP($L72,'TCU Report'!$W$4:$Y$35,3),0)","v":0},{"$f":"IF(M72>0,VLOOKUP($M72,'TCU Report'!$W$4:$Y$35,3),0)","v":0},0,0,0,0,0,0,0,0,null," "," "," "," "," "," "," "," "," "," "," "," "," "," "," "," "," "," "," "," "," "," "," "," "," "," "]
[null,null,null,null,null," ",null,null,null,null,null,null,null,null,null,null,null," : "," : "," : "," : "," : "," : "," : "," : "," : "," : "," : "," : "," : "," : "," : "," : "," : "," : "," : "," : "," : "," : "," : "," : "," : "," : "," : ",{"$f":"IF(E73>0,VLOOKUP($E73,'TCU Report'!$Z$4:$AA$35,2),99)","v":99},{"$f":"IF(G73>0,VLOOKUP($G73,'TCU Report'!$Z$4:$AA$35,2),99)","v":99},{"$f":"IF(H73>0,VLOOKUP($H73,'TCU Report'!$W$4:$Y$35,3),0)","v":0},{"$f":"IF(I73>0,VLOOKUP($I73,'TCU Report'!$W$4:$Y$35,3),0)","v":0},{"$f":"IF(J73>0,VLOOKUP($J73,'TCU Report'!$W$4:$Y$35,3),0)","v":0},{"$f":"IF(K73>0,VLOOKUP($K73,'TCU Report'!$W$4:$Y$35,3),0)","v":0},{"$f":"IF(L73>0,VLOOKUP($L73,'TCU Report'!$W$4:$Y$35,3),0)","v":0},{"$f":"IF(M73>0,VLOOKUP($M73,'TCU Report'!$W$4:$Y$35,3),0)","v":0},0,0,0,0,0,0,0,0,null," "," "," "," "," "," "," "," "," "," "," "," "," "," "," "," "," "," "," "," "," "," "," "," "," "," "]
[null,null,null,null,null," ",null,null,null,null,null,null,null,null,null,null,null," : "," : "," : "," : "," : "," : "," : "," : "," : "," : "," : "," : "," : "," : "," : "," : "," : "," : "," : "," : "," : "," : "," : "," : "," : "," : "," : ",{"$f":"IF(E74>0,VLOOKUP($E74,'TCU Report'!$Z$4:$AA$35,2),99)","v":99},{"$f":"IF(G74>0,VLOOKUP($G74,'TCU Report'!$Z$4:$AA$35,2),99)","v":99},{"$f":"IF(H74>0,VLOOKUP($H74,'TCU Report'!$W$4:$Y$35,3),0)","v":0},{"$f":"IF(I74>0,VLOOKUP($I74,'TCU Report'!$W$4:$Y$35,3),0)","v":0},{"$f":"IF(J74>0,VLOOKUP($J74,'TCU Report'!$W$4:$Y$35,3),0)","v":0},{"$f":"IF(K74>0,VLOOKUP($K74,'TCU Report'!$W$4:$Y$35,3),0)","v":0},{"$f":"IF(L74>0,VLOOKUP($L74,'TCU Report'!$W$4:$Y$35,3),0)","v":0},{"$f":"IF(M74>0,VLOOKUP($M74,'TCU Report'!$W$4:$Y$35,3),0)","v":0},0,0,0,0,0,0,0,0,null," "," "," "," "," "," "," "," "," "," "," "," "," "," "," "," "," "," "," "," "," "," "," "," "," "," "]
[null,null,null,null,null," ",null,null,null,null,null,null,null,null,null,null,null," : "," : "," : "," : "," : "," : "," : "," : "," : "," : "," : "," : "," : "," : "," : "," : "," : "," : "," : "," : "," : "," : "," : "," : "," : "," : "," : ",{"$f":"IF(E75>0,VLOOKUP($E75,'TCU Report'!$Z$4:$AA$35,2),99)","v":99},{"$f":"IF(G75>0,VLOOKUP($G75,'TCU Report'!$Z$4:$AA$35,2),99)","v":99},{"$f":"IF(H75>0,VLOOKUP($H75,'TCU Report'!$W$4:$Y$35,3),0)","v":0},{"$f":"IF(I75>0,VLOOKUP($I75,'TCU Report'!$W$4:$Y$35,3),0)","v":0},{"$f":"IF(J75>0,VLOOKUP($J75,'TCU Report'!$W$4:$Y$35,3),0)","v":0},{"$f":"IF(K75>0,VLOOKUP($K75,'TCU Report'!$W$4:$Y$35,3),0)","v":0},{"$f":"IF(L75>0,VLOOKUP($L75,'TCU Report'!$W$4:$Y$35,3),0)","v":0},{"$f":"IF(M75>0,VLOOKUP($M75,'TCU Report'!$W$4:$Y$35,3),0)","v":0},0,0,0,0,0,0,0,0,null," "," "," "," "," "," "," "," "," "," "," "," "," "," "," "," "," "," "," "," "," "," "," "," "," "," "]
[null,null,null,null,null," ",null,null,null,null,null,null,null,null,null,null,null," : "," : "," : "," : "," : "," : "," : "," : "," : "," : "," : "," : "," : "," : "," : "," : "," : "," : "," : "," : "," : "," : "," : "," : "," : "," : "," : ",{"$f":"IF(E76>0,VLOOKUP($E76,'TCU Report'!$Z$4:$AA$35,2),99)","v":99},{"$f":"IF(G76>0,VLOOKUP($G76,'TCU Report'!$Z$4:$AA$35,2),99)","v":99},{"$f":"IF(H76>0,VLOOKUP($H76,'TCU Report'!$W$4:$Y$35,3),0)","v":0},{"$f":"IF(I76>0,VLOOKUP($I76,'TCU Report'!$W$4:$Y$35,3),0)","v":0},{"$f":"IF(J76>0,VLOOKUP($J76,'TCU Report'!$W$4:$Y$35,3),0)","v":0},{"$f":"IF(K76>0,VLOOKUP($K76,'TCU Report'!$W$4:$Y$35,3),0)","v":0},{"$f":"IF(L76>0,VLOOKUP($L76,'TCU Report'!$W$4:$Y$35,3),0)","v":0},{"$f":"IF(M76>0,VLOOKUP($M76,'TCU Report'!$W$4:$Y$35,3),0)","v":0},0,0,0,0,0,0,0,0,null," "," "," "," "," "," "," "," "," "," "," "," "," "," "," "," "," "," "," "," "," "," "," "," "," "," "]
[null,null,null,null,null," ",null,null,null,null,null,null,null,null,null,null,null," : "," : "," : "," : "," : "," : "," : "," : "," : "," : "," : "," : "," : "," : "," : "," : "," : "," : "," : "," : "," : "," : "," : "," : "," : "," : "," : ",{"$f":"IF(E77>0,VLOOKUP($E77,'TCU Report'!$Z$4:$AA$35,2),99)","v":99},{"$f":"IF(G77>0,VLOOKUP($G77,'TCU Report'!$Z$4:$AA$35,2),99)","v":99},{"$f":"IF(H77>0,VLOOKUP($H77,'TCU Report'!$W$4:$Y$35,3),0)","v":0},{"$f":"IF(I77>0,VLOOKUP($I77,'TCU Report'!$W$4:$Y$35,3),0)","v":0},{"$f":"IF(J77>0,VLOOKUP($J77,'TCU Report'!$W$4:$Y$35,3),0)","v":0},{"$f":"IF(K77>0,VLOOKUP($K77,'TCU Report'!$W$4:$Y$35,3),0)","v":0},{"$f":"IF(L77>0,VLOOKUP($L77,'TCU Report'!$W$4:$Y$35,3),0)","v":0},{"$f":"IF(M77>0,VLOOKUP($M77,'TCU Report'!$W$4:$Y$35,3),0)","v":0},0,0,0,0,0,0,0,0,null," "," "," "," "," "," "," "," "," "," "," "," "," "," "," "," "," "," "," "," "," "," "," "," "," "," "]
[null,null,null,null,null," ",null,null,null,null,null,null,null,null,null,null,null," : "," : "," : "," : "," : "," : "," : "," : "," : "," : "," : "," : "," : "," : "," : "," : "," : "," : "," : "," : "," : "," : "," : "," : "," : "," : "," : ",{"$f":"IF(E78>0,VLOOKUP($E78,'TCU Report'!$Z$4:$AA$35,2),99)","v":99},{"$f":"IF(G78>0,VLOOKUP($G78,'TCU Report'!$Z$4:$AA$35,2),99)","v":99},{"$f":"IF(H78>0,VLOOKUP($H78,'TCU Report'!$W$4:$Y$35,3),0)","v":0},{"$f":"IF(I78>0,VLOOKUP($I78,'TCU Report'!$W$4:$Y$35,3),0)","v":0},{"$f":"IF(J78>0,VLOOKUP($J78,'TCU Report'!$W$4:$Y$35,3),0)","v":0},{"$f":"IF(K78>0,VLOOKUP($K78,'TCU Report'!$W$4:$Y$35,3),0)","v":0},{"$f":"IF(L78>0,VLOOKUP($L78,'TCU Report'!$W$4:$Y$35,3),0)","v":0},{"$f":"IF(M78>0,VLOOKUP($M78,'TCU Report'!$W$4:$Y$35,3),0)","v":0},0,0,0,0,0,0,0,0,null," "," "," "," "," "," "," "," "," "," "," "," "," "," "," "," "," "," "," "," "," "," "," "," "," "," "]
[null,null,null,null,null," ",null,null,null,null,null,null,null,null,null,null,null," : "," : "," : "," : "," : "," : "," : "," : "," : "," : "," : "," : "," : "," : "," : "," : "," : "," : "," : "," : "," : "," : "," : "," : "," : "," : "," : ",{"$f":"IF(E79>0,VLOOKUP($E79,'TCU Report'!$Z$4:$AA$35,2),99)","v":99},{"$f":"IF(G79>0,VLOOKUP($G79,'TCU Report'!$Z$4:$AA$35,2),99)","v":99},{"$f":"IF(H79>0,VLOOKUP($H79,'TCU Report'!$W$4:$Y$35,3),0)","v":0},{"$f":"IF(I79>0,VLOOKUP($I79,'TCU Report'!$W$4:$Y$35,3),0)","v":0},{"$f":"IF(J79>0,VLOOKUP($J79,'TCU Report'!$W$4:$Y$35,3),0)","v":0},{"$f":"IF(K79>0,VLOOKUP($K79,'TCU Report'!$W$4:$Y$35,3),0)","v":0},{"$f":"IF(L79>0,VLOOKUP($L79,'TCU Report'!$W$4:$Y$35,3),0)","v":0},{"$f":"IF(M79>0,VLOOKUP($M79,'TCU Report'!$W$4:$Y$35,3),0)","v":0},0,0,0,0,0,0,0,0,null," "," "," "," "," "," "," "," "," "," "," "," "," "," "," "," "," "," "," "," "," "," "," "," "," "," "]
[null,null,null,null,null,{"$f":"IF(E80=\"\",\" \",\"v\")","v":" "},null,null,null,null,null,null,null,null,null,null,null," : "," : "," : "," : "," : "," : "," : "," : "," : "," : "," : "," : "," : "," : "," : "," : "," : "," : "," : "," : "," : "," : "," : "," : "," : "," : "," : ",{"$f":"IF(E80>0,VLOOKUP($E80,'TCU Report'!$Z$4:$AA$35,2),99)","v":99},{"$f":"IF(G80>0,VLOOKUP($G80,'TCU Report'!$Z$4:$AA$35,2),99)","v":99},{"$f":"IF(H80>0,VLOOKUP($H80,'TCU Report'!$W$4:$Y$35,3),0)","v":0},{"$f":"IF(I80>0,VLOOKUP($I80,'TCU Report'!$W$4:$Y$35,3),0)","v":0},{"$f":"IF(J80>0,VLOOKUP($J80,'TCU Report'!$W$4:$Y$35,3),0)","v":0},{"$f":"IF(K80>0,VLOOKUP($K80,'TCU Report'!$W$4:$Y$35,3),0)","v":0},{"$f":"IF(L80>0,VLOOKUP($L80,'TCU Report'!$W$4:$Y$35,3),0)","v":0},{"$f":"IF(M80>0,VLOOKUP($M80,'TCU Report'!$W$4:$Y$35,3),0)","v":0},0,0,0,0,0,0,0,0,null," "," "," "," "," "," "," "," "," "," "," "," "," "," "," "," "," "," "," "," "," "," "," "," "," "," "]
[null,null,null,null,null," ",null,null,null,null,null,null,null,null,null,null,null," : "," : "," : "," : "," : "," : "," : "," : "," : "," : "," : "," : "," : "," : "," : "," : "," : "," : "," : "," : "," : "," : "," : "," : "," : "," : "," : ",{"$f":"IF(E81>0,VLOOKUP($E81,'TCU Report'!$Z$4:$AA$35,2),99)","v":99},{"$f":"IF(G81>0,VLOOKUP($G81,'TCU Report'!$Z$4:$AA$35,2),99)","v":99},{"$f":"IF(H81>0,VLOOKUP($H81,'TCU Report'!$W$4:$Y$35,3),0)","v":0},{"$f":"IF(I81>0,VLOOKUP($I81,'TCU Report'!$W$4:$Y$35,3),0)","v":0},{"$f":"IF(J81>0,VLOOKUP($J81,'TCU Report'!$W$4:$Y$35,3),0)","v":0},{"$f":"IF(K81>0,VLOOKUP($K81,'TCU Report'!$W$4:$Y$35,3),0)","v":0},{"$f":"IF(L81>0,VLOOKUP($L81,'TCU Report'!$W$4:$Y$35,3),0)","v":0},{"$f":"IF(M81>0,VLOOKUP($M81,'TCU Report'!$W$4:$Y$35,3),0)","v":0},0,0,0,0,0,0,0,0,null," "," "," "," "," "," "," "," "," "," "," "," "," "," "," "," "," "," "," "," "," "," "," "," "," "," "]
[null,null,null,null,null," ",null,null,null,null,null,null,null,null,null,null,null," : "," : "," : "," : "," : "," : "," : "," : "," : "," : "," : "," : "," : "," : "," : "," : "," : "," : "," : "," : "," : "," : "," : "," : "," : "," : "," : ",{"$f":"IF(E82>0,VLOOKUP($E82,'TCU Report'!$Z$4:$AA$35,2),99)","v":99},{"$f":"IF(G82>0,VLOOKUP($G82,'TCU Report'!$Z$4:$AA$35,2),99)","v":99},{"$f":"IF(H82>0,VLOOKUP($H82,'TCU Report'!$W$4:$Y$35,3),0)","v":0},{"$f":"IF(I82>0,VLOOKUP($I82,'TCU Report'!$W$4:$Y$35,3),0)","v":0},{"$f":"IF(J82>0,VLOOKUP($J82,'TCU Report'!$W$4:$Y$35,3),0)","v":0},{"$f":"IF(K82>0,VLOOKUP($K82,'TCU Report'!$W$4:$Y$35,3),0)","v":0},{"$f":"IF(L82>0,VLOOKUP($L82,'TCU Report'!$W$4:$Y$35,3),0)","v":0},{"$f":"IF(M82>0,VLOOKUP($M82,'TCU Report'!$W$4:$Y$35,3),0)","v":0},0,0,0,0,0,0,0,0,null," "," "," "," "," "," "," "," "," "," "," "," "," "," "," "," "," "," "," "," "," "," "," "," "," "," "]
[null,null,null,null,null," ",null,null,null,null,null,null,null,null,null,null,null," : "," : "," : "," : "," : "," : "," : "," : "," : "," : "," : "," : "," : "," : "," : "," : "," : "," : "," : "," : "," : "," : "," : "," : "," : "," : "," : ",{"$f":"IF(E83>0,VLOOKUP($E83,'TCU Report'!$Z$4:$AA$35,2),99)","v":99},{"$f":"IF(G83>0,VLOOKUP($G83,'TCU Report'!$Z$4:$AA$35,2),99)","v":99},{"$f":"IF(H83>0,VLOOKUP($H83,'TCU Report'!$W$4:$Y$35,3),0)","v":0},{"$f":"IF(I83>0,VLOOKUP($I83,'TCU Report'!$W$4:$Y$35,3),0)","v":0},{"$f":"IF(J83>0,VLOOKUP($J83,'TCU Report'!$W$4:$Y$35,3),0)","v":0},{"$f":"IF(K83>0,VLOOKUP($K83,'TCU Report'!$W$4:$Y$35,3),0)","v":0},{"$f":"IF(L83>0,VLOOKUP($L83,'TCU Report'!$W$4:$Y$35,3),0)","v":0},{"$f":"IF(M83>0,VLOOKUP($M83,'TCU Report'!$W$4:$Y$35,3),0)","v":0},0,0,0,0,0,0,0,0,null," "," "," "," "," "," "," "," "," "," "," "," "," "," "," "," "," "," "," "," "," "," "," "," "," "," "]
[null,null,null,null,null," ",null,null,null,null,null,null,null,null,null,null,null," : "," : "," : "," : "," : "," : "," : "," : "," : "," : "," : "," : "," : "," : "," : "," : "," : "," : "," : "," : "," : "," : "," : "," : "," : "," : "," : ",{"$f":"IF(E84>0,VLOOKUP($E84,'TCU Report'!$Z$4:$AA$35,2),99)","v":99},{"$f":"IF(G84>0,VLOOKUP($G84,'TCU Report'!$Z$4:$AA$35,2),99)","v":99},{"$f":"IF(H84>0,VLOOKUP($H84,'TCU Report'!$W$4:$Y$35,3),0)","v":0},{"$f":"IF(I84>0,VLOOKUP($I84,'TCU Report'!$W$4:$Y$35,3),0)","v":0},{"$f":"IF(J84>0,VLOOKUP($J84,'TCU Report'!$W$4:$Y$35,3),0)","v":0},{"$f":"IF(K84>0,VLOOKUP($K84,'TCU Report'!$W$4:$Y$35,3),0)","v":0},{"$f":"IF(L84>0,VLOOKUP($L84,'TCU Report'!$W$4:$Y$35,3),0)","v":0},{"$f":"IF(M84>0,VLOOKUP($M84,'TCU Report'!$W$4:$Y$35,3),0)","v":0},0,0,0,0,0,0,0,0,null," "," "," "," "," "," "," "," "," "," "," "," "," "," "," "," "," "," "," "," "," "," "," "," "," "," "]
[null,null,null,null,null," ",null,null,null,null,null,null,null,null,null,null,null," : "," : "," : "," : "," : "," : "," : "," : "," : "," : "," : "," : "," : "," : "," : "," : "," : "," : "," : "," : "," : "," : "," : "," : "," : "," : "," : ",{"$f":"IF(E85>0,VLOOKUP($E85,'TCU Report'!$Z$4:$AA$35,2),99)","v":99},{"$f":"IF(G85>0,VLOOKUP($G85,'TCU Report'!$Z$4:$AA$35,2),99)","v":99},{"$f":"IF(H85>0,VLOOKUP($H85,'TCU Report'!$W$4:$Y$35,3),0)","v":0},{"$f":"IF(I85>0,VLOOKUP($I85,'TCU Report'!$W$4:$Y$35,3),0)","v":0},{"$f":"IF(J85>0,VLOOKUP($J85,'TCU Report'!$W$4:$Y$35,3),0)","v":0},{"$f":"IF(K85>0,VLOOKUP($K85,'TCU Report'!$W$4:$Y$35,3),0)","v":0},{"$f":"IF(L85>0,VLOOKUP($L85,'TCU Report'!$W$4:$Y$35,3),0)","v":0},{"$f":"IF(M85>0,VLOOKUP($M85,'TCU Report'!$W$4:$Y$35,3),0)","v":0},0,0,0,0,0,0,0,0,null," "," "," "," "," "," "," "," "," "," "," "," "," "," "," "," "," "," "," "," "," "," "," "," "," "," "]
[null,null,null,null,null," ",null,null,null,null,null,null,null,null,null,null,null," : "," : "," : "," : "," : "," : "," : "," : "," : "," : "," : "," : "," : "," : "," : "," : "," : "," : "," : "," : "," : "," : "," : "," : "," : "," : "," : ",{"$f":"IF(E86>0,VLOOKUP($E86,'TCU Report'!$Z$4:$AA$35,2),99)","v":99},{"$f":"IF(G86>0,VLOOKUP($G86,'TCU Report'!$Z$4:$AA$35,2),99)","v":99},{"$f":"IF(H86>0,VLOOKUP($H86,'TCU Report'!$W$4:$Y$35,3),0)","v":0},{"$f":"IF(I86>0,VLOOKUP($I86,'TCU Report'!$W$4:$Y$35,3),0)","v":0},{"$f":"IF(J86>0,VLOOKUP($J86,'TCU Report'!$W$4:$Y$35,3),0)","v":0},{"$f":"IF(K86>0,VLOOKUP($K86,'TCU Report'!$W$4:$Y$35,3),0)","v":0},{"$f":"IF(L86>0,VLOOKUP($L86,'TCU Report'!$W$4:$Y$35,3),0)","v":0},{"$f":"IF(M86>0,VLOOKUP($M86,'TCU Report'!$W$4:$Y$35,3),0)","v":0},0,0,0,0,0,0,0,0,null," "," "," "," "," "," "," "," "," "," "," "," "," "," "," "," "," "," "," "," "," "," "," "," "," "," "]
[null,null,null,null,null," ",null,null,null,null,null,null,null,null,null,null,null," : "," : "," : "," : "," : "," : "," : "," : "," : "," : "," : "," : "," : "," : "," : "," : "," : "," : "," : "," : "," : "," : "," : "," : "," : "," : "," : ",{"$f":"IF(E87>0,VLOOKUP($E87,'TCU Report'!$Z$4:$AA$35,2),99)","v":99},{"$f":"IF(G87>0,VLOOKUP($G87,'TCU Report'!$Z$4:$AA$35,2),99)","v":99},{"$f":"IF(H87>0,VLOOKUP($H87,'TCU Report'!$W$4:$Y$35,3),0)","v":0},{"$f":"IF(I87>0,VLOOKUP($I87,'TCU Report'!$W$4:$Y$35,3),0)","v":0},{"$f":"IF(J87>0,VLOOKUP($J87,'TCU Report'!$W$4:$Y$35,3),0)","v":0},{"$f":"IF(K87>0,VLOOKUP($K87,'TCU Report'!$W$4:$Y$35,3),0)","v":0},{"$f":"IF(L87>0,VLOOKUP($L87,'TCU Report'!$W$4:$Y$35,3),0)","v":0},{"$f":"IF(M87>0,VLOOKUP($M87,'TCU Report'!$W$4:$Y$35,3),0)","v":0},0,0,0,0,0,0,0,0,null," "," "," "," "," "," "," "," "," "," "," "," "," "," "," "," "," "," "," "," "," "," "," "," "," "," "]
[null,null,null,null,null," ",null,null,null,null,null,null,null,null,null,null,null," : "," : "," : "," : "," : "," : "," : "," : "," : "," : "," : "," : "," : "," : "," : "," : "," : "," : "," : "," : "," : "," : "," : "," : "," : "," : "," : ",{"$f":"IF(E88>0,VLOOKUP($E88,'TCU Report'!$Z$4:$AA$35,2),99)","v":99},{"$f":"IF(G88>0,VLOOKUP($G88,'TCU Report'!$Z$4:$AA$35,2),99)","v":99},{"$f":"IF(H88>0,VLOOKUP($H88,'TCU Report'!$W$4:$Y$35,3),0)","v":0},{"$f":"IF(I88>0,VLOOKUP($I88,'TCU Report'!$W$4:$Y$35,3),0)","v":0},{"$f":"IF(J88>0,VLOOKUP($J88,'TCU Report'!$W$4:$Y$35,3),0)","v":0},{"$f":"IF(K88>0,VLOOKUP($K88,'TCU Report'!$W$4:$Y$35,3),0)","v":0},{"$f":"IF(L88>0,VLOOKUP($L88,'TCU Report'!$W$4:$Y$35,3),0)","v":0},{"$f":"IF(M88>0,VLOOKUP($M88,'TCU Report'!$W$4:$Y$35,3),0)","v":0},0,0,0,0,0,0,0,0,null," "," "," "," "," "," "," "," "," "," "," "," "," "," "," "," "," "," "," "," "," "," "," "," "," "," "]
[null,null,null,null,null," ",null,null,null,null,null,null,null,null,null,null,null," : "," : "," : "," : "," : "," : "," : "," : "," : "," : "," : "," : "," : "," : "," : "," : "," : "," : "," : "," : "," : "," : "," : "," : "," : "," : "," : ",{"$f":"IF(E89>0,VLOOKUP($E89,'TCU Report'!$Z$4:$AA$35,2),99)","v":99},{"$f":"IF(G89>0,VLOOKUP($G89,'TCU Report'!$Z$4:$AA$35,2),99)","v":99},{"$f":"IF(H89>0,VLOOKUP($H89,'TCU Report'!$W$4:$Y$35,3),0)","v":0},{"$f":"IF(I89>0,VLOOKUP($I89,'TCU Report'!$W$4:$Y$35,3),0)","v":0},{"$f":"IF(J89>0,VLOOKUP($J89,'TCU Report'!$W$4:$Y$35,3),0)","v":0},{"$f":"IF(K89>0,VLOOKUP($K89,'TCU Report'!$W$4:$Y$35,3),0)","v":0},{"$f":"IF(L89>0,VLOOKUP($L89,'TCU Report'!$W$4:$Y$35,3),0)","v":0},{"$f":"IF(M89>0,VLOOKUP($M89,'TCU Report'!$W$4:$Y$35,3),0)","v":0},0,0,0,0,0,0,0,0,null," "," "," "," "," "," "," "," "," "," "," "," "," "," "," "," "," "," "," "," "," "," "," "," "," "," "]
[null,null,null,null,null," ",null,null,null,null,null,null,null,null,null,null,null," : "," : "," : "," : "," : "," : "," : "," : "," : "," : "," : "," : "," : "," : "," : "," : "," : "," : "," : "," : "," : "," : "," : "," : "," : "," : "," : ",{"$f":"IF(E90>0,VLOOKUP($E90,'TCU Report'!$Z$4:$AA$35,2),99)","v":99},{"$f":"IF(G90>0,VLOOKUP($G90,'TCU Report'!$Z$4:$AA$35,2),99)","v":99},{"$f":"IF(H90>0,VLOOKUP($H90,'TCU Report'!$W$4:$Y$35,3),0)","v":0},{"$f":"IF(I90>0,VLOOKUP($I90,'TCU Report'!$W$4:$Y$35,3),0)","v":0},{"$f":"IF(J90>0,VLOOKUP($J90,'TCU Report'!$W$4:$Y$35,3),0)","v":0},{"$f":"IF(K90>0,VLOOKUP($K90,'TCU Report'!$W$4:$Y$35,3),0)","v":0},{"$f":"IF(L90>0,VLOOKUP($L90,'TCU Report'!$W$4:$Y$35,3),0)","v":0},{"$f":"IF(M90>0,VLOOKUP($M90,'TCU Report'!$W$4:$Y$35,3),0)","v":0},0,0,0,0,0,0,0,0,null," "," "," "," "," "," "," "," "," "," "," "," "," "," "," "," "," "," "," "," "," "," "," "," "," "," "]
[null,null,null,null,null," ",null,null,null,null,null,null,null,null,null,null,null," : "," : "," : "," : "," : "," : "," : "," : "," : "," : "," : "," : "," : "," : "," : "," : "," : "," : "," : "," : "," : "," : "," : "," : "," : "," : "," : ",{"$f":"IF(E91>0,VLOOKUP($E91,'TCU Report'!$Z$4:$AA$35,2),99)","v":99},{"$f":"IF(G91>0,VLOOKUP($G91,'TCU Report'!$Z$4:$AA$35,2),99)","v":99},{"$f":"IF(H91>0,VLOOKUP($H91,'TCU Report'!$W$4:$Y$35,3),0)","v":0},{"$f":"IF(I91>0,VLOOKUP($I91,'TCU Report'!$W$4:$Y$35,3),0)","v":0},{"$f":"IF(J91>0,VLOOKUP($J91,'TCU Report'!$W$4:$Y$35,3),0)","v":0},{"$f":"IF(K91>0,VLOOKUP($K91,'TCU Report'!$W$4:$Y$35,3),0)","v":0},{"$f":"IF(L91>0,VLOOKUP($L91,'TCU Report'!$W$4:$Y$35,3),0)","v":0},{"$f":"IF(M91>0,VLOOKUP($M91,'TCU Report'!$W$4:$Y$35,3),0)","v":0},0,0,0,0,0,0,0,0,null," "," "," "," "," "," "," "," "," "," "," "," "," "," "," "," "," "," "," "," "," "," "," "," "," "," "]
[null,null,null,null,null," ",null,null,null,null,null,null,null,null,null,null,null," : "," : "," : "," : "," : "," : "," : "," : "," : "," : "," : "," : "," : "," : "," : "," : "," : "," : "," : "," : ",{"$f":"CONCATENATE(J92,\" : \",G92)","v":" : "}," : "," : "," : "," : "," : "," : ",{"$f":"IF(E92>0,VLOOKUP($E92,'TCU Report'!$Z$4:$AA$35,2),99)","v":99},{"$f":"IF(G92>0,VLOOKUP($G92,'TCU Report'!$Z$4:$AA$35,2),99)","v":99},{"$f":"IF(H92>0,VLOOKUP($H92,'TCU Report'!$W$4:$Y$35,3),0)","v":0},{"$f":"IF(I92>0,VLOOKUP($I92,'TCU Report'!$W$4:$Y$35,3),0)","v":0},{"$f":"IF(J92>0,VLOOKUP($J92,'TCU Report'!$W$4:$Y$35,3),0)","v":0},{"$f":"IF(K92>0,VLOOKUP($K92,'TCU Report'!$W$4:$Y$35,3),0)","v":0},{"$f":"IF(L92>0,VLOOKUP($L92,'TCU Report'!$W$4:$Y$35,3),0)","v":0},{"$f":"IF(M92>0,VLOOKUP($M92,'TCU Report'!$W$4:$Y$35,3),0)","v":0},0,0,0,0,0,0,0,0,null," "," "," "," "," "," "," "," "," "," "," "," "," "," "," "," "," "," "," "," "," "," "," "," "," "," "]
[null,null,null,null,null," ",null,null,null,null,null,null,null,null,null,null,null," : "," : "," : "," : "," : "," : "," : "," : "," : "," : "," : "," : "," : "," : "," : "," : "," : "," : "," : "," : "," : "," : "," : "," : "," : "," : "," : ",{"$f":"IF(E93>0,VLOOKUP($E93,'TCU Report'!$Z$4:$AA$35,2),99)","v":99},{"$f":"IF(G93>0,VLOOKUP($G93,'TCU Report'!$Z$4:$AA$35,2),99)","v":99},{"$f":"IF(H93>0,VLOOKUP($H93,'TCU Report'!$W$4:$Y$35,3),0)","v":0},{"$f":"IF(I93>0,VLOOKUP($I93,'TCU Report'!$W$4:$Y$35,3),0)","v":0},{"$f":"IF(J93>0,VLOOKUP($J93,'TCU Report'!$W$4:$Y$35,3),0)","v":0},{"$f":"IF(K93>0,VLOOKUP($K93,'TCU Report'!$W$4:$Y$35,3),0)","v":0},{"$f":"IF(L93>0,VLOOKUP($L93,'TCU Report'!$W$4:$Y$35,3),0)","v":0},{"$f":"IF(M93>0,VLOOKUP($M93,'TCU Report'!$W$4:$Y$35,3),0)","v":0},0,0,0,0,0,0,0,0,null," "," "," "," "," "," "," "," "," "," "," "," "," "," "," "," "," "," "," "," "," "," "," "," "," "," "]
[null,null,null,null,null," ",null,null,null,null,null,null,null,null,null,null,null," : "," : "," : "," : "," : "," : "," : "," : "," : "," : "," : "," : "," : "," : "," : "," : "," : "," : "," : "," : "," : "," : "," : "," : "," : "," : "," : ",{"$f":"IF(E94>0,VLOOKUP($E94,'TCU Report'!$Z$4:$AA$35,2),99)","v":99},{"$f":"IF(G94>0,VLOOKUP($G94,'TCU Report'!$Z$4:$AA$35,2),99)","v":99},{"$f":"IF(H94>0,VLOOKUP($H94,'TCU Report'!$W$4:$Y$35,3),0)","v":0},{"$f":"IF(I94>0,VLOOKUP($I94,'TCU Report'!$W$4:$Y$35,3),0)","v":0},{"$f":"IF(J94>0,VLOOKUP($J94,'TCU Report'!$W$4:$Y$35,3),0)","v":0},{"$f":"IF(K94>0,VLOOKUP($K94,'TCU Report'!$W$4:$Y$35,3),0)","v":0},{"$f":"IF(L94>0,VLOOKUP($L94,'TCU Report'!$W$4:$Y$35,3),0)","v":0},{"$f":"IF(M94>0,VLOOKUP($M94,'TCU Report'!$W$4:$Y$35,3),0)","v":0},0,0,0,0,0,0,0,0,null," "," "," "," "," "," "," "," "," "," "," "," "," "," "," "," "," "," "," "," "," "," "," "," "," "," "]
[null,null,null,null,null," ",null,null,null,null,null,null,null,null,null,null,null," : "," : "," : "," : "," : "," : "," : "," : "," : "," : "," : "," : "," : "," : "," : "," : "," : "," : "," : "," : "," : "," : "," : "," : "," : "," : "," : ",{"$f":"IF(E95>0,VLOOKUP($E95,'TCU Report'!$Z$4:$AA$35,2),99)","v":99},{"$f":"IF(G95>0,VLOOKUP($G95,'TCU Report'!$Z$4:$AA$35,2),99)","v":99},{"$f":"IF(H95>0,VLOOKUP($H95,'TCU Report'!$W$4:$Y$35,3),0)","v":0},{"$f":"IF(I95>0,VLOOKUP($I95,'TCU Report'!$W$4:$Y$35,3),0)","v":0},{"$f":"IF(J95>0,VLOOKUP($J95,'TCU Report'!$W$4:$Y$35,3),0)","v":0},{"$f":"IF(K95>0,VLOOKUP($K95,'TCU Report'!$W$4:$Y$35,3),0)","v":0},{"$f":"IF(L95>0,VLOOKUP($L95,'TCU Report'!$W$4:$Y$35,3),0)","v":0},{"$f":"IF(M95>0,VLOOKUP($M95,'TCU Report'!$W$4:$Y$35,3),0)","v":0},0,0,0,0,0,0,0,0,null," "," "," "," "," "," "," "," "," "," "," "," "," "," "," "," "," "," "," "," "," "," "," "," "," "," "]
[null,null,null,null,null," ",null,null,null,null,null,null,null,null,null,null,null," : "," : "," : "," : "," : "," : "," : "," : "," : "," : "," : "," : "," : "," : "," : "," : "," : "," : "," : "," : "," : "," : "," : "," : "," : "," : "," : ",{"$f":"IF(E96>0,VLOOKUP($E96,'TCU Report'!$Z$4:$AA$35,2),99)","v":99},{"$f":"IF(G96>0,VLOOKUP($G96,'TCU Report'!$Z$4:$AA$35,2),99)","v":99},{"$f":"IF(H96>0,VLOOKUP($H96,'TCU Report'!$W$4:$Y$35,3),0)","v":0},{"$f":"IF(I96>0,VLOOKUP($I96,'TCU Report'!$W$4:$Y$35,3),0)","v":0},{"$f":"IF(J96>0,VLOOKUP($J96,'TCU Report'!$W$4:$Y$35,3),0)","v":0},{"$f":"IF(K96>0,VLOOKUP($K96,'TCU Report'!$W$4:$Y$35,3),0)","v":0},{"$f":"IF(L96>0,VLOOKUP($L96,'TCU Report'!$W$4:$Y$35,3),0)","v":0},{"$f":"IF(M96>0,VLOOKUP($M96,'TCU Report'!$W$4:$Y$35,3),0)","v":0},0,0,0,0,0,0,0,0,null," "," "," "," "," "," "," "," "," "," "," "," "," "," "," "," "," "," "," "," "," "," "," "," "," "," "]
[null,null,null,null,null," ",null,null,null,null,null,null,null,null,null,null,null," : "," : "," : "," : "," : "," : "," : "," : "," : "," : "," : "," : "," : "," : "," : "," : "," : "," : "," : "," : "," : "," : "," : "," : "," : "," : "," : ",{"$f":"IF(E97>0,VLOOKUP($E97,'TCU Report'!$Z$4:$AA$35,2),99)","v":99},{"$f":"IF(G97>0,VLOOKUP($G97,'TCU Report'!$Z$4:$AA$35,2),99)","v":99},{"$f":"IF(H97>0,VLOOKUP($H97,'TCU Report'!$W$4:$Y$35,3),0)","v":0},{"$f":"IF(I97>0,VLOOKUP($I97,'TCU Report'!$W$4:$Y$35,3),0)","v":0},{"$f":"IF(J97>0,VLOOKUP($J97,'TCU Report'!$W$4:$Y$35,3),0)","v":0},{"$f":"IF(K97>0,VLOOKUP($K97,'TCU Report'!$W$4:$Y$35,3),0)","v":0},{"$f":"IF(L97>0,VLOOKUP($L97,'TCU Report'!$W$4:$Y$35,3),0)","v":0},{"$f":"IF(M97>0,VLOOKUP($M97,'TCU Report'!$W$4:$Y$35,3),0)","v":0},0,0,0,0,0,0,0,0,null," "," "," "," "," "," "," "," "," "," "," "," "," "," "," "," "," "," "," "," "," "," "," "," "," "," "]
[null,null,null,null,null," ",null,null,null,null,null,null,null,null,null,null,null," : "," : "," : "," : "," : "," : "," : "," : "," : "," : "," : "," : "," : "," : "," : "," : "," : "," : "," : "," : "," : "," : "," : "," : "," : "," : "," : ",{"$f":"IF(E98>0,VLOOKUP($E98,'TCU Report'!$Z$4:$AA$35,2),99)","v":99},{"$f":"IF(G98>0,VLOOKUP($G98,'TCU Report'!$Z$4:$AA$35,2),99)","v":99},{"$f":"IF(H98>0,VLOOKUP($H98,'TCU Report'!$W$4:$Y$35,3),0)","v":0},{"$f":"IF(I98>0,VLOOKUP($I98,'TCU Report'!$W$4:$Y$35,3),0)","v":0},{"$f":"IF(J98>0,VLOOKUP($J98,'TCU Report'!$W$4:$Y$35,3),0)","v":0},{"$f":"IF(K98>0,VLOOKUP($K98,'TCU Report'!$W$4:$Y$35,3),0)","v":0},{"$f":"IF(L98>0,VLOOKUP($L98,'TCU Report'!$W$4:$Y$35,3),0)","v":0},{"$f":"IF(M98>0,VLOOKUP($M98,'TCU Report'!$W$4:$Y$35,3),0)","v":0},0,0,0,0,0,0,0,0,null," "," "," "," "," "," "," "," "," "," "," "," "," "," "," "," "," "," "," "," "," "," "," "," "," "," "]
[null,null,null,null,null," ",null,null,null,null,null,null,null,null,null,null,null," : "," : "," : "," : "," : "," : "," : "," : "," : "," : "," : "," : "," : "," : "," : ",{"$f":"CONCATENATE(H99,\" : \",E99)","v":" : "},{"$f":"CONCATENATE(H99,\" : \",G99)","v":" : "},{"$f":"CONCATENATE(I99,\" : \",E99)","v":" : "},{"$f":"CONCATENATE(I99,\" : \",G99)","v":" : "},{"$f":"CONCATENATE(J99,\" : \",E99)","v":" : "}," : ",{"$f":"CONCATENATE(K99,\" : \",E99)","v":" : "},{"$f":"CONCATENATE(K99,\" : \",G99)","v":" : "}," : "," : "," : "," : ",{"$f":"IF(E99>0,VLOOKUP($E99,'TCU Report'!$Z$4:$AA$35,2),99)","v":99},{"$f":"IF(G99>0,VLOOKUP($G99,'TCU Report'!$Z$4:$AA$35,2),99)","v":99},{"$f":"IF(H99>0,VLOOKUP($H99,'TCU Report'!$W$4:$Y$35,3),0)","v":0},{"$f":"IF(I99>0,VLOOKUP($I99,'TCU Report'!$W$4:$Y$35,3),0)","v":0},{"$f":"IF(J99>0,VLOOKUP($J99,'TCU Report'!$W$4:$Y$35,3),0)","v":0},{"$f":"IF(K99>0,VLOOKUP($K99,'TCU Report'!$W$4:$Y$35,3),0)","v":0},{"$f":"IF(L99>0,VLOOKUP($L99,'TCU Report'!$W$4:$Y$35,3),0)","v":0},{"$f":"IF(M99>0,VLOOKUP($M99,'TCU Report'!$W$4:$Y$35,3),0)","v":0},0,0,0,0,0,0,0,0,null," "," "," "," "," "," "," "," "," "," "," "," "," "," "," "," "," "," "," "," "," "," "," "," "," "," "]
[null,null,null,null,null," ",null,null,null,null,null,null,null,null,null,null,null," : "," : "," : "," : "," : "," : "," : "," : "," : "," : "," : "," : "," : "," : "," : "," : "," : "," : "," : "," : "," : "," : "," : "," : "," : "," : "," : ",{"$f":"IF(E100>0,VLOOKUP($E100,'TCU Report'!$Z$4:$AA$35,2),99)","v":99},{"$f":"IF(G100>0,VLOOKUP($G100,'TCU Report'!$Z$4:$AA$35,2),99)","v":99},{"$f":"IF(H100>0,VLOOKUP($H100,'TCU Report'!$W$4:$Y$35,3),0)","v":0},{"$f":"IF(I100>0,VLOOKUP($I100,'TCU Report'!$W$4:$Y$35,3),0)","v":0},{"$f":"IF(J100>0,VLOOKUP($J100,'TCU Report'!$W$4:$Y$35,3),0)","v":0},{"$f":"IF(K100>0,VLOOKUP($K100,'TCU Report'!$W$4:$Y$35,3),0)","v":0},{"$f":"IF(L100>0,VLOOKUP($L100,'TCU Report'!$W$4:$Y$35,3),0)","v":0},{"$f":"IF(M100>0,VLOOKUP($M100,'TCU Report'!$W$4:$Y$35,3),0)","v":0},0,0,0,0,0,0,0,0,null,{"$f":"IF($H100=$BJ$3,$H$3,IF($I100=$BJ$3,$I$3,IF($J100=$BJ$3,$J$3,IF($K100=$BJ$3,$K$3,IF($L100=$BJ$3,$L$3,IF($M100=$BJ$3,$M$3,\" \"))))))","v":" "},{"$f":"IF($H100=$BK$3,$H$3,IF($I100=$BK$3,$I$3,IF($J100=$BK$3,$J$3,IF($K100=$BK$3,$K$3,IF($L100=$BK$3,$L$3,IF($M100=$BK$3,$M$3,\" \"))))))","v":" "},{"$f":"IF($H100=$BL$3,$H$3,IF($I100=$BL$3,$I$3,IF($J100=$BL$3,$J$3,IF($K100=$BL$3,$K$3,IF($L100=$BL$3,$L$3,IF($M100=$BL$3,$M$3,\" \"))))))","v":" "},{"$f":"IF($H100=$BM$3,$H$3,IF($I100=$BM$3,$I$3,IF($J100=$BM$3,$J$3,IF($K100=$BM$3,$K$3,IF($L100=$BM$3,$L$3,IF($M100=$BM$3,$M$3,\" \"))))))","v":" "},{"$f":"IF($H100=$BN$3,$H$3,IF($I100=$BN$3,$I$3,IF($J100=$BN$3,$J$3,IF($K100=$BN$3,$K$3,IF($L100=$BN$3,$L$3,IF($M100=$BN$3,$M$3,\" \"))))))","v":" "},{"$f":"IF($H100=$BO$3,$H$3,IF($I100=$BO$3,$I$3,IF($J100=$BO$3,$J$3,IF($K100=$BO$3,$K$3,IF($L100=$BO$3,$L$3,IF($M100=$BO$3,$M$3,\" \"))))))","v":" "},{"$f":"IF($H100=$BP$3,$H$3,IF($I100=$BP$3,$I$3,IF($J100=$BP$3,$J$3,IF($K100=$BP$3,$K$3,IF($L100=$BP$3,$L$3,IF($M100=$BP$3,$M$3,\" \"))))))","v":" "},{"$f":"IF($H100=$BQ$3,$H$3,IF($I100=$BQ$3,$I$3,IF($J100=$BQ$3,$J$3,IF($K100=$BQ$3,$K$3,IF($L100=$BQ$3,$L$3,IF($M100=$BQ$3,$M$3,\" \"))))))","v":" "},{"$f":"IF($H100=$BR$3,$H$3,IF($I100=$BR$3,$I$3,IF($J100=$BR$3,$J$3,IF($K100=$BR$3,$K$3,IF($L100=$BR$3,$L$3,IF($M100=$BR$3,$M$3,\" \"))))))","v":" "},{"$f":"IF($H100=$BS$3,$H$3,IF($I100=$BS$3,$I$3,IF($J100=$BS$3,$J$3,IF($K100=$BS$3,$K$3,IF($L100=$BS$3,$L$3,IF($M100=$BS$3,$M$3,\" \"))))))","v":" "},{"$f":"IF($H100=$BT$3,$H$3,IF($I100=$BT$3,$I$3,IF($J100=$BT$3,$J$3,IF($K100=$BT$3,$K$3,IF($L100=$BT$3,$L$3,IF($M100=$BT$3,$M$3,\" \"))))))","v":" "},{"$f":"IF($H100=$BU$3,$H$3,IF($I100=$BU$3,$I$3,IF($J100=$BU$3,$J$3,IF($K100=$BU$3,$K$3,IF($L100=$BU$3,$L$3,IF($M100=$BU$3,$M$3,\" \"))))))","v":" "},{"$f":"IF($H100=$BV$3,$H$3,IF($I100=$BV$3,$I$3,IF($J100=$BV$3,$J$3,IF($K100=$BV$3,$K$3,IF($L100=$BV$3,$L$3,IF($M100=$BV$3,$M$3,\" \"))))))","v":" "},{"$f":"IF($H100=$BW$3,$H$3,IF($I100=$BW$3,$I$3,IF($J100=$BW$3,$J$3,IF($K100=$BW$3,$K$3,IF($L100=$BW$3,$L$3,IF($M100=$BW$3,$M$3,\" \"))))))","v":" "},{"$f":"IF($H100=$BX$3,$H$3,IF($I100=$BX$3,$I$3,IF($J100=$BX$3,$J$3,IF($K100=$BX$3,$K$3,IF($L100=$BX$3,$L$3,IF($M100=$BX$3,$M$3,\" \"))))))","v":" "},{"$f":"IF($H100=$BY$3,$H$3,IF($I100=$BY$3,$I$3,IF($J100=$BY$3,$J$3,IF($K100=$BY$3,$K$3,IF($L100=$BY$3,$L$3,IF($M100=$BY$3,$M$3,\" \"))))))","v":" "},{"$f":"IF($H100=$BZ$3,$H$3,IF($I100=$BZ$3,$I$3,IF($J100=$BZ$3,$J$3,IF($K100=$BZ$3,$K$3,IF($L100=$BZ$3,$L$3,IF($M100=$BZ$3,$M$3,\" \"))))))","v":" "},{"$f":"IF($H100=$CA$3,$H$3,IF($I100=$CA$3,$I$3,IF($J100=$CA$3,$J$3,IF($K100=$CA$3,$K$3,IF($L100=$CA$3,$L$3,IF($M100=$CA$3,$M$3,\" \"))))))","v":" "},{"$f":"IF($H100=$CB$3,$H$3,IF($I100=$CB$3,$I$3,IF($J100=$CB$3,$J$3,IF($K100=$CB$3,$K$3,IF($L100=$CB$3,$L$3,IF($M100=$CB$3,$M$3,\" \"))))))","v":" "},{"$f":"IF($H100=$CC$3,$H$3,IF($I100=$CC$3,$I$3,IF($J100=$CC$3,$J$3,IF($K100=$CC$3,$K$3,IF($L100=$CC$3,$L$3,IF($M100=$CC$3,$M$3,\" \"))))))","v":" "},{"$f":"IF($H100=$CD$3,$H$3,IF($I100=$CD$3,$I$3,IF($J100=$CD$3,$J$3,IF($K100=$CD$3,$K$3,IF($L100=$CD$3,$L$3,IF($M100=$CD$3,$M$3,\" \"))))))","v":" "},{"$f":"IF($H100=$CE$3,$H$3,IF($I100=$CE$3,$I$3,IF($J100=$CE$3,$J$3,IF($K100=$CE$3,$K$3,IF($L100=$CE$3,$L$3,IF($M100=$CE$3,$M$3,\" \"))))))","v":" "},{"$f":"IF($H100=$CF$3,$H$3,IF($I100=$CF$3,$I$3,IF($J100=$CF$3,$J$3,IF($K100=$CF$3,$K$3,IF($L100=$CF$3,$L$3,IF($M100=$CF$3,$M$3,\" \"))))))","v":" "},{"$f":"IF($H100=$CG$3,$H$3,IF($I100=$CG$3,$I$3,IF($J100=$CG$3,$J$3,IF($K100=$CG$3,$K$3,IF($L100=$CG$3,$L$3,IF($M100=$CG$3,$M$3,\" \"))))))","v":" "},{"$f":"IF($H100=$CH$3,$H$3,IF($I100=$CH$3,$I$3,IF($J100=$CH$3,$J$3,IF($K100=$CH$3,$K$3,IF($L100=$CH$3,$L$3,IF($M100=$CH$3,$M$3,\" \"))))))","v":" "},{"$f":"IF($H100=$CI$3,$H$3,IF($I100=$CI$3,$I$3,IF($J100=$CI$3,$J$3,IF($K100=$CI$3,$K$3,IF($L100=$CI$3,$L$3,IF($M100=$CI$3,$M$3,\" \"))))))","v":" "}]
[null,null,null,null,null," ",null,null,null,null,null,null,null,null,null,null,null," : "," : "," : "," : "," : "," : "," : "," : "," : "," : "," : "," : "," : "," : "," : "," : "," : "," : "," : "," : "," : "," : "," : "," : "," : "," : "," : ",{"$f":"IF(E101>0,VLOOKUP($E101,'TCU Report'!$Z$4:$AA$35,2),99)","v":99},{"$f":"IF(G101>0,VLOOKUP($G101,'TCU Report'!$Z$4:$AA$35,2),99)","v":99},{"$f":"IF(H101>0,VLOOKUP($H101,'TCU Report'!$W$4:$Y$35,3),0)","v":0},{"$f":"IF(I101>0,VLOOKUP($I101,'TCU Report'!$W$4:$Y$35,3),0)","v":0},{"$f":"IF(J101>0,VLOOKUP($J101,'TCU Report'!$W$4:$Y$35,3),0)","v":0},{"$f":"IF(K101>0,VLOOKUP($K101,'TCU Report'!$W$4:$Y$35,3),0)","v":0},{"$f":"IF(L101>0,VLOOKUP($L101,'TCU Report'!$W$4:$Y$35,3),0)","v":0},{"$f":"IF(M101>0,VLOOKUP($M101,'TCU Report'!$W$4:$Y$35,3),0)","v":0},0,0,0,0,0,0,0,0,null," "," "," "," "," "," "," "," "," "," "," "," "," "," "," "," "," "," "," "," "," "," "," "," "," "," "]
[null,null,null,null,null," ",null,null,null,null,null,null,null,null,null,null,null," : "," : "," : "," : "," : "," : "," : "," : "," : "," : "," : "," : "," : "," : "," : "," : "," : "," : "," : "," : "," : "," : "," : "," : "," : "," : "," : ",{"$f":"IF(E102>0,VLOOKUP($E102,'TCU Report'!$Z$4:$AA$35,2),99)","v":99},{"$f":"IF(G102>0,VLOOKUP($G102,'TCU Report'!$Z$4:$AA$35,2),99)","v":99},{"$f":"IF(H102>0,VLOOKUP($H102,'TCU Report'!$W$4:$Y$35,3),0)","v":0},{"$f":"IF(I102>0,VLOOKUP($I102,'TCU Report'!$W$4:$Y$35,3),0)","v":0},{"$f":"IF(J102>0,VLOOKUP($J102,'TCU Report'!$W$4:$Y$35,3),0)","v":0},{"$f":"IF(K102>0,VLOOKUP($K102,'TCU Report'!$W$4:$Y$35,3),0)","v":0},{"$f":"IF(L102>0,VLOOKUP($L102,'TCU Report'!$W$4:$Y$35,3),0)","v":0},{"$f":"IF(M102>0,VLOOKUP($M102,'TCU Report'!$W$4:$Y$35,3),0)","v":0},0,0,0,0,0,0,0,0,null," "," "," "," "," "," "," "," "," "," "," "," "," "," "," "," "," "," "," "," "," "," "," "," "," "," "]
[null,null,null,null,null," ",null,null,null,null,null,null,null,null,null,null,null," : "," : "," : "," : "," : "," : "," : "," : "," : "," : "," : "," : "," : "," : "," : "," : "," : "," : "," : "," : "," : "," : "," : "," : "," : "," : "," : ",{"$f":"IF(E103>0,VLOOKUP($E103,'TCU Report'!$Z$4:$AA$35,2),99)","v":99},{"$f":"IF(G103>0,VLOOKUP($G103,'TCU Report'!$Z$4:$AA$35,2),99)","v":99},{"$f":"IF(H103>0,VLOOKUP($H103,'TCU Report'!$W$4:$Y$35,3),0)","v":0},{"$f":"IF(I103>0,VLOOKUP($I103,'TCU Report'!$W$4:$Y$35,3),0)","v":0},{"$f":"IF(J103>0,VLOOKUP($J103,'TCU Report'!$W$4:$Y$35,3),0)","v":0},{"$f":"IF(K103>0,VLOOKUP($K103,'TCU Report'!$W$4:$Y$35,3),0)","v":0},{"$f":"IF(L103>0,VLOOKUP($L103,'TCU Report'!$W$4:$Y$35,3),0)","v":0},{"$f":"IF(M103>0,VLOOKUP($M103,'TCU Report'!$W$4:$Y$35,3),0)","v":0},0,0,0,0,0,0,0,0,null," "," "," "," "," "," "," "," "," "," "," "," "," "," "," "," "," "," "," "," "," "," "," "," "," "," "]
[null,null,null,null,null," ",null,null,null,null,null,null,null,null,null,null,null," : "," : "," : "," : "," : "," : "," : "," : "," : "," : "," : "," : "," : "," : "," : "," : "," : "," : "," : "," : "," : "," : "," : "," : "," : "," : "," : ",{"$f":"IF(E104>0,VLOOKUP($E104,'TCU Report'!$Z$4:$AA$35,2),99)","v":99},{"$f":"IF(G104>0,VLOOKUP($G104,'TCU Report'!$Z$4:$AA$35,2),99)","v":99},{"$f":"IF(H104>0,VLOOKUP($H104,'TCU Report'!$W$4:$Y$35,3),0)","v":0},{"$f":"IF(I104>0,VLOOKUP($I104,'TCU Report'!$W$4:$Y$35,3),0)","v":0},{"$f":"IF(J104>0,VLOOKUP($J104,'TCU Report'!$W$4:$Y$35,3),0)","v":0},{"$f":"IF(K104>0,VLOOKUP($K104,'TCU Report'!$W$4:$Y$35,3),0)","v":0},{"$f":"IF(L104>0,VLOOKUP($L104,'TCU Report'!$W$4:$Y$35,3),0)","v":0},{"$f":"IF(M104>0,VLOOKUP($M104,'TCU Report'!$W$4:$Y$35,3),0)","v":0},0,0,0,0,0,0,0,0,null," "," "," "," "," "," "," "," "," "," "," "," "," "," "," "," "," "," "," "," "," "," "," "," "," "," "]
[null,null,null,null,null," ",null,null,null,null,null,null,null,null,null,null,null," : "," : "," : "," : "," : "," : "," : "," : "," : "," : "," : "," : "," : "," : "," : "," : "," : "," : "," : "," : "," : "," : "," : "," : "," : "," : "," : ",{"$f":"IF(E105>0,VLOOKUP($E105,'TCU Report'!$Z$4:$AA$35,2),99)","v":99},{"$f":"IF(G105>0,VLOOKUP($G105,'TCU Report'!$Z$4:$AA$35,2),99)","v":99},{"$f":"IF(H105>0,VLOOKUP($H105,'TCU Report'!$W$4:$Y$35,3),0)","v":0},{"$f":"IF(I105>0,VLOOKUP($I105,'TCU Report'!$W$4:$Y$35,3),0)","v":0},{"$f":"IF(J105>0,VLOOKUP($J105,'TCU Report'!$W$4:$Y$35,3),0)","v":0},{"$f":"IF(K105>0,VLOOKUP($K105,'TCU Report'!$W$4:$Y$35,3),0)","v":0},{"$f":"IF(L105>0,VLOOKUP($L105,'TCU Report'!$W$4:$Y$35,3),0)","v":0},{"$f":"IF(M105>0,VLOOKUP($M105,'TCU Report'!$W$4:$Y$35,3),0)","v":0},0,0,0,0,0,0,0,0,null," "," "," "," "," "," "," "," "," "," "," "," "," "," "," "," "," "," "," "," "," "," "," "," "," "," "]
[null,null,null,null,null," ",null,null,null,null,null,null,null,null,null,null,null," : "," : "," : "," : "," : "," : "," : "," : "," : "," : "," : "," : "," : "," : "," : "," : "," : "," : "," : "," : "," : "," : "," : "," : "," : "," : "," : ",{"$f":"IF(E106>0,VLOOKUP($E106,'TCU Report'!$Z$4:$AA$35,2),99)","v":99},{"$f":"IF(G106>0,VLOOKUP($G106,'TCU Report'!$Z$4:$AA$35,2),99)","v":99},{"$f":"IF(H106>0,VLOOKUP($H106,'TCU Report'!$W$4:$Y$35,3),0)","v":0},{"$f":"IF(I106>0,VLOOKUP($I106,'TCU Report'!$W$4:$Y$35,3),0)","v":0},{"$f":"IF(J106>0,VLOOKUP($J106,'TCU Report'!$W$4:$Y$35,3),0)","v":0},{"$f":"IF(K106>0,VLOOKUP($K106,'TCU Report'!$W$4:$Y$35,3),0)","v":0},{"$f":"IF(L106>0,VLOOKUP($L106,'TCU Report'!$W$4:$Y$35,3),0)","v":0},{"$f":"IF(M106>0,VLOOKUP($M106,'TCU Report'!$W$4:$Y$35,3),0)","v":0},0,0,0,0,0,0,0,0,null," "," "," "," "," "," "," "," "," "," "," "," "," "," "," "," "," "," "," "," "," "," "," "," "," "," "]
[null,null,null,null,null," ",null,null,null,null,null,null,null,null,null,null,null," : "," : "," : "," : "," : "," : "," : "," : "," : "," : "," : "," : "," : "," : "," : "," : "," : "," : "," : "," : "," : "," : "," : "," : "," : "," : "," : ",{"$f":"IF(E107>0,VLOOKUP($E107,'TCU Report'!$Z$4:$AA$35,2),99)","v":99},{"$f":"IF(G107>0,VLOOKUP($G107,'TCU Report'!$Z$4:$AA$35,2),99)","v":99},{"$f":"IF(H107>0,VLOOKUP($H107,'TCU Report'!$W$4:$Y$35,3),0)","v":0},{"$f":"IF(I107>0,VLOOKUP($I107,'TCU Report'!$W$4:$Y$35,3),0)","v":0},{"$f":"IF(J107>0,VLOOKUP($J107,'TCU Report'!$W$4:$Y$35,3),0)","v":0},{"$f":"IF(K107>0,VLOOKUP($K107,'TCU Report'!$W$4:$Y$35,3),0)","v":0},{"$f":"IF(L107>0,VLOOKUP($L107,'TCU Report'!$W$4:$Y$35,3),0)","v":0},{"$f":"IF(M107>0,VLOOKUP($M107,'TCU Report'!$W$4:$Y$35,3),0)","v":0},0,0,0,0,0,0,0,0,null," "," "," "," "," "," "," "," "," "," "," "," "," "," "," "," "," "," "," "," "," "," "," "," "," "," "]
[null,null,null,null,null," ",null,null,null,null,null,null,null,null,null,null,null," : "," : "," : "," : "," : "," : "," : "," : "," : "," : "," : "," : "," : "," : "," : "," : "," : "," : "," : "," : "," : "," : "," : "," : "," : "," : "," : ",{"$f":"IF(E108>0,VLOOKUP($E108,'TCU Report'!$Z$4:$AA$35,2),99)","v":99},{"$f":"IF(G108>0,VLOOKUP($G108,'TCU Report'!$Z$4:$AA$35,2),99)","v":99},{"$f":"IF(H108>0,VLOOKUP($H108,'TCU Report'!$W$4:$Y$35,3),0)","v":0},{"$f":"IF(I108>0,VLOOKUP($I108,'TCU Report'!$W$4:$Y$35,3),0)","v":0},{"$f":"IF(J108>0,VLOOKUP($J108,'TCU Report'!$W$4:$Y$35,3),0)","v":0},{"$f":"IF(K108>0,VLOOKUP($K108,'TCU Report'!$W$4:$Y$35,3),0)","v":0},{"$f":"IF(L108>0,VLOOKUP($L108,'TCU Report'!$W$4:$Y$35,3),0)","v":0},{"$f":"IF(M108>0,VLOOKUP($M108,'TCU Report'!$W$4:$Y$35,3),0)","v":0},0,0,0,0,0,0,0,0,null," "," "," "," "," "," "," "," "," "," "," "," "," "," "," "," "," "," "," "," "," "," "," "," "," "," "]
[null,null,null,null,null," ",null,null,null,null,null,null,null,null,null,null,null," : "," : "," : "," : "," : "," : "," : "," : "," : "," : "," : "," : "," : "," : "," : "," : "," : "," : "," : "," : "," : "," : "," : "," : "," : "," : "," : ",{"$f":"IF(E109>0,VLOOKUP($E109,'TCU Report'!$Z$4:$AA$35,2),99)","v":99},{"$f":"IF(G109>0,VLOOKUP($G109,'TCU Report'!$Z$4:$AA$35,2),99)","v":99},{"$f":"IF(H109>0,VLOOKUP($H109,'TCU Report'!$W$4:$Y$35,3),0)","v":0},{"$f":"IF(I109>0,VLOOKUP($I109,'TCU Report'!$W$4:$Y$35,3),0)","v":0},{"$f":"IF(J109>0,VLOOKUP($J109,'TCU Report'!$W$4:$Y$35,3),0)","v":0},{"$f":"IF(K109>0,VLOOKUP($K109,'TCU Report'!$W$4:$Y$35,3),0)","v":0},{"$f":"IF(L109>0,VLOOKUP($L109,'TCU Report'!$W$4:$Y$35,3),0)","v":0},{"$f":"IF(M109>0,VLOOKUP($M109,'TCU Report'!$W$4:$Y$35,3),0)","v":0},0,0,0,0,0,0,0,0,null," "," "," "," "," "," "," "," "," "," "," "," "," "," "," "," "," "," "," "," "," "," "," "," "," "," "]
[null,null,null,null,null," ",null,null,null,null,null,null,null,null,null,null,null," : "," : "," : "," : "," : "," : "," : "," : "," : "," : "," : "," : "," : "," : "," : "," : "," : "," : "," : "," : "," : "," : "," : "," : "," : "," : "," : ",{"$f":"IF(E110>0,VLOOKUP($E110,'TCU Report'!$Z$4:$AA$35,2),99)","v":99},{"$f":"IF(G110>0,VLOOKUP($G110,'TCU Report'!$Z$4:$AA$35,2),99)","v":99},{"$f":"IF(H110>0,VLOOKUP($H110,'TCU Report'!$W$4:$Y$35,3),0)","v":0},{"$f":"IF(I110>0,VLOOKUP($I110,'TCU Report'!$W$4:$Y$35,3),0)","v":0},{"$f":"IF(J110>0,VLOOKUP($J110,'TCU Report'!$W$4:$Y$35,3),0)","v":0},{"$f":"IF(K110>0,VLOOKUP($K110,'TCU Report'!$W$4:$Y$35,3),0)","v":0},{"$f":"IF(L110>0,VLOOKUP($L110,'TCU Report'!$W$4:$Y$35,3),0)","v":0},{"$f":"IF(M110>0,VLOOKUP($M110,'TCU Report'!$W$4:$Y$35,3),0)","v":0},0,0,0,0,0,0,0,0,null," "," "," "," "," "," "," "," "," "," "," "," "," "," "," "," "," "," "," "," "," "," "," "," "," "," "]
[null,null,null,null,null," ",null,null,null,null,null,null,null,null,null,null,null," : "," : "," : "," : "," : "," : "," : "," : "," : "," : "," : "," : "," : "," : "," : "," : "," : "," : "," : "," : "," : "," : "," : "," : "," : "," : "," : ",{"$f":"IF(E111>0,VLOOKUP($E111,'TCU Report'!$Z$4:$AA$35,2),99)","v":99},{"$f":"IF(G111>0,VLOOKUP($G111,'TCU Report'!$Z$4:$AA$35,2),99)","v":99},{"$f":"IF(H111>0,VLOOKUP($H111,'TCU Report'!$W$4:$Y$35,3),0)","v":0},{"$f":"IF(I111>0,VLOOKUP($I111,'TCU Report'!$W$4:$Y$35,3),0)","v":0},{"$f":"IF(J111>0,VLOOKUP($J111,'TCU Report'!$W$4:$Y$35,3),0)","v":0},{"$f":"IF(K111>0,VLOOKUP($K111,'TCU Report'!$W$4:$Y$35,3),0)","v":0},{"$f":"IF(L111>0,VLOOKUP($L111,'TCU Report'!$W$4:$Y$35,3),0)","v":0},{"$f":"IF(M111>0,VLOOKUP($M111,'TCU Report'!$W$4:$Y$35,3),0)","v":0},0,0,0,0,0,0,0,0,null," "," "," "," "," "," "," "," "," "," "," "," "," "," "," "," "," "," "," "," "," "," "," "," "," "," "]
[null,null,null,null,null,null,null,null,null,null,null,null,null,null,null,null,null,null,null,null,null,null,null,null,null,null,null,null,null,null,null,null,null,null,null,null,null,null,null,null,null,null,null,null,null,null,null,null,null,null,null,null,null,null,null,null,null,null,null,null,null,{"$f":"IF(H112=$BJ$3,$H$3,IF(I112=$BJ$3,$I$3,IF(J112=$BJ$3,$J$3,IF(K112=$BJ$3,$K$3,\" \"))))","v":" "},null,null,null,null,null,null,null,null,null,null,null,null,null,null,{"$f":"IF($H112=$AS$3,$H$3,IF($I112=$AS$3,$I$3,IF($J112=$AS$3,$J$3,IF($K112=$AS$3,$K$3,IF($L112=$AS$3,$L$4,IF($M112=$AS$3,$M$4,\" \"))))))","v":" "}," "," "," "," "," "," "," "," "," "," "]

{"sheet":"Appointments","index":2,"n_rows":40,"n_cols":31,"rows_kept":40,"cut":false,"hidden":false,"merged":[]}
[null,{"$f":"IF(DATA!$F4=\"\",\" \",DATA!$F4)","v":" "},{"$f":"IF(DATA!$F5=\"\",\" \",DATA!$F5)","v":" "},{"$f":"IF(DATA!$F6=\"\",\" \",DATA!$F6)","v":" "},{"$f":"IF(DATA!$F7=\"\",\" \",DATA!$F7)","v":" "},{"$f":"IF(DATA!$F8=\"\",\" \",DATA!$F8)","v":" "},{"$f":"IF(DATA!$F9=\"\",\" \",DATA!$F9)","v":" "},{"$f":"IF(DATA!$F10=\"\",\" \",DATA!$F10)","v":" "},{"$f":"IF(DATA!$F11=\"\",\" \",DATA!$F11)","v":" "},{"$f":"IF(DATA!$F12=\"\",\" \",DATA!$F12)","v":" "},{"$f":"IF(DATA!$F13=\"\",\" \",DATA!$F13)","v":" "},{"$f":"IF(DATA!$F14=\"\",\" \",DATA!$F14)","v":" "},{"$f":"IF(DATA!$F15=\"\",\" \",DATA!$F15)","v":" "},{"$f":"IF(DATA!$F16=\"\",\" \",DATA!$F16)","v":" "},{"$f":"IF(DATA!$F17=\"\",\" \",DATA!$F17)","v":" "},{"$f":"IF(DATA!$F18=\"\",\" \",DATA!$F18)","v":" "},{"$f":"IF(DATA!$F19=\"\",\" \",DATA!$F19)","v":" "},{"$f":"IF(DATA!$F20=\"\",\" \",DATA!$F20)","v":" "},{"$f":"IF(DATA!$F21=\"\",\" \",DATA!$F21)","v":" "},{"$f":"IF(DATA!$F22=\"\",\" \",DATA!$F22)","v":" "},{"$f":"IF(DATA!$F23=\"\",\" \",DATA!$F23)","v":" "},{"$f":"IF(DATA!$F24=\"\",\" \",DATA!$F24)","v":" "},{"$f":"IF(DATA!$F25=\"\",\" \",DATA!$F25)","v":" "},{"$f":"IF(DATA!$F26=\"\",\" \",DATA!$F26)","v":" "},{"$f":"IF(DATA!$F27=\"\",\" \",DATA!$F27)","v":" "},{"$f":"IF(DATA!$F28=\"\",\" \",DATA!$F28)","v":" "},{"$f":"IF(DATA!$F29=\"\",\" \",DATA!$F29)","v":" "},{"$f":"IF(DATA!$F30=\"\",\" \",DATA!$F30)","v":" "},{"$f":"IF(DATA!$F31=\"\",\" \",DATA!$F31)","v":" "},{"$f":"IF(DATA!$F32=\"\",\" \",DATA!$F32)","v":" "},{"$f":"IF(DATA!$F33=\"\",\" \",DATA!$F33)","v":" "}]
["P",{"$f":"COUNTIF(OFFICIAL!$H$4:$H$111,B$1)","v":0},{"$f":"COUNTIF(OFFICIAL!$H$4:$H$111,C$1)","v":0},{"$f":"COUNTIF(OFFICIAL!$H$4:$H$111,D$1)","v":0},{"$f":"COUNTIF(OFFICIAL!$H$4:$H$111,E$1)","v":0},{"$f":"COUNTIF(OFFICIAL!$H$4:$H$111,F$1)","v":0},{"$f":"COUNTIF(OFFICIAL!$H$4:$H$111,G$1)","v":0},{"$f":"COUNTIF(OFFICIAL!$H$4:$H$111,H$1)","v":0},{"$f":"COUNTIF(OFFICIAL!$H$4:$H$111,I$1)","v":0},{"$f":"COUNTIF(OFFICIAL!$H$4:$H$111,J$1)","v":0},{"$f":"COUNTIF(OFFICIAL!$H$4:$H$111,K$1)","v":0},{"$f":"COUNTIF(OFFICIAL!$H$4:$H$111,L$1)","v":0},{"$f":"COUNTIF(OFFICIAL!$H$4:$H$111,M$1)","v":0},{"$f":"COUNTIF(OFFICIAL!$H$4:$H$111,N$1)","v":0},{"$f":"COUNTIF(OFFICIAL!$H$4:$H$111,O$1)","v":0},{"$f":"COUNTIF(OFFICIAL!$H$4:$H$111,P$1)","v":0},{"$f":"COUNTIF(OFFICIAL!$H$4:$H$111,Q$1)","v":0},{"$f":"COUNTIF(OFFICIAL!$H$4:$H$111,R$1)","v":0},{"$f":"COUNTIF(OFFICIAL!$H$4:$H$111,S$1)","v":0},{"$f":"COUNTIF(OFFICIAL!$H$4:$H$111,T$1)","v":0},{"$f":"COUNTIF(OFFICIAL!$H$4:$H$111,U$1)","v":0},{"$f":"COUNTIF(OFFICIAL!$H$4:$H$111,V$1)","v":0},{"$f":"COUNTIF(OFFICIAL!$H$4:$H$111,W$1)","v":0},{"$f":"COUNTIF(OFFICIAL!$H$4:$H$111,X$1)","v":0},{"$f":"COUNTIF(OFFICIAL!$H$4:$H$111,Y$1)","v":0},{"$f":"COUNTIF(OFFICIAL!$H$4:$H$111,Z$1)","v":0},{"$f":"COUNTIF(OFFICIAL!$H$4:$H$111,AA$1)","v":0},{"$f":"COUNTIF(OFFICIAL!$H$4:$H$111,AB$1)","v":0},{"$f":"COUNTIF(OFFICIAL!$H$4:$H$111,AC$1)","v":0},{"$f":"COUNTIF(OFFICIAL!$H$4:$H$111,AD$1)","v":0},{"$f":"COUNTIF(OFFICIAL!$H$4:$H$111,AE$1)","v":0}]
["1st",{"$f":"COUNTIF(OFFICIAL!I$4:$I$111,B$1)","v":0},{"$f":"COUNTIF(OFFICIAL!$I$4:$I$111,C$1)","v":0},{"$f":"COUNTIF(OFFICIAL!$I$4:$I$111,D$1)","v":0},{"$f":"COUNTIF(OFFICIAL!$I$4:$I$111,E$1)","v":0},{"$f":"COUNTIF(OFFICIAL!$I$4:$I$111,F$1)","v":0},{"$f":"COUNTIF(OFFICIAL!$I$4:$I$111,G$1)","v":0},{"$f":"COUNTIF(OFFICIAL!$I$4:$I$111,H$1)","v":0},{"$f":"COUNTIF(OFFICIAL!$I$4:$I$111,I$1)","v":0},{"$f":"COUNTIF(OFFICIAL!$I$4:$I$111,J$1)","v":0},{"$f":"COUNTIF(OFFICIAL!$I$4:$I$111,K$1)","v":0},{"$f":"COUNTIF(OFFICIAL!$I$4:$I$111,L$1)","v":0},{"$f":"COUNTIF(OFFICIAL!$I$4:$I$111,M$1)","v":0},{"$f":"COUNTIF(OFFICIAL!$I$4:$I$111,N$1)","v":0},{"$f":"COUNTIF(OFFICIAL!$I$4:$I$111,O$1)","v":0},{"$f":"COUNTIF(OFFICIAL!$I$4:$I$111,P$1)","v":0},{"$f":"COUNTIF(OFFICIAL!$I$4:$I$111,Q$1)","v":0},{"$f":"COUNTIF(OFFICIAL!$I$4:$I$111,R$1)","v":0},{"$f":"COUNTIF(OFFICIAL!$I$4:$I$111,S$1)","v":0},{"$f":"COUNTIF(OFFICIAL!$I$4:$I$111,T$1)","v":0},{"$f":"COUNTIF(OFFICIAL!$I$4:$I$111,U$1)","v":0},{"$f":"COUNTIF(OFFICIAL!$I$4:$I$111,V$1)","v":0},{"$f":"COUNTIF(OFFICIAL!$I$4:$I$111,W$1)","v":0},{"$f":"COUNTIF(OFFICIAL!$I$4:$I$111,X$1)","v":0},{"$f":"COUNTIF(OFFICIAL!$I$4:$I$111,Y$1)","v":0},{"$f":"COUNTIF(OFFICIAL!$I$4:$I$111,Z$1)","v":0},{"$f":"COUNTIF(OFFICIAL!$I$4:$I$111,AA$1)","v":0},{"$f":"COUNTIF(OFFICIAL!$I$4:$I$111,AB$1)","v":0},{"$f":"COUNTIF(OFFICIAL!$I$4:$I$111,AC$1)","v":0},{"$f":"COUNTIF(OFFICIAL!$I$4:$I$111,AD$1)","v":0},{"$f":"COUNTIF(OFFICIAL!$I$4:$I$111,AE$1)","v":0}]
["2nd",{"$f":"COUNTIF(OFFICIAL!J$4:$J$111,B$1)","v":0},{"$f":"COUNTIF(OFFICIAL!$J$4:$J$111,C$1)","v":0},{"$f":"COUNTIF(OFFICIAL!$J$4:$J$111,D$1)","v":0},{"$f":"COUNTIF(OFFICIAL!$J$4:$J$111,E$1)","v":0},{"$f":"COUNTIF(OFFICIAL!$J$4:$J$111,F$1)","v":0},{"$f":"COUNTIF(OFFICIAL!$J$4:$J$111,G$1)","v":0},{"$f":"COUNTIF(OFFICIAL!$J$4:$J$111,H$1)","v":0},{"$f":"COUNTIF(OFFICIAL!$J$4:$J$111,I$1)","v":0},{"$f":"COUNTIF(OFFICIAL!$J$4:$J$111,J$1)","v":0},{"$f":"COUNTIF(OFFICIAL!$J$4:$J$111,K$1)","v":0},{"$f":"COUNTIF(OFFICIAL!$J$4:$J$111,L$1)","v":0},{"$f":"COUNTIF(OFFICIAL!$J$4:$J$111,M$1)","v":0},{"$f":"COUNTIF(OFFICIAL!$J$4:$J$111,N$1)","v":0},{"$f":"COUNTIF(OFFICIAL!$J$4:$J$111,O$1)","v":0},{"$f":"COUNTIF(OFFICIAL!$J$4:$J$111,P$1)","v":0},{"$f":"COUNTIF(OFFICIAL!$J$4:$J$111,Q$1)","v":0},{"$f":"COUNTIF(OFFICIAL!$J$4:$J$111,R$1)","v":0},{"$f":"COUNTIF(OFFICIAL!$J$4:$J$111,S$1)","v":0},{"$f":"COUNTIF(OFFICIAL!$J$4:$J$111,T$1)","v":0},{"$f":"COUNTIF(OFFICIAL!$J$4:$J$111,U$1)","v":0},{"$f":"COUNTIF(OFFICIAL!$J$4:$J$111,V$1)","v":0},{"$f":"COUNTIF(OFFICIAL!$J$4:$J$111,W$1)","v":0},{"$f":"COUNTIF(OFFICIAL!$J$4:$J$111,X$1)","v":0},{"$f":"COUNTIF(OFFICIAL!$J$4:$J$111,Y$1)","v":0},{"$f":"COUNTIF(OFFICIAL!$J$4:$J$111,Z$1)","v":0},{"$f":"COUNTIF(OFFICIAL!$J$4:$J$111,AA$1)","v":0},{"$f":"COUNTIF(OFFICIAL!$J$4:$J$111,AB$1)","v":0},{"$f":"COUNTIF(OFFICIAL!$J$4:$J$111,AC$1)","v":0},{"$f":"COUNTIF(OFFICIAL!$J$4:$J$111,AD$1)","v":0},{"$f":"COUNTIF(OFFICIAL!$J$4:$J$111,AE$1)","v":0}]
["3rd",{"$f":"COUNTIF(OFFICIAL!K$4:$K$111,B$1)","v":0},{"$f":"COUNTIF(OFFICIAL!$K$4:$K$111,C$1)","v":0},{"$f":"COUNTIF(OFFICIAL!$K$4:$K$111,D$1)","v":0},{"$f":"COUNTIF(OFFICIAL!$K$4:$K$111,E$1)","v":0},{"$f":"COUNTIF(OFFICIAL!$K$4:$K$111,F$1)","v":0},{"$f":"COUNTIF(OFFICIAL!$K$4:$K$111,G$1)","v":0},{"$f":"COUNTIF(OFFICIAL!$K$4:$K$111,H$1)","v":0},{"$f":"COUNTIF(OFFICIAL!$K$4:$K$111,I$1)","v":0},{"$f":"COUNTIF(OFFICIAL!$K$4:$K$111,J$1)","v":0},{"$f":"COUNTIF(OFFICIAL!$K$4:$K$111,K$1)","v":0},{"$f":"COUNTIF(OFFICIAL!$K$4:$K$111,L$1)","v":0},{"$f":"COUNTIF(OFFICIAL!$K$4:$K$111,M$1)","v":0},{"$f":"COUNTIF(OFFICIAL!$K$4:$K$111,N$1)","v":0},{"$f":"COUNTIF(OFFICIAL!$K$4:$K$111,O$1)","v":0},{"$f":"COUNTIF(OFFICIAL!$K$4:$K$111,P$1)","v":0},{"$f":"COUNTIF(OFFICIAL!$K$4:$K$111,Q$1)","v":0},{"$f":"COUNTIF(OFFICIAL!$K$4:$K$111,R$1)","v":0},{"$f":"COUNTIF(OFFICIAL!$K$4:$K$111,S$1)","v":0},{"$f":"COUNTIF(OFFICIAL!$K$4:$K$111,T$1)","v":0},{"$f":"COUNTIF(OFFICIAL!$K$4:$K$111,U$1)","v":0},{"$f":"COUNTIF(OFFICIAL!$K$4:$K$111,V$1)","v":0},{"$f":"COUNTIF(OFFICIAL!$K$4:$K$111,W$1)","v":0},{"$f":"COUNTIF(OFFICIAL!$K$4:$K$111,X$1)","v":0},{"$f":"COUNTIF(OFFICIAL!$K$4:$K$111,Y$1)","v":0},{"$f":"COUNTIF(OFFICIAL!$K$4:$K$111,Z$1)","v":0},{"$f":"COUNTIF(OFFICIAL!$K$4:$K$111,AA$1)","v":0},{"$f":"COUNTIF(OFFICIAL!$K$4:$K$111,AB$1)","v":0},{"$f":"COUNTIF(OFFICIAL!$K$4:$K$111,AC$1)","v":0},{"$f":"COUNTIF(OFFICIAL!$K$4:$K$111,AD$1)","v":0},{"$f":"COUNTIF(OFFICIAL!$K$4:$K$111,AE$1)","v":0}]
["LF",{"$f":"COUNTIF(OFFICIAL!L$4:$L$111,B$1)","v":0},{"$f":"COUNTIF(OFFICIAL!$L$4:$L$111,C$1)","v":0},{"$f":"COUNTIF(OFFICIAL!$L$4:$L$111,D$1)","v":0},{"$f":"COUNTIF(OFFICIAL!$L$4:$L$111,E$1)","v":0},{"$f":"COUNTIF(OFFICIAL!$L$4:$L$111,F$1)","v":0},{"$f":"COUNTIF(OFFICIAL!$L$4:$L$111,G$1)","v":0},{"$f":"COUNTIF(OFFICIAL!$L$4:$L$111,H$1)","v":0},{"$f":"COUNTIF(OFFICIAL!$L$4:$L$111,I$1)","v":0},{"$f":"COUNTIF(OFFICIAL!$L$4:$L$111,J$1)","v":0},{"$f":"COUNTIF(OFFICIAL!$L$4:$L$111,K$1)","v":0},{"$f":"COUNTIF(OFFICIAL!$L$4:$L$111,L$1)","v":0},{"$f":"COUNTIF(OFFICIAL!$L$4:$L$111,M$1)","v":0},{"$f":"COUNTIF(OFFICIAL!$L$4:$L$111,N$1)","v":0},{"$f":"COUNTIF(OFFICIAL!$L$4:$L$111,O$1)","v":0},{"$f":"COUNTIF(OFFICIAL!$L$4:$L$111,P$1)","v":0},{"$f":"COUNTIF(OFFICIAL!$L$4:$L$111,Q$1)","v":0},{"$f":"COUNTIF(OFFICIAL!$L$4:$L$111,R$1)","v":0},{"$f":"COUNTIF(OFFICIAL!$L$4:$L$111,S$1)","v":0},{"$f":"COUNTIF(OFFICIAL!$L$4:$L$111,T$1)","v":0},{"$f":"COUNTIF(OFFICIAL!$L$4:$L$111,U$1)","v":0},{"$f":"COUNTIF(OFFICIAL!$L$4:$L$111,V$1)","v":0},{"$f":"COUNTIF(OFFICIAL!$L$4:$L$111,W$1)","v":0},{"$f":"COUNTIF(OFFICIAL!$L$4:$L$111,X$1)","v":0},{"$f":"COUNTIF(OFFICIAL!$L$4:$L$111,Y$1)","v":0},{"$f":"COUNTIF(OFFICIAL!$L$4:$L$111,Z$1)","v":0},{"$f":"COUNTIF(OFFICIAL!$L$4:$L$111,AA$1)","v":0},{"$f":"COUNTIF(OFFICIAL!$L$4:$L$111,AB$1)","v":0},{"$f":"COUNTIF(OFFICIAL!$L$4:$L$111,AC$1)","v":0},{"$f":"COUNTIF(OFFICIAL!$L$4:$L$111,AD$1)","v":0},{"$f":"COUNTIF(OFFICIAL!$L$4:$L$111,AE$1)","v":0}]
["RF",{"$f":"COUNTIF(OFFICIAL!M$4:$M$111,B$1)","v":0},{"$f":"COUNTIF(OFFICIAL!$M$4:$M$111,C$1)","v":0},{"$f":"COUNTIF(OFFICIAL!$M$4:$M$111,D$1)","v":0},{"$f":"COUNTIF(OFFICIAL!$M$4:$M$111,E$1)","v":0},{"$f":"COUNTIF(OFFICIAL!$M$4:$M$111,F$1)","v":0},{"$f":"COUNTIF(OFFICIAL!$M$4:$M$111,G$1)","v":0},{"$f":"COUNTIF(OFFICIAL!$M$4:$M$111,H$1)","v":0},{"$f":"COUNTIF(OFFICIAL!$M$4:$M$111,I$1)","v":0},{"$f":"COUNTIF(OFFICIAL!$M$4:$M$111,J$1)","v":0},{"$f":"COUNTIF(OFFICIAL!$M$4:$M$111,K$1)","v":0},{"$f":"COUNTIF(OFFICIAL!$M$4:$M$111,L$1)","v":0},{"$f":"COUNTIF(OFFICIAL!$M$4:$M$111,M$1)","v":0},{"$f":"COUNTIF(OFFICIAL!$M$4:$M$111,N$1)","v":0},{"$f":"COUNTIF(OFFICIAL!$M$4:$M$111,O$1)","v":0},{"$f":"COUNTIF(OFFICIAL!$M$4:$M$111,P$1)","v":0},{"$f":"COUNTIF(OFFICIAL!$M$4:$M$111,Q$1)","v":0},{"$f":"COUNTIF(OFFICIAL!$M$4:$M$111,R$1)","v":0},{"$f":"COUNTIF(OFFICIAL!$M$4:$M$111,S$1)","v":0},{"$f":"COUNTIF(OFFICIAL!$M$4:$M$111,T$1)","v":0},{"$f":"COUNTIF(OFFICIAL!$M$4:$M$111,U$1)","v":0},{"$f":"COUNTIF(OFFICIAL!$M$4:$M$111,V$1)","v":0},{"$f":"COUNTIF(OFFICIAL!$M$4:$M$111,W$1)","v":0},{"$f":"COUNTIF(OFFICIAL!$M$4:$M$111,X$1)","v":0},{"$f":"COUNTIF(OFFICIAL!$M$4:$M$111,Y$1)","v":0},{"$f":"COUNTIF(OFFICIAL!$M$4:$M$111,Z$1)","v":0},{"$f":"COUNTIF(OFFICIAL!$M$4:$M$111,AA$1)","v":0},{"$f":"COUNTIF(OFFICIAL!$M$4:$M$111,AB$1)","v":0},{"$f":"COUNTIF(OFFICIAL!$M$4:$M$111,AC$1)","v":0},{"$f":"COUNTIF(OFFICIAL!$M$4:$M$111,AD$1)","v":0},{"$f":"COUNTIF(OFFICIAL!$M$4:$M$111,AE$1)","v":0}]
["Clock",{"$f":"COUNTIF(OFFICIAL!N$4:$N$111,B$1)","v":0},{"$f":"COUNTIF(OFFICIAL!$N$4:$N$111,C$1)","v":0},{"$f":"COUNTIF(OFFICIAL!$N$4:$N$111,D$1)","v":0},{"$f":"COUNTIF(OFFICIAL!$N$4:$N$111,E$1)","v":0},{"$f":"COUNTIF(OFFICIAL!$N$4:$N$111,F$1)","v":0},{"$f":"COUNTIF(OFFICIAL!$N$4:$N$111,G$1)","v":0},{"$f":"COUNTIF(OFFICIAL!$N$4:$N$111,H$1)","v":0},{"$f":"COUNTIF(OFFICIAL!$N$4:$N$111,I$1)","v":0},{"$f":"COUNTIF(OFFICIAL!$N$4:$N$111,J$1)","v":0},{"$f":"COUNTIF(OFFICIAL!$N$4:$N$111,K$1)","v":0},{"$f":"COUNTIF(OFFICIAL!$N$4:$N$111,L$1)","v":0},{"$f":"COUNTIF(OFFICIAL!$N$4:$N$111,M$1)","v":0},{"$f":"COUNTIF(OFFICIAL!$N$4:$N$111,N$1)","v":0},{"$f":"COUNTIF(OFFICIAL!$N$4:$N$111,O$1)","v":0},{"$f":"COUNTIF(OFFICIAL!$N$4:$N$111,P$1)","v":0},{"$f":"COUNTIF(OFFICIAL!$N$4:$N$111,Q$1)","v":0},{"$f":"COUNTIF(OFFICIAL!$N$4:$N$111,R$1)","v":0},{"$f":"COUNTIF(OFFICIAL!$N$4:$N$111,S$1)","v":0},{"$f":"COUNTIF(OFFICIAL!$N$4:$N$111,T$1)","v":0},{"$f":"COUNTIF(OFFICIAL!$N$4:$N$111,U$1)","v":0},{"$f":"COUNTIF(OFFICIAL!$N$4:$N$111,V$1)","v":0},{"$f":"COUNTIF(OFFICIAL!$N$4:$N$111,W$1)","v":0},{"$f":"COUNTIF(OFFICIAL!$N$4:$N$111,X$1)","v":0},{"$f":"COUNTIF(OFFICIAL!$N$4:$N$111,Y$1)","v":0},{"$f":"COUNTIF(OFFICIAL!$N$4:$N$111,Z$1)","v":0},{"$f":"COUNTIF(OFFICIAL!$N$4:$N$111,AA$1)","v":0},{"$f":"COUNTIF(OFFICIAL!$N$4:$N$111,AB$1)","v":0},{"$f":"COUNTIF(OFFICIAL!$N$4:$N$111,AC$1)","v":0},{"$f":"COUNTIF(OFFICIAL!$N$4:$N$111,AD$1)","v":0},{"$f":"COUNTIF(OFFICIAL!$N$4:$N$111,AE$1)","v":0}]
[]
[null,{"$f":"IF(DATA!$F4=\"\",\" \",DATA!$F4)","v":" "},{"$f":"IF(DATA!$F5=\"\",\" \",DATA!$F5)","v":" "},{"$f":"IF(DATA!$F6=\"\",\" \",DATA!$F6)","v":" "},{"$f":"IF(DATA!$F7=\"\",\" \",DATA!$F7)","v":" "},{"$f":"IF(DATA!$F8=\"\",\" \",DATA!$F8)","v":" "},{"$f":"IF(DATA!$F9=\"\",\" \",DATA!$F9)","v":" "},{"$f":"IF(DATA!$F10=\"\",\" \",DATA!$F10)","v":" "},{"$f":"IF(DATA!$F11=\"\",\" \",DATA!$F11)","v":" "},{"$f":"IF(DATA!$F12=\"\",\" \",DATA!$F12)","v":" "},{"$f":"IF(DATA!$F13=\"\",\" \",DATA!$F13)","v":" "},{"$f":"IF(DATA!$F14=\"\",\" \",DATA!$F14)","v":" "},{"$f":"IF(DATA!$F15=\"\",\" \",DATA!$F15)","v":" "},{"$f":"IF(DATA!$F16=\"\",\" \",DATA!$F16)","v":" "},{"$f":"IF(DATA!$F17=\"\",\" \",DATA!$F17)","v":" "},{"$f":"IF(DATA!$F18=\"\",\" \",DATA!$F18)","v":" "},{"$f":"IF(DATA!$F19=\"\",\" \",DATA!$F19)","v":" "},{"$f":"IF(DATA!$F20=\"\",\" \",DATA!$F20)","v":" "},{"$f":"IF(DATA!$F21=\"\",\" \",DATA!$F21)","v":" "},{"$f":"IF(DATA!$F22=\"\",\" \",DATA!$F22)","v":" "},{"$f":"IF(DATA!$F23=\"\",\" \",DATA!$F23)","v":" "},{"$f":"IF(DATA!$F24=\"\",\" \",DATA!$F24)","v":" "},{"$f":"IF(DATA!$F25=\"\",\" \",DATA!$F25)","v":" "},{"$f":"IF(DATA!$F26=\"\",\" \",DATA!$F26)","v":" "},{"$f":"IF(DATA!$F27=\"\",\" \",DATA!$F27)","v":" "},{"$f":"IF(DATA!$F28=\"\",\" \",DATA!$F28)","v":" "},{"$f":"IF(DATA!$F29=\"\",\" \",DATA!$F29)","v":" "},{"$f":"IF(DATA!$F30=\"\",\" \",DATA!$F30)","v":" "},{"$f":"IF(DATA!$F31=\"\",\" \",DATA!$F31)","v":" "},{"$f":"IF(DATA!$F32=\"\",\" \",DATA!$F32)","v":" "},{"$f":"IF(DATA!$F33=\"\",\" \",DATA!$F33)","v":" "}]
[{"$f":"IF(DATA!$F4=\"\",\" \",DATA!$F4)","v":" "},{"$f":"COUNTIF(OFFICIAL!$H$4:$N$111,B$10)","v":0},{"$f":"COUNTIF(OFFICIAL!$R$4:$AF$111,CONCATENATE(C$10,\" : \",$A11))+COUNTIF(OFFICIAL!$R$4:$AF$111,CONCATENATE($A11,\" : \",C$10))","v":0},{"$f":"COUNTIF(OFFICIAL!$R$4:$AF$111,CONCATENATE(D$10,\" : \",$A11))+COUNTIF(OFFICIAL!$R$4:$AF$111,CONCATENATE($A11,\" : \",D$10))","v":0},{"$f":"COUNTIF(OFFICIAL!$R$4:$AF$111,CONCATENATE(E$10,\" : \",$A11))+COUNTIF(OFFICIAL!$R$4:$AF$111,CONCATENATE($A11,\" : \",E$10))","v":0},{"$f":"COUNTIF(OFFICIAL!$R$4:$AF$111,CONCATENATE(F$10,\" : \",$A11))+COUNTIF(OFFICIAL!$R$4:$AF$111,CONCATENATE($A11,\" : \",F$10))","v":0},{"$f":"COUNTIF(OFFICIAL!$R$4:$AF$111,CONCATENATE(G$10,\" : \",$A11))+COUNTIF(OFFICIAL!$R$4:$AF$111,CONCATENATE($A11,\" : \",G$10))","v":0},{"$f":"COUNTIF(OFFICIAL!$R$4:$AF$111,CONCATENATE(H$10,\" : \",$A11))+COUNTIF(OFFICIAL!$R$4:$AF$111,CONCATENATE($A11,\" : \",H$10))","v":0},{"$f":"COUNTIF(OFFICIAL!$R$4:$AF$111,CONCATENATE(I$10,\" : \",$A11))+COUNTIF(OFFICIAL!$R$4:$AF$111,CONCATENATE($A11,\" : \",I$10))","v":0},{"$f":"COUNTIF(OFFICIAL!$R$4:$AF$111,CONCATENATE(J$10,\" : \",$A11))+COUNTIF(OFFICIAL!$R$4:$AF$111,CONCATENATE($A11,\" : \",J$10))","v":0},{"$f":"COUNTIF(OFFICIAL!$R$4:$AF$111,CONCATENATE(K$10,\" : \",$A11))+COUNTIF(OFFICIAL!$R$4:$AF$111,CONCATENATE($A11,\" : \",K$10))","v":0},{"$f":"COUNTIF(OFFICIAL!$R$4:$AF$111,CONCATENATE(L$10,\" : \",$A11))+COUNTIF(OFFICIAL!$R$4:$AF$111,CONCATENATE($A11,\" : \",L$10))","v":0},{"$f":"COUNTIF(OFFICIAL!$R$4:$AF$111,CONCATENATE(M$10,\" : \",$A11))+COUNTIF(OFFICIAL!$R$4:$AF$111,CONCATENATE($A11,\" : \",M$10))","v":0},{"$f":"COUNTIF(OFFICIAL!$R$4:$AF$111,CONCATENATE(N$10,\" : \",$A11))+COUNTIF(OFFICIAL!$R$4:$AF$111,CONCATENATE($A11,\" : \",N$10))","v":0},{"$f":"COUNTIF(OFFICIAL!$R$4:$AF$111,CONCATENATE(O$10,\" : \",$A11))+COUNTIF(OFFICIAL!$R$4:$AF$111,CONCATENATE($A11,\" : \",O$10))","v":0},{"$f":"COUNTIF(OFFICIAL!$R$4:$AF$111,CONCATENATE(P$10,\" : \",$A11))+COUNTIF(OFFICIAL!$R$4:$AF$111,CONCATENATE($A11,\" : \",P$10))","v":0},{"$f":"COUNTIF(OFFICIAL!$R$4:$AF$111,CONCATENATE(Q$10,\" : \",$A11))+COUNTIF(OFFICIAL!$R$4:$AF$111,CONCATENATE($A11,\" : \",Q$10))","v":0},{"$f":"COUNTIF(OFFICIAL!$R$4:$AF$111,CONCATENATE(R$10,\" : \",$A11))+COUNTIF(OFFICIAL!$R$4:$AF$111,CONCATENATE($A11,\" : \",R$10))","v":0},{"$f":"COUNTIF(OFFICIAL!$R$4:$AF$111,CONCATENATE(S$10,\" : \",$A11))+COUNTIF(OFFICIAL!$R$4:$AF$111,CONCATENATE($A11,\" : \",S$10))","v":0},{"$f":"COUNTIF(OFFICIAL!$R$4:$AF$111,CONCATENATE(T$10,\" : \",$A11))+COUNTIF(OFFICIAL!$R$4:$AF$111,CONCATENATE($A11,\" : \",T$10))","v":0},{"$f":"COUNTIF(OFFICIAL!$R$4:$AF$111,CONCATENATE(U$10,\" : \",$A11))+COUNTIF(OFFICIAL!$R$4:$AF$111,CONCATENATE($A11,\" : \",U$10))","v":0},{"$f":"COUNTIF(OFFICIAL!$R$4:$AF$111,CONCATENATE(V$10,\" : \",$A11))+COUNTIF(OFFICIAL!$R$4:$AF$111,CONCATENATE($A11,\" : \",V$10))","v":0},{"$f":"COUNTIF(OFFICIAL!$R$4:$AF$111,CONCATENATE(W$10,\" : \",$A11))+COUNTIF(OFFICIAL!$R$4:$AF$111,CONCATENATE($A11,\" : \",W$10))","v":0},{"$f":"COUNTIF(OFFICIAL!$R$4:$AF$111,CONCATENATE(X$10,\" : \",$A11))+COUNTIF(OFFICIAL!$R$4:$AF$111,CONCATENATE($A11,\" : \",X$10))","v":0},{"$f":"COUNTIF(OFFICIAL!$R$4:$AF$111,CONCATENATE(Y$10,\" : \",$A11))+COUNTIF(OFFICIAL!$R$4:$AF$111,CONCATENATE($A11,\" : \",Y$10))","v":0},{"$f":"COUNTIF(OFFICIAL!$R$4:$AF$111,CONCATENATE(Z$10,\" : \",$A11))+COUNTIF(OFFICIAL!$R$4:$AF$111,CONCATENATE($A11,\" : \",Z$10))","v":0},{"$f":"COUNTIF(OFFICIAL!$R$4:$AF$111,CONCATENATE(AA$10,\" : \",$A11))+COUNTIF(OFFICIAL!$R$4:$AF$111,CONCATENATE($A11,\" : \",AA$10))","v":0},{"$f":"COUNTIF(OFFICIAL!$R$4:$AF$111,CONCATENATE(AB$10,\" : \",$A11))+COUNTIF(OFFICIAL!$R$4:$AF$111,CONCATENATE($A11,\" : \",AB$10))","v":0},{"$f":"COUNTIF(OFFICIAL!$R$4:$AF$111,CONCATENATE(AC$10,\" : \",$A11))+COUNTIF(OFFICIAL!$R$4:$AF$111,CONCATENATE($A11,\" : \",AC$10))","v":0},{"$f":"COUNTIF(OFFICIAL!$R$4:$AF$111,CONCATENATE(AD$10,\" : \",$A11))+COUNTIF(OFFICIAL!$R$4:$AF$111,CONCATENATE($A11,\" : \",AD$10))","v":0},{"$f":"COUNTIF(OFFICIAL!$R$4:$AF$111,CONCATENATE(AE$10,\" : \",$A11))+COUNTIF(OFFICIAL!$R$4:$AF$111,CONCATENATE($A11,\" : \",AE$10))","v":0}]
[{"$f":"IF(DATA!$F5=\"\",\" \",DATA!$F5)","v":" "},{"$f":"COUNTIF(OFFICIAL!$R$4:$AF$111,CONCATENATE(B$10,\" : \",$A12))+COUNTIF(OFFICIAL!$R$4:$AF$111,CONCATENATE($A12,\" : \",B$10))","v":0},{"$f":"COUNTIF(OFFICIAL!$H$4:$N$111,C$10)","v":0},{"$f":"COUNTIF(OFFICIAL!$R$4:$AF$111,CONCATENATE(D$10,\" : \",$A12))+COUNTIF(OFFICIAL!$R$4:$AF$111,CONCATENATE($A12,\" : \",D$10))","v":0},{"$f":"COUNTIF(OFFICIAL!$R$4:$AF$111,CONCATENATE(E$10,\" : \",$A12))+COUNTIF(OFFICIAL!$R$4:$AF$111,CONCATENATE($A12,\" : \",E$10))","v":0},{"$f":"COUNTIF(OFFICIAL!$R$4:$AF$111,CONCATENATE(F$10,\" : \",$A12))+COUNTIF(OFFICIAL!$R$4:$AF$111,CONCATENATE($A12,\" : \",F$10))","v":0},{"$f":"COUNTIF(OFFICIAL!$R$4:$AF$111,CONCATENATE(G$10,\" : \",$A12))+COUNTIF(OFFICIAL!$R$4:$AF$111,CONCATENATE($A12,\" : \",G$10))","v":0},{"$f":"COUNTIF(OFFICIAL!$R$4:$AF$111,CONCATENATE(H$10,\" : \",$A12))+COUNTIF(OFFICIAL!$R$4:$AF$111,CONCATENATE($A12,\" : \",H$10))","v":0},{"$f":"COUNTIF(OFFICIAL!$R$4:$AF$111,CONCATENATE(I$10,\" : \",$A12))+COUNTIF(OFFICIAL!$R$4:$AF$111,CONCATENATE($A12,\" : \",I$10))","v":0},{"$f":"COUNTIF(OFFICIAL!$R$4:$AF$111,CONCATENATE(J$10,\" : \",$A12))+COUNTIF(OFFICIAL!$R$4:$AF$111,CONCATENATE($A12,\" : \",J$10))","v":0},{"$f":"COUNTIF(OFFICIAL!$R$4:$AF$111,CONCATENATE(K$10,\" : \",$A12))+COUNTIF(OFFICIAL!$R$4:$AF$111,CONCATENATE($A12,\" : \",K$10))","v":0},{"$f":"COUNTIF(OFFICIAL!$R$4:$AF$111,CONCATENATE(L$10,\" : \",$A12))+COUNTIF(OFFICIAL!$R$4:$AF$111,CONCATENATE($A12,\" : \",L$10))","v":0},{"$f":"COUNTIF(OFFICIAL!$R$4:$AF$111,CONCATENATE(M$10,\" : \",$A12))+COUNTIF(OFFICIAL!$R$4:$AF$111,CONCATENATE($A12,\" : \",M$10))","v":0},{"$f":"COUNTIF(OFFICIAL!$R$4:$AF$111,CONCATENATE(N$10,\" : \",$A12))+COUNTIF(OFFICIAL!$R$4:$AF$111,CONCATENATE($A12,\" : \",N$10))","v":0},{"$f":"COUNTIF(OFFICIAL!$R$4:$AF$111,CONCATENATE(O$10,\" : \",$A12))+COUNTIF(OFFICIAL!$R$4:$AF$111,CONCATENATE($A12,\" : \",O$10))","v":0},{"$f":"COUNTIF(OFFICIAL!$R$4:$AF$111,CONCATENATE(P$10,\" : \",$A12))+COUNTIF(OFFICIAL!$R$4:$AF$111,CONCATENATE($A12,\" : \",P$10))","v":0},{"$f":"COUNTIF(OFFICIAL!$R$4:$AF$111,CONCATENATE(Q$10,\" : \",$A12))+COUNTIF(OFFICIAL!$R$4:$AF$111,CONCATENATE($A12,\" : \",Q$10))","v":0},{"$f":"COUNTIF(OFFICIAL!$R$4:$AF$111,CONCATENATE(R$10,\" : \",$A12))+COUNTIF(OFFICIAL!$R$4:$AF$111,CONCATENATE($A12,\" : \",R$10))","v":0},{"$f":"COUNTIF(OFFICIAL!$R$4:$AF$111,CONCATENATE(S$10,\" : \",$A12))+COUNTIF(OFFICIAL!$R$4:$AF$111,CONCATENATE($A12,\" : \",S$10))","v":0},{"$f":"COUNTIF(OFFICIAL!$R$4:$AF$111,CONCATENATE(T$10,\" : \",$A12))+COUNTIF(OFFICIAL!$R$4:$AF$111,CONCATENATE($A12,\" : \",T$10))","v":0},{"$f":"COUNTIF(OFFICIAL!$R$4:$AF$111,CONCATENATE(U$10,\" : \",$A12))+COUNTIF(OFFICIAL!$R$4:$AF$111,CONCATENATE($A12,\" : \",U$10))","v":0},{"$f":"COUNTIF(OFFICIAL!$R$4:$AF$111,CONCATENATE(V$10,\" : \",$A12))+COUNTIF(OFFICIAL!$R$4:$AF$111,CONCATENATE($A12,\" : \",V$10))","v":0},{"$f":"COUNTIF(OFFICIAL!$R$4:$AF$111,CONCATENATE(W$10,\" : \",$A12))+COUNTIF(OFFICIAL!$R$4:$AF$111,CONCATENATE($A12,\" : \",W$10))","v":0},{"$f":"COUNTIF(OFFICIAL!$R$4:$AF$111,CONCATENATE(X$10,\" : \",$A12))+COUNTIF(OFFICIAL!$R$4:$AF$111,CONCATENATE($A12,\" : \",X$10))","v":0},{"$f":"COUNTIF(OFFICIAL!$R$4:$AF$111,CONCATENATE(Y$10,\" : \",$A12))+COUNTIF(OFFICIAL!$R$4:$AF$111,CONCATENATE($A12,\" : \",Y$10))","v":0},{"$f":"COUNTIF(OFFICIAL!$R$4:$AF$111,CONCATENATE(Z$10,\" : \",$A12))+COUNTIF(OFFICIAL!$R$4:$AF$111,CONCATENATE($A12,\" : \",Z$10))","v":0},{"$f":"COUNTIF(OFFICIAL!$R$4:$AF$111,CONCATENATE(AA$10,\" : \",$A12))+COUNTIF(OFFICIAL!$R$4:$AF$111,CONCATENATE($A12,\" : \",AA$10))","v":0},{"$f":"COUNTIF(OFFICIAL!$R$4:$AF$111,CONCATENATE(AB$10,\" : \",$A12))+COUNTIF(OFFICIAL!$R$4:$AF$111,CONCATENATE($A12,\" : \",AB$10))","v":0},{"$f":"COUNTIF(OFFICIAL!$R$4:$AF$111,CONCATENATE(AC$10,\" : \",$A12))+COUNTIF(OFFICIAL!$R$4:$AF$111,CONCATENATE($A12,\" : \",AC$10))","v":0},{"$f":"COUNTIF(OFFICIAL!$R$4:$AF$111,CONCATENATE(AD$10,\" : \",$A12))+COUNTIF(OFFICIAL!$R$4:$AF$111,CONCATENATE($A12,\" : \",AD$10))","v":0},{"$f":"COUNTIF(OFFICIAL!$R$4:$AF$111,CONCATENATE(AE$10,\" : \",$A12))+COUNTIF(OFFICIAL!$R$4:$AF$111,CONCATENATE($A12,\" : \",AE$10))","v":0}]
[{"$f":"IF(DATA!$F6=\"\",\" \",DATA!$F6)","v":" "},{"$f":"COUNTIF(OFFICIAL!$R$4:$AF$111,CONCATENATE(B$10,\" : \",$A13))+COUNTIF(OFFICIAL!$R$4:$AF$111,CONCATENATE($A13,\" : \",B$10))","v":0},{"$f":"COUNTIF(OFFICIAL!$R$4:$AF$111,CONCATENATE(C$10,\" : \",$A13))+COUNTIF(OFFICIAL!$R$4:$AF$111,CONCATENATE($A13,\" : \",C$10))","v":0},{"$f":"COUNTIF(OFFICIAL!$H$4:$N$111,D$10)","v":0},{"$f":"COUNTIF(OFFICIAL!$R$4:$AF$111,CONCATENATE(E$10,\" : \",$A13))+COUNTIF(OFFICIAL!$R$4:$AF$111,CONCATENATE($A13,\" : \",E$10))","v":0},{"$f":"COUNTIF(OFFICIAL!$R$4:$AF$111,CONCATENATE(F$10,\" : \",$A13))+COUNTIF(OFFICIAL!$R$4:$AF$111,CONCATENATE($A13,\" : \",F$10))","v":0},{"$f":"COUNTIF(OFFICIAL!$R$4:$AF$111,CONCATENATE(G$10,\" : \",$A13))+COUNTIF(OFFICIAL!$R$4:$AF$111,CONCATENATE($A13,\" : \",G$10))","v":0},{"$f":"COUNTIF(OFFICIAL!$R$4:$AF$111,CONCATENATE(H$10,\" : \",$A13))+COUNTIF(OFFICIAL!$R$4:$AF$111,CONCATENATE($A13,\" : \",H$10))","v":0},{"$f":"COUNTIF(OFFICIAL!$R$4:$AF$111,CONCATENATE(I$10,\" : \",$A13))+COUNTIF(OFFICIAL!$R$4:$AF$111,CONCATENATE($A13,\" : \",I$10))","v":0},{"$f":"COUNTIF(OFFICIAL!$R$4:$AF$111,CONCATENATE(J$10,\" : \",$A13))+COUNTIF(OFFICIAL!$R$4:$AF$111,CONCATENATE($A13,\" : \",J$10))","v":0},{"$f":"COUNTIF(OFFICIAL!$R$4:$AF$111,CONCATENATE(K$10,\" : \",$A13))+COUNTIF(OFFICIAL!$R$4:$AF$111,CONCATENATE($A13,\" : \",K$10))","v":0},{"$f":"COUNTIF(OFFICIAL!$R$4:$AF$111,CONCATENATE(L$10,\" : \",$A13))+COUNTIF(OFFICIAL!$R$4:$AF$111,CONCATENATE($A13,\" : \",L$10))","v":0},{"$f":"COUNTIF(OFFICIAL!$R$4:$AF$111,CONCATENATE(M$10,\" : \",$A13))+COUNTIF(OFFICIAL!$R$4:$AF$111,CONCATENATE($A13,\" : \",M$10))","v":0},{"$f":"COUNTIF(OFFICIAL!$R$4:$AF$111,CONCATENATE(N$10,\" : \",$A13))+COUNTIF(OFFICIAL!$R$4:$AF$111,CONCATENATE($A13,\" : \",N$10))","v":0},{"$f":"COUNTIF(OFFICIAL!$R$4:$AF$111,CONCATENATE(O$10,\" : \",$A13))+COUNTIF(OFFICIAL!$R$4:$AF$111,CONCATENATE($A13,\" : \",O$10))","v":0},{"$f":"COUNTIF(OFFICIAL!$R$4:$AF$111,CONCATENATE(P$10,\" : \",$A13))+COUNTIF(OFFICIAL!$R$4:$AF$111,CONCATENATE($A13,\" : \",P$10))","v":0},{"$f":"COUNTIF(OFFICIAL!$R$4:$AF$111,CONCATENATE(Q$10,\" : \",$A13))+COUNTIF(OFFICIAL!$R$4:$AF$111,CONCATENATE($A13,\" : \",Q$10))","v":0},{"$f":"COUNTIF(OFFICIAL!$R$4:$AF$111,CONCATENATE(R$10,\" : \",$A13))+COUNTIF(OFFICIAL!$R$4:$AF$111,CONCATENATE($A13,\" : \",R$10))","v":0},{"$f":"COUNTIF(OFFICIAL!$R$4:$AF$111,CONCATENATE(S$10,\" : \",$A13))+COUNTIF(OFFICIAL!$R$4:$AF$111,CONCATENATE($A13,\" : \",S$10))","v":0},{"$f":"COUNTIF(OFFICIAL!$R$4:$AF$111,CONCATENATE(T$10,\" : \",$A13))+COUNTIF(OFFICIAL!$R$4:$AF$111,CONCATENATE($A13,\" : \",T$10))","v":0},{"$f":"COUNTIF(OFFICIAL!$R$4:$AF$111,CONCATENATE(U$10,\" : \",$A13))+COUNTIF(OFFICIAL!$R$4:$AF$111,CONCATENATE($A13,\" : \",U$10))","v":0},{"$f":"COUNTIF(OFFICIAL!$R$4:$AF$111,CONCATENATE(V$10,\" : \",$A13))+COUNTIF(OFFICIAL!$R$4:$AF$111,CONCATENATE($A13,\" : \",V$10))","v":0},{"$f":"COUNTIF(OFFICIAL!$R$4:$AF$111,CONCATENATE(W$10,\" : \",$A13))+COUNTIF(OFFICIAL!$R$4:$AF$111,CONCATENATE($A13,\" : \",W$10))","v":0},{"$f":"COUNTIF(OFFICIAL!$R$4:$AF$111,CONCATENATE(X$10,\" : \",$A13))+COUNTIF(OFFICIAL!$R$4:$AF$111,CONCATENATE($A13,\" : \",X$10))","v":0},{"$f":"COUNTIF(OFFICIAL!$R$4:$AF$111,CONCATENATE(Y$10,\" : \",$A13))+COUNTIF(OFFICIAL!$R$4:$AF$111,CONCATENATE($A13,\" : \",Y$10))","v":0},{"$f":"COUNTIF(OFFICIAL!$R$4:$AF$111,CONCATENATE(Z$10,\" : \",$A13))+COUNTIF(OFFICIAL!$R$4:$AF$111,CONCATENATE($A13,\" : \",Z$10))","v":0},{"$f":"COUNTIF(OFFICIAL!$R$4:$AF$111,CONCATENATE(AA$10,\" : \",$A13))+COUNTIF(OFFICIAL!$R$4:$AF$111,CONCATENATE($A13,\" : \",AA$10))","v":0},{"$f":"COUNTIF(OFFICIAL!$R$4:$AF$111,CONCATENATE(AB$10,\" : \",$A13))+COUNTIF(OFFICIAL!$R$4:$AF$111,CONCATENATE($A13,\" : \",AB$10))","v":0},{"$f":"COUNTIF(OFFICIAL!$R$4:$AF$111,CONCATENATE(AC$10,\" : \",$A13))+COUNTIF(OFFICIAL!$R$4:$AF$111,CONCATENATE($A13,\" : \",AC$10))","v":0},{"$f":"COUNTIF(OFFICIAL!$R$4:$AF$111,CONCATENATE(AD$10,\" : \",$A13))+COUNTIF(OFFICIAL!$R$4:$AF$111,CONCATENATE($A13,\" : \",AD$10))","v":0},{"$f":"COUNTIF(OFFICIAL!$R$4:$AF$111,CONCATENATE(AE$10,\" : \",$A13))+COUNTIF(OFFICIAL!$R$4:$AF$111,CONCATENATE($A13,\" : \",AE$10))","v":0}]
[{"$f":"IF(DATA!$F7=\"\",\" \",DATA!$F7)","v":" "},{"$f":"COUNTIF(OFFICIAL!$R$4:$AF$111,CONCATENATE(B$10,\" : \",$A14))+COUNTIF(OFFICIAL!$R$4:$AF$111,CONCATENATE($A14,\" : \",B$10))","v":0},{"$f":"COUNTIF(OFFICIAL!$R$4:$AF$111,CONCATENATE(C$10,\" : \",$A14))+COUNTIF(OFFICIAL!$R$4:$AF$111,CONCATENATE($A14,\" : \",C$10))","v":0},{"$f":"COUNTIF(OFFICIAL!$R$4:$AF$111,CONCATENATE(D$10,\" : \",$A14))+COUNTIF(OFFICIAL!$R$4:$AF$111,CONCATENATE($A14,\" : \",D$10))","v":0},{"$f":"COUNTIF(OFFICIAL!$H$4:$N$111,E$10)","v":0},{"$f":"COUNTIF(OFFICIAL!$R$4:$AF$111,CONCATENATE(F$10,\" : \",$A14))+COUNTIF(OFFICIAL!$R$4:$AF$111,CONCATENATE($A14,\" : \",F$10))","v":0},{"$f":"COUNTIF(OFFICIAL!$R$4:$AF$111,CONCATENATE(G$10,\" : \",$A14))+COUNTIF(OFFICIAL!$R$4:$AF$111,CONCATENATE($A14,\" : \",G$10))","v":0},{"$f":"COUNTIF(OFFICIAL!$R$4:$AF$111,CONCATENATE(H$10,\" : \",$A14))+COUNTIF(OFFICIAL!$R$4:$AF$111,CONCATENATE($A14,\" : \",H$10))","v":0},{"$f":"COUNTIF(OFFICIAL!$R$4:$AF$111,CONCATENATE(I$10,\" : \",$A14))+COUNTIF(OFFICIAL!$R$4:$AF$111,CONCATENATE($A14,\" : \",I$10))","v":0},{"$f":"COUNTIF(OFFICIAL!$R$4:$AF$111,CONCATENATE(J$10,\" : \",$A14))+COUNTIF(OFFICIAL!$R$4:$AF$111,CONCATENATE($A14,\" : \",J$10))","v":0},{"$f":"COUNTIF(OFFICIAL!$R$4:$AF$111,CONCATENATE(K$10,\" : \",$A14))+COUNTIF(OFFICIAL!$R$4:$AF$111,CONCATENATE($A14,\" : \",K$10))","v":0},{"$f":"COUNTIF(OFFICIAL!$R$4:$AF$111,CONCATENATE(L$10,\" : \",$A14))+COUNTIF(OFFICIAL!$R$4:$AF$111,CONCATENATE($A14,\" : \",L$10))","v":0},{"$f":"COUNTIF(OFFICIAL!$R$4:$AF$111,CONCATENATE(M$10,\" : \",$A14))+COUNTIF(OFFICIAL!$R$4:$AF$111,CONCATENATE($A14,\" : \",M$10))","v":0},{"$f":"COUNTIF(OFFICIAL!$R$4:$AF$111,CONCATENATE(N$10,\" : \",$A14))+COUNTIF(OFFICIAL!$R$4:$AF$111,CONCATENATE($A14,\" : \",N$10))","v":0},{"$f":"COUNTIF(OFFICIAL!$R$4:$AF$111,CONCATENATE(O$10,\" : \",$A14))+COUNTIF(OFFICIAL!$R$4:$AF$111,CONCATENATE($A14,\" : \",O$10))","v":0},{"$f":"COUNTIF(OFFICIAL!$R$4:$AF$111,CONCATENATE(P$10,\" : \",$A14))+COUNTIF(OFFICIAL!$R$4:$AF$111,CONCATENATE($A14,\" : \",P$10))","v":0},{"$f":"COUNTIF(OFFICIAL!$R$4:$AF$111,CONCATENATE(Q$10,\" : \",$A14))+COUNTIF(OFFICIAL!$R$4:$AF$111,CONCATENATE($A14,\" : \",Q$10))","v":0},{"$f":"COUNTIF(OFFICIAL!$R$4:$AF$111,CONCATENATE(R$10,\" : \",$A14))+COUNTIF(OFFICIAL!$R$4:$AF$111,CONCATENATE($A14,\" : \",R$10))","v":0},{"$f":"COUNTIF(OFFICIAL!$R$4:$AF$111,CONCATENATE(S$10,\" : \",$A14))+COUNTIF(OFFICIAL!$R$4:$AF$111,CONCATENATE($A14,\" : \",S$10))","v":0},{"$f":"COUNTIF(OFFICIAL!$R$4:$AF$111,CONCATENATE(T$10,\" : \",$A14))+COUNTIF(OFFICIAL!$R$4:$AF$111,CONCATENATE($A14,\" : \",T$10))","v":0},{"$f":"COUNTIF(OFFICIAL!$R$4:$AF$111,CONCATENATE(U$10,\" : \",$A14))+COUNTIF(OFFICIAL!$R$4:$AF$111,CONCATENATE($A14,\" : \",U$10))","v":0},{"$f":"COUNTIF(OFFICIAL!$R$4:$AF$111,CONCATENATE(V$10,\" : \",$A14))+COUNTIF(OFFICIAL!$R$4:$AF$111,CONCATENATE($A14,\" : \",V$10))","v":0},{"$f":"COUNTIF(OFFICIAL!$R$4:$AF$111,CONCATENATE(W$10,\" : \",$A14))+COUNTIF(OFFICIAL!$R$4:$AF$111,CONCATENATE($A14,\" : \",W$10))","v":0},{"$f":"COUNTIF(OFFICIAL!$R$4:$AF$111,CONCATENATE(X$10,\" : \",$A14))+COUNTIF(OFFICIAL!$R$4:$AF$111,CONCATENATE($A14,\" : \",X$10))","v":0},{"$f":"COUNTIF(OFFICIAL!$R$4:$AF$111,CONCATENATE(Y$10,\" : \",$A14))+COUNTIF(OFFICIAL!$R$4:$AF$111,CONCATENATE($A14,\" : \",Y$10))","v":0},{"$f":"COUNTIF(OFFICIAL!$R$4:$AF$111,CONCATENATE(Z$10,\" : \",$A14))+COUNTIF(OFFICIAL!$R$4:$AF$111,CONCATENATE($A14,\" : \",Z$10))","v":0},{"$f":"COUNTIF(OFFICIAL!$R$4:$AF$111,CONCATENATE(AA$10,\" : \",$A14))+COUNTIF(OFFICIAL!$R$4:$AF$111,CONCATENATE($A14,\" : \",AA$10))","v":0},{"$f":"COUNTIF(OFFICIAL!$R$4:$AF$111,CONCATENATE(AB$10,\" : \",$A14))+COUNTIF(OFFICIAL!$R$4:$AF$111,CONCATENATE($A14,\" : \",AB$10))","v":0},{"$f":"COUNTIF(OFFICIAL!$R$4:$AF$111,CONCATENATE(AC$10,\" : \",$A14))+COUNTIF(OFFICIAL!$R$4:$AF$111,CONCATENATE($A14,\" : \",AC$10))","v":0},{"$f":"COUNTIF(OFFICIAL!$R$4:$AF$111,CONCATENATE(AD$10,\" : \",$A14))+COUNTIF(OFFICIAL!$R$4:$AF$111,CONCATENATE($A14,\" : \",AD$10))","v":0},{"$f":"COUNTIF(OFFICIAL!$R$4:$AF$111,CONCATENATE(AE$10,\" : \",$A14))+COUNTIF(OFFICIAL!$R$4:$AF$111,CONCATENATE($A14,\" : \",AE$10))","v":0}]
[{"$f":"IF(DATA!$F8=\"\",\" \",DATA!$F8)","v":" "},{"$f":"COUNTIF(OFFICIAL!$R$4:$AF$111,CONCATENATE(B$10,\" : \",$A15))+COUNTIF(OFFICIAL!$R$4:$AF$111,CONCATENATE($A15,\" : \",B$10))","v":0},{"$f":"COUNTIF(OFFICIAL!$R$4:$AF$111,CONCATENATE(C$10,\" : \",$A15))+COUNTIF(OFFICIAL!$R$4:$AF$111,CONCATENATE($A15,\" : \",C$10))","v":0},{"$f":"COUNTIF(OFFICIAL!$R$4:$AF$111,CONCATENATE(D$10,\" : \",$A15))+COUNTIF(OFFICIAL!$R$4:$AF$111,CONCATENATE($A15,\" : \",D$10))","v":0},{"$f":"COUNTIF(OFFICIAL!$R$4:$AF$111,CONCATENATE(E$10,\" : \",$A15))+COUNTIF(OFFICIAL!$R$4:$AF$111,CONCATENATE($A15,\" : \",E$10))","v":0},{"$f":"COUNTIF(OFFICIAL!$H$4:$N$111,F$10)","v":0},{"$f":"COUNTIF(OFFICIAL!$R$4:$AF$111,CONCATENATE(G$10,\" : \",$A15))+COUNTIF(OFFICIAL!$R$4:$AF$111,CONCATENATE($A15,\" : \",G$10))","v":0},{"$f":"COUNTIF(OFFICIAL!$R$4:$AF$111,CONCATENATE(H$10,\" : \",$A15))+COUNTIF(OFFICIAL!$R$4:$AF$111,CONCATENATE($A15,\" : \",H$10))","v":0},{"$f":"COUNTIF(OFFICIAL!$R$4:$AF$111,CONCATENATE(I$10,\" : \",$A15))+COUNTIF(OFFICIAL!$R$4:$AF$111,CONCATENATE($A15,\" : \",I$10))","v":0},{"$f":"COUNTIF(OFFICIAL!$R$4:$AF$111,CONCATENATE(J$10,\" : \",$A15))+COUNTIF(OFFICIAL!$R$4:$AF$111,CONCATENATE($A15,\" : \",J$10))","v":0},{"$f":"COUNTIF(OFFICIAL!$R$4:$AF$111,CONCATENATE(K$10,\" : \",$A15))+COUNTIF(OFFICIAL!$R$4:$AF$111,CONCATENATE($A15,\" : \",K$10))","v":0},{"$f":"COUNTIF(OFFICIAL!$R$4:$AF$111,CONCATENATE(L$10,\" : \",$A15))+COUNTIF(OFFICIAL!$R$4:$AF$111,CONCATENATE($A15,\" : \",L$10))","v":0},{"$f":"COUNTIF(OFFICIAL!$R$4:$AF$111,CONCATENATE(M$10,\" : \",$A15))+COUNTIF(OFFICIAL!$R$4:$AF$111,CONCATENATE($A15,\" : \",M$10))","v":0},{"$f":"COUNTIF(OFFICIAL!$R$4:$AF$111,CONCATENATE(N$10,\" : \",$A15))+COUNTIF(OFFICIAL!$R$4:$AF$111,CONCATENATE($A15,\" : \",N$10))","v":0},{"$f":"COUNTIF(OFFICIAL!$R$4:$AF$111,CONCATENATE(O$10,\" : \",$A15))+COUNTIF(OFFICIAL!$R$4:$AF$111,CONCATENATE($A15,\" : \",O$10))","v":0},{"$f":"COUNTIF(OFFICIAL!$R$4:$AF$111,CONCATENATE(P$10,\" : \",$A15))+COUNTIF(OFFICIAL!$R$4:$AF$111,CONCATENATE($A15,\" : \",P$10))","v":0},{"$f":"COUNTIF(OFFICIAL!$R$4:$AF$111,CONCATENATE(Q$10,\" : \",$A15))+COUNTIF(OFFICIAL!$R$4:$AF$111,CONCATENATE($A15,\" : \",Q$10))","v":0},{"$f":"COUNTIF(OFFICIAL!$R$4:$AF$111,CONCATENATE(R$10,\" : \",$A15))+COUNTIF(OFFICIAL!$R$4:$AF$111,CONCATENATE($A15,\" : \",R$10))","v":0},{"$f":"COUNTIF(OFFICIAL!$R$4:$AF$111,CONCATENATE(S$10,\" : \",$A15))+COUNTIF(OFFICIAL!$R$4:$AF$111,CONCATENATE($A15,\" : \",S$10))","v":0},{"$f":"COUNTIF(OFFICIAL!$R$4:$AF$111,CONCATENATE(T$10,\" : \",$A15))+COUNTIF(OFFICIAL!$R$4:$AF$111,CONCATENATE($A15,\" : \",T$10))","v":0},{"$f":"COUNTIF(OFFICIAL!$R$4:$AF$111,CONCATENATE(U$10,\" : \",$A15))+COUNTIF(OFFICIAL!$R$4:$AF$111,CONCATENATE($A15,\" : \",U$10))","v":0},{"$f":"COUNTIF(OFFICIAL!$R$4:$AF$111,CONCATENATE(V$10,\" : \",$A15))+COUNTIF(OFFICIAL!$R$4:$AF$111,CONCATENATE($A15,\" : \",V$10))","v":0},{"$f":"COUNTIF(OFFICIAL!$R$4:$AF$111,CONCATENATE(W$10,\" : \",$A15))+COUNTIF(OFFICIAL!$R$4:$AF$111,CONCATENATE($A15,\" : \",W$10))","v":0},{"$f":"COUNTIF(OFFICIAL!$R$4:$AF$111,CONCATENATE(X$10,\" : \",$A15))+COUNTIF(OFFICIAL!$R$4:$AF$111,CONCATENATE($A15,\" : \",X$10))","v":0},{"$f":"COUNTIF(OFFICIAL!$R$4:$AF$111,CONCATENATE(Y$10,\" : \",$A15))+COUNTIF(OFFICIAL!$R$4:$AF$111,CONCATENATE($A15,\" : \",Y$10))","v":0},{"$f":"COUNTIF(OFFICIAL!$R$4:$AF$111,CONCATENATE(Z$10,\" : \",$A15))+COUNTIF(OFFICIAL!$R$4:$AF$111,CONCATENATE($A15,\" : \",Z$10))","v":0},{"$f":"COUNTIF(OFFICIAL!$R$4:$AF$111,CONCATENATE(AA$10,\" : \",$A15))+COUNTIF(OFFICIAL!$R$4:$AF$111,CONCATENATE($A15,\" : \",AA$10))","v":0},{"$f":"COUNTIF(OFFICIAL!$R$4:$AF$111,CONCATENATE(AB$10,\" : \",$A15))+COUNTIF(OFFICIAL!$R$4:$AF$111,CONCATENATE($A15,\" : \",AB$10))","v":0},{"$f":"COUNTIF(OFFICIAL!$R$4:$AF$111,CONCATENATE(AC$10,\" : \",$A15))+COUNTIF(OFFICIAL!$R$4:$AF$111,CONCATENATE($A15,\" : \",AC$10))","v":0},{"$f":"COUNTIF(OFFICIAL!$R$4:$AF$111,CONCATENATE(AD$10,\" : \",$A15))+COUNTIF(OFFICIAL!$R$4:$AF$111,CONCATENATE($A15,\" : \",AD$10))","v":0},{"$f":"COUNTIF(OFFICIAL!$R$4:$AF$111,CONCATENATE(AE$10,\" : \",$A15))+COUNTIF(OFFICIAL!$R$4:$AF$111,CONCATENATE($A15,\" : \",AE$10))","v":0}]
[{"$f":"IF(DATA!$F9=\"\",\" \",DATA!$F9)","v":" "},{"$f":"COUNTIF(OFFICIAL!$R$4:$AF$111,CONCATENATE(B$10,\" : \",$A16))+COUNTIF(OFFICIAL!$R$4:$AF$111,CONCATENATE($A16,\" : \",B$10))","v":0},{"$f":"COUNTIF(OFFICIAL!$R$4:$AF$111,CONCATENATE(C$10,\" : \",$A16))+COUNTIF(OFFICIAL!$R$4:$AF$111,CONCATENATE($A16,\" : \",C$10))","v":0},{"$f":"COUNTIF(OFFICIAL!$R$4:$AF$111,CONCATENATE(D$10,\" : \",$A16))+COUNTIF(OFFICIAL!$R$4:$AF$111,CONCATENATE($A16,\" : \",D$10))","v":0},{"$f":"COUNTIF(OFFICIAL!$R$4:$AF$111,CONCATENATE(E$10,\" : \",$A16))+COUNTIF(OFFICIAL!$R$4:$AF$111,CONCATENATE($A16,\" : \",E$10))","v":0},{"$f":"COUNTIF(OFFICIAL!$R$4:$AF$111,CONCATENATE(F$10,\" : \",$A16))+COUNTIF(OFFICIAL!$R$4:$AF$111,CONCATENATE($A16,\" : \",F$10))","v":0},{"$f":"COUNTIF(OFFICIAL!$H$4:$N$111,G$10)","v":0},{"$f":"COUNTIF(OFFICIAL!$R$4:$AF$111,CONCATENATE(H$10,\" : \",$A16))+COUNTIF(OFFICIAL!$R$4:$AF$111,CONCATENATE($A16,\" : \",H$10))","v":0},{"$f":"COUNTIF(OFFICIAL!$R$4:$AF$111,CONCATENATE(I$10,\" : \",$A16))+COUNTIF(OFFICIAL!$R$4:$AF$111,CONCATENATE($A16,\" : \",I$10))","v":0},{"$f":"COUNTIF(OFFICIAL!$R$4:$AF$111,CONCATENATE(J$10,\" : \",$A16))+COUNTIF(OFFICIAL!$R$4:$AF$111,CONCATENATE($A16,\" : \",J$10))","v":0},{"$f":"COUNTIF(OFFICIAL!$R$4:$AF$111,CONCATENATE(K$10,\" : \",$A16))+COUNTIF(OFFICIAL!$R$4:$AF$111,CONCATENATE($A16,\" : \",K$10))","v":0},{"$f":"COUNTIF(OFFICIAL!$R$4:$AF$111,CONCATENATE(L$10,\" : \",$A16))+COUNTIF(OFFICIAL!$R$4:$AF$111,CONCATENATE($A16,\" : \",L$10))","v":0},{"$f":"COUNTIF(OFFICIAL!$R$4:$AF$111,CONCATENATE(M$10,\" : \",$A16))+COUNTIF(OFFICIAL!$R$4:$AF$111,CONCATENATE($A16,\" : \",M$10))","v":0},{"$f":"COUNTIF(OFFICIAL!$R$4:$AF$111,CONCATENATE(N$10,\" : \",$A16))+COUNTIF(OFFICIAL!$R$4:$AF$111,CONCATENATE($A16,\" : \",N$10))","v":0},{"$f":"COUNTIF(OFFICIAL!$R$4:$AF$111,CONCATENATE(O$10,\" : \",$A16))+COUNTIF(OFFICIAL!$R$4:$AF$111,CONCATENATE($A16,\" : \",O$10))","v":0},{"$f":"COUNTIF(OFFICIAL!$R$4:$AF$111,CONCATENATE(P$10,\" : \",$A16))+COUNTIF(OFFICIAL!$R$4:$AF$111,CONCATENATE($A16,\" : \",P$10))","v":0},{"$f":"COUNTIF(OFFICIAL!$R$4:$AF$111,CONCATENATE(Q$10,\" : \",$A16))+COUNTIF(OFFICIAL!$R$4:$AF$111,CONCATENATE($A16,\" : \",Q$10))","v":0},{"$f":"COUNTIF(OFFICIAL!$R$4:$AF$111,CONCATENATE(R$10,\" : \",$A16))+COUNTIF(OFFICIAL!$R$4:$AF$111,CONCATENATE($A16,\" : \",R$10))","v":0},{"$f":"COUNTIF(OFFICIAL!$R$4:$AF$111,CONCATENATE(S$10,\" : \",$A16))+COUNTIF(OFFICIAL!$R$4:$AF$111,CONCATENATE($A16,\" : \",S$10))","v":0},{"$f":"COUNTIF(OFFICIAL!$R$4:$AF$111,CONCATENATE(T$10,\" : \",$A16))+COUNTIF(OFFICIAL!$R$4:$AF$111,CONCATENATE($A16,\" : \",T$10))","v":0},{"$f":"COUNTIF(OFFICIAL!$R$4:$AF$111,CONCATENATE(U$10,\" : \",$A16))+COUNTIF(OFFICIAL!$R$4:$AF$111,CONCATENATE($A16,\" : \",U$10))","v":0},{"$f":"COUNTIF(OFFICIAL!$R$4:$AF$111,CONCATENATE(V$10,\" : \",$A16))+COUNTIF(OFFICIAL!$R$4:$AF$111,CONCATENATE($A16,\" : \",V$10))","v":0},{"$f":"COUNTIF(OFFICIAL!$R$4:$AF$111,CONCATENATE(W$10,\" : \",$A16))+COUNTIF(OFFICIAL!$R$4:$AF$111,CONCATENATE($A16,\" : \",W$10))","v":0},{"$f":"COUNTIF(OFFICIAL!$R$4:$AF$111,CONCATENATE(X$10,\" : \",$A16))+COUNTIF(OFFICIAL!$R$4:$AF$111,CONCATENATE($A16,\" : \",X$10))","v":0},{"$f":"COUNTIF(OFFICIAL!$R$4:$AF$111,CONCATENATE(Y$10,\" : \",$A16))+COUNTIF(OFFICIAL!$R$4:$AF$111,CONCATENATE($A16,\" : \",Y$10))","v":0},{"$f":"COUNTIF(OFFICIAL!$R$4:$AF$111,CONCATENATE(Z$10,\" : \",$A16))+COUNTIF(OFFICIAL!$R$4:$AF$111,CONCATENATE($A16,\" : \",Z$10))","v":0},{"$f":"COUNTIF(OFFICIAL!$R$4:$AF$111,CONCATENATE(AA$10,\" : \",$A16))+COUNTIF(OFFICIAL!$R$4:$AF$111,CONCATENATE($A16,\" : \",AA$10))","v":0},{"$f":"COUNTIF(OFFICIAL!$R$4:$AF$111,CONCATENATE(AB$10,\" : \",$A16))+COUNTIF(OFFICIAL!$R$4:$AF$111,CONCATENATE($A16,\" : \",AB$10))","v":0},{"$f":"COUNTIF(OFFICIAL!$R$4:$AF$111,CONCATENATE(AC$10,\" : \",$A16))+COUNTIF(OFFICIAL!$R$4:$AF$111,CONCATENATE($A16,\" : \",AC$10))","v":0},{"$f":"COUNTIF(OFFICIAL!$R$4:$AF$111,CONCATENATE(AD$10,\" : \",$A16))+COUNTIF(OFFICIAL!$R$4:$AF$111,CONCATENATE($A16,\" : \",AD$10))","v":0},{"$f":"COUNTIF(OFFICIAL!$R$4:$AF$111,CONCATENATE(AE$10,\" : \",$A16))+COUNTIF(OFFICIAL!$R$4:$AF$111,CONCATENATE($A16,\" : \",AE$10))","v":0}]
[{"$f":"IF(DATA!$F10=\"\",\" \",DATA!$F10)","v":" "},{"$f":"COUNTIF(OFFICIAL!$R$4:$AF$111,CONCATENATE(B$10,\" : \",$A17))+COUNTIF(OFFICIAL!$R$4:$AF$111,CONCATENATE($A17,\" : \",B$10))","v":0},{"$f":"COUNTIF(OFFICIAL!$R$4:$AF$111,CONCATENATE(C$10,\" : \",$A17))+COUNTIF(OFFICIAL!$R$4:$AF$111,CONCATENATE($A17,\" : \",C$10))","v":0},{"$f":"COUNTIF(OFFICIAL!$R$4:$AF$111,CONCATENATE(D$10,\" : \",$A17))+COUNTIF(OFFICIAL!$R$4:$AF$111,CONCATENATE($A17,\" : \",D$10))","v":0},{"$f":"COUNTIF(OFFICIAL!$R$4:$AF$111,CONCATENATE(E$10,\" : \",$A17))+COUNTIF(OFFICIAL!$R$4:$AF$111,CONCATENATE($A17,\" : \",E$10))","v":0},{"$f":"COUNTIF(OFFICIAL!$R$4:$AF$111,CONCATENATE(F$10,\" : \",$A17))+COUNTIF(OFFICIAL!$R$4:$AF$111,CONCATENATE($A17,\" : \",F$10))","v":0},{"$f":"COUNTIF(OFFICIAL!$R$4:$AF$111,CONCATENATE(G$10,\" : \",$A17))+COUNTIF(OFFICIAL!$R$4:$AF$111,CONCATENATE($A17,\" : \",G$10))","v":0},{"$f":"COUNTIF(OFFICIAL!$H$4:$N$111,H$10)","v":0},{"$f":"COUNTIF(OFFICIAL!$R$4:$AF$111,CONCATENATE(I$10,\" : \",$A17))+COUNTIF(OFFICIAL!$R$4:$AF$111,CONCATENATE($A17,\" : \",I$10))","v":0},{"$f":"COUNTIF(OFFICIAL!$R$4:$AF$111,CONCATENATE(J$10,\" : \",$A17))+COUNTIF(OFFICIAL!$R$4:$AF$111,CONCATENATE($A17,\" : \",J$10))","v":0},{"$f":"COUNTIF(OFFICIAL!$R$4:$AF$111,CONCATENATE(K$10,\" : \",$A17))+COUNTIF(OFFICIAL!$R$4:$AF$111,CONCATENATE($A17,\" : \",K$10))","v":0},{"$f":"COUNTIF(OFFICIAL!$R$4:$AF$111,CONCATENATE(L$10,\" : \",$A17))+COUNTIF(OFFICIAL!$R$4:$AF$111,CONCATENATE($A17,\" : \",L$10))","v":0},{"$f":"COUNTIF(OFFICIAL!$R$4:$AF$111,CONCATENATE(M$10,\" : \",$A17))+COUNTIF(OFFICIAL!$R$4:$AF$111,CONCATENATE($A17,\" : \",M$10))","v":0},{"$f":"COUNTIF(OFFICIAL!$R$4:$AF$111,CONCATENATE(N$10,\" : \",$A17))+COUNTIF(OFFICIAL!$R$4:$AF$111,CONCATENATE($A17,\" : \",N$10))","v":0},{"$f":"COUNTIF(OFFICIAL!$R$4:$AF$111,CONCATENATE(O$10,\" : \",$A17))+COUNTIF(OFFICIAL!$R$4:$AF$111,CONCATENATE($A17,\" : \",O$10))","v":0},{"$f":"COUNTIF(OFFICIAL!$R$4:$AF$111,CONCATENATE(P$10,\" : \",$A17))+COUNTIF(OFFICIAL!$R$4:$AF$111,CONCATENATE($A17,\" : \",P$10))","v":0},{"$f":"COUNTIF(OFFICIAL!$R$4:$AF$111,CONCATENATE(Q$10,\" : \",$A17))+COUNTIF(OFFICIAL!$R$4:$AF$111,CONCATENATE($A17,\" : \",Q$10))","v":0},{"$f":"COUNTIF(OFFICIAL!$R$4:$AF$111,CONCATENATE(R$10,\" : \",$A17))+COUNTIF(OFFICIAL!$R$4:$AF$111,CONCATENATE($A17,\" : \",R$10))","v":0},{"$f":"COUNTIF(OFFICIAL!$R$4:$AF$111,CONCATENATE(S$10,\" : \",$A17))+COUNTIF(OFFICIAL!$R$4:$AF$111,CONCATENATE($A17,\" : \",S$10))","v":0},{"$f":"COUNTIF(OFFICIAL!$R$4:$AF$111,CONCATENATE(T$10,\" : \",$A17))+COUNTIF(OFFICIAL!$R$4:$AF$111,CONCATENATE($A17,\" : \",T$10))","v":0},{"$f":"COUNTIF(OFFICIAL!$R$4:$AF$111,CONCATENATE(U$10,\" : \",$A17))+COUNTIF(OFFICIAL!$R$4:$AF$111,CONCATENATE($A17,\" : \",U$10))","v":0},{"$f":"COUNTIF(OFFICIAL!$R$4:$AF$111,CONCATENATE(V$10,\" : \",$A17))+COUNTIF(OFFICIAL!$R$4:$AF$111,CONCATENATE($A17,\" : \",V$10))","v":0},{"$f":"COUNTIF(OFFICIAL!$R$4:$AF$111,CONCATENATE(W$10,\" : \",$A17))+COUNTIF(OFFICIAL!$R$4:$AF$111,CONCATENATE($A17,\" : \",W$10))","v":0},{"$f":"COUNTIF(OFFICIAL!$R$4:$AF$111,CONCATENATE(X$10,\" : \",$A17))+COUNTIF(OFFICIAL!$R$4:$AF$111,CONCATENATE($A17,\" : \",X$10))","v":0},{"$f":"COUNTIF(OFFICIAL!$R$4:$AF$111,CONCATENATE(Y$10,\" : \",$A17))+COUNTIF(OFFICIAL!$R$4:$AF$111,CONCATENATE($A17,\" : \",Y$10))","v":0},{"$f":"COUNTIF(OFFICIAL!$R$4:$AF$111,CONCATENATE(Z$10,\" : \",$A17))+COUNTIF(OFFICIAL!$R$4:$AF$111,CONCATENATE($A17,\" : \",Z$10))","v":0},{"$f":"COUNTIF(OFFICIAL!$R$4:$AF$111,CONCATENATE(AA$10,\" : \",$A17))+COUNTIF(OFFICIAL!$R$4:$AF$111,CONCATENATE($A17,\" : \",AA$10))","v":0},{"$f":"COUNTIF(OFFICIAL!$R$4:$AF$111,CONCATENATE(AB$10,\" : \",$A17))+COUNTIF(OFFICIAL!$R$4:$AF$111,CONCATENATE($A17,\" : \",AB$10))","v":0},{"$f":"COUNTIF(OFFICIAL!$R$4:$AF$111,CONCATENATE(AC$10,\" : \",$A17))+COUNTIF(OFFICIAL!$R$4:$AF$111,CONCATENATE($A17,\" : \",AC$10))","v":0},{"$f":"COUNTIF(OFFICIAL!$R$4:$AF$111,CONCATENATE(AD$10,\" : \",$A17))+COUNTIF(OFFICIAL!$R$4:$AF$111,CONCATENATE($A17,\" : \",AD$10))","v":0},{"$f":"COUNTIF(OFFICIAL!$R$4:$AF$111,CONCATENATE(AE$10,\" : \",$A17))+COUNTIF(OFFICIAL!$R$4:$AF$111,CONCATENATE($A17,\" : \",AE$10))","v":0}]
[{"$f":"IF(DATA!$F11=\"\",\" \",DATA!$F11)","v":" "},{"$f":"COUNTIF(OFFICIAL!$R$4:$AF$111,CONCATENATE(B$10,\" : \",$A18))+COUNTIF(OFFICIAL!$R$4:$AF$111,CONCATENATE($A18,\" : \",B$10))","v":0},{"$f":"COUNTIF(OFFICIAL!$R$4:$AF$111,CONCATENATE(C$10,\" : \",$A18))+COUNTIF(OFFICIAL!$R$4:$AF$111,CONCATENATE($A18,\" : \",C$10))","v":0},{"$f":"COUNTIF(OFFICIAL!$R$4:$AF$111,CONCATENATE(D$10,\" : \",$A18))+COUNTIF(OFFICIAL!$R$4:$AF$111,CONCATENATE($A18,\" : \",D$10))","v":0},{"$f":"COUNTIF(OFFICIAL!$R$4:$AF$111,CONCATENATE(E$10,\" : \",$A18))+COUNTIF(OFFICIAL!$R$4:$AF$111,CONCATENATE($A18,\" : \",E$10))","v":0},{"$f":"COUNTIF(OFFICIAL!$R$4:$AF$111,CONCATENATE(F$10,\" : \",$A18))+COUNTIF(OFFICIAL!$R$4:$AF$111,CONCATENATE($A18,\" : \",F$10))","v":0},{"$f":"COUNTIF(OFFICIAL!$R$4:$AF$111,CONCATENATE(G$10,\" : \",$A18))+COUNTIF(OFFICIAL!$R$4:$AF$111,CONCATENATE($A18,\" : \",G$10))","v":0},{"$f":"COUNTIF(OFFICIAL!$R$4:$AF$111,CONCATENATE(H$10,\" : \",$A18))+COUNTIF(OFFICIAL!$R$4:$AF$111,CONCATENATE($A18,\" : \",H$10))","v":0},{"$f":"COUNTIF(OFFICIAL!$H$4:$N$111,I$10)","v":0},{"$f":"COUNTIF(OFFICIAL!$R$4:$AF$111,CONCATENATE(J$10,\" : \",$A18))+COUNTIF(OFFICIAL!$R$4:$AF$111,CONCATENATE($A18,\" : \",J$10))","v":0},{"$f":"COUNTIF(OFFICIAL!$R$4:$AF$111,CONCATENATE(K$10,\" : \",$A18))+COUNTIF(OFFICIAL!$R$4:$AF$111,CONCATENATE($A18,\" : \",K$10))","v":0},{"$f":"COUNTIF(OFFICIAL!$R$4:$AF$111,CONCATENATE(L$10,\" : \",$A18))+COUNTIF(OFFICIAL!$R$4:$AF$111,CONCATENATE($A18,\" : \",L$10))","v":0},{"$f":"COUNTIF(OFFICIAL!$R$4:$AF$111,CONCATENATE(M$10,\" : \",$A18))+COUNTIF(OFFICIAL!$R$4:$AF$111,CONCATENATE($A18,\" : \",M$10))","v":0},{"$f":"COUNTIF(OFFICIAL!$R$4:$AF$111,CONCATENATE(N$10,\" : \",$A18))+COUNTIF(OFFICIAL!$R$4:$AF$111,CONCATENATE($A18,\" : \",N$10))","v":0},{"$f":"COUNTIF(OFFICIAL!$R$4:$AF$111,CONCATENATE(O$10,\" : \",$A18))+COUNTIF(OFFICIAL!$R$4:$AF$111,CONCATENATE($A18,\" : \",O$10))","v":0},{"$f":"COUNTIF(OFFICIAL!$R$4:$AF$111,CONCATENATE(P$10,\" : \",$A18))+COUNTIF(OFFICIAL!$R$4:$AF$111,CONCATENATE($A18,\" : \",P$10))","v":0},{"$f":"COUNTIF(OFFICIAL!$R$4:$AF$111,CONCATENATE(Q$10,\" : \",$A18))+COUNTIF(OFFICIAL!$R$4:$AF$111,CONCATENATE($A18,\" : \",Q$10))","v":0},{"$f":"COUNTIF(OFFICIAL!$R$4:$AF$111,CONCATENATE(R$10,\" : \",$A18))+COUNTIF(OFFICIAL!$R$4:$AF$111,CONCATENATE($A18,\" : \",R$10))","v":0},{"$f":"COUNTIF(OFFICIAL!$R$4:$AF$111,CONCATENATE(S$10,\" : \",$A18))+COUNTIF(OFFICIAL!$R$4:$AF$111,CONCATENATE($A18,\" : \",S$10))","v":0},{"$f":"COUNTIF(OFFICIAL!$R$4:$AF$111,CONCATENATE(T$10,\" : \",$A18))+COUNTIF(OFFICIAL!$R$4:$AF$111,CONCATENATE($A18,\" : \",T$10))","v":0},{"$f":"COUNTIF(OFFICIAL!$R$4:$AF$111,CONCATENATE(U$10,\" : \",$A18))+COUNTIF(OFFICIAL!$R$4:$AF$111,CONCATENATE($A18,\" : \",U$10))","v":0},{"$f":"COUNTIF(OFFICIAL!$R$4:$AF$111,CONCATENATE(V$10,\" : \",$A18))+COUNTIF(OFFICIAL!$R$4:$AF$111,CONCATENATE($A18,\" : \",V$10))","v":0},{"$f":"COUNTIF(OFFICIAL!$R$4:$AF$111,CONCATENATE(W$10,\" : \",$A18))+COUNTIF(OFFICIAL!$R$4:$AF$111,CONCATENATE($A18,\" : \",W$10))","v":0},{"$f":"COUNTIF(OFFICIAL!$R$4:$AF$111,CONCATENATE(X$10,\" : \",$A18))+COUNTIF(OFFICIAL!$R$4:$AF$111,CONCATENATE($A18,\" : \",X$10))","v":0},{"$f":"COUNTIF(OFFICIAL!$R$4:$AF$111,CONCATENATE(Y$10,\" : \",$A18))+COUNTIF(OFFICIAL!$R$4:$AF$111,CONCATENATE($A18,\" : \",Y$10))","v":0},{"$f":"COUNTIF(OFFICIAL!$R$4:$AF$111,CONCATENATE(Z$10,\" : \",$A18))+COUNTIF(OFFICIAL!$R$4:$AF$111,CONCATENATE($A18,\" : \",Z$10))","v":0},{"$f":"COUNTIF(OFFICIAL!$R$4:$AF$111,CONCATENATE(AA$10,\" : \",$A18))+COUNTIF(OFFICIAL!$R$4:$AF$111,CONCATENATE($A18,\" : \",AA$10))","v":0},{"$f":"COUNTIF(OFFICIAL!$R$4:$AF$111,CONCATENATE(AB$10,\" : \",$A18))+COUNTIF(OFFICIAL!$R$4:$AF$111,CONCATENATE($A18,\" : \",AB$10))","v":0},{"$f":"COUNTIF(OFFICIAL!$R$4:$AF$111,CONCATENATE(AC$10,\" : \",$A18))+COUNTIF(OFFICIAL!$R$4:$AF$111,CONCATENATE($A18,\" : \",AC$10))","v":0},{"$f":"COUNTIF(OFFICIAL!$R$4:$AF$111,CONCATENATE(AD$10,\" : \",$A18))+COUNTIF(OFFICIAL!$R$4:$AF$111,CONCATENATE($A18,\" : \",AD$10))","v":0},{"$f":"COUNTIF(OFFICIAL!$R$4:$AF$111,CONCATENATE(AE$10,\" : \",$A18))+COUNTIF(OFFICIAL!$R$4:$AF$111,CONCATENATE($A18,\" : \",AE$10))","v":0}]
[{"$f":"IF(DATA!$F12=\"\",\" \",DATA!$F12)","v":" "},{"$f":"COUNTIF(OFFICIAL!$R$4:$AF$111,CONCATENATE(B$10,\" : \",$A19))+COUNTIF(OFFICIAL!$R$4:$AF$111,CONCATENATE($A19,\" : \",B$10))","v":0},{"$f":"COUNTIF(OFFICIAL!$R$4:$AF$111,CONCATENATE(C$10,\" : \",$A19))+COUNTIF(OFFICIAL!$R$4:$AF$111,CONCATENATE($A19,\" : \",C$10))","v":0},{"$f":"COUNTIF(OFFICIAL!$R$4:$AF$111,CONCATENATE(D$10,\" : \",$A19))+COUNTIF(OFFICIAL!$R$4:$AF$111,CONCATENATE($A19,\" : \",D$10))","v":0},{"$f":"COUNTIF(OFFICIAL!$R$4:$AF$111,CONCATENATE(E$10,\" : \",$A19))+COUNTIF(OFFICIAL!$R$4:$AF$111,CONCATENATE($A19,\" : \",E$10))","v":0},{"$f":"COUNTIF(OFFICIAL!$R$4:$AF$111,CONCATENATE(F$10,\" : \",$A19))+COUNTIF(OFFICIAL!$R$4:$AF$111,CONCATENATE($A19,\" : \",F$10))","v":0},{"$f":"COUNTIF(OFFICIAL!$R$4:$AF$111,CONCATENATE(G$10,\" : \",$A19))+COUNTIF(OFFICIAL!$R$4:$AF$111,CONCATENATE($A19,\" : \",G$10))","v":0},{"$f":"COUNTIF(OFFICIAL!$R$4:$AF$111,CONCATENATE(H$10,\" : \",$A19))+COUNTIF(OFFICIAL!$R$4:$AF$111,CONCATENATE($A19,\" : \",H$10))","v":0},{"$f":"COUNTIF(OFFICIAL!$R$4:$AF$111,CONCATENATE(I$10,\" : \",$A19))+COUNTIF(OFFICIAL!$R$4:$AF$111,CONCATENATE($A19,\" : \",I$10))","v":0},{"$f":"COUNTIF(OFFICIAL!$H$4:$N$111,J$10)","v":0},{"$f":"COUNTIF(OFFICIAL!$R$4:$AF$111,CONCATENATE(K$10,\" : \",$A19))+COUNTIF(OFFICIAL!$R$4:$AF$111,CONCATENATE($A19,\" : \",K$10))","v":0},{"$f":"COUNTIF(OFFICIAL!$R$4:$AF$111,CONCATENATE(L$10,\" : \",$A19))+COUNTIF(OFFICIAL!$R$4:$AF$111,CONCATENATE($A19,\" : \",L$10))","v":0},{"$f":"COUNTIF(OFFICIAL!$R$4:$AF$111,CONCATENATE(M$10,\" : \",$A19))+COUNTIF(OFFICIAL!$R$4:$AF$111,CONCATENATE($A19,\" : \",M$10))","v":0},{"$f":"COUNTIF(OFFICIAL!$R$4:$AF$111,CONCATENATE(N$10,\" : \",$A19))+COUNTIF(OFFICIAL!$R$4:$AF$111,CONCATENATE($A19,\" : \",N$10))","v":0},{"$f":"COUNTIF(OFFICIAL!$R$4:$AF$111,CONCATENATE(O$10,\" : \",$A19))+COUNTIF(OFFICIAL!$R$4:$AF$111,CONCATENATE($A19,\" : \",O$10))","v":0},{"$f":"COUNTIF(OFFICIAL!$R$4:$AF$111,CONCATENATE(P$10,\" : \",$A19))+COUNTIF(OFFICIAL!$R$4:$AF$111,CONCATENATE($A19,\" : \",P$10))","v":0},{"$f":"COUNTIF(OFFICIAL!$R$4:$AF$111,CONCATENATE(Q$10,\" : \",$A19))+COUNTIF(OFFICIAL!$R$4:$AF$111,CONCATENATE($A19,\" : \",Q$10))","v":0},{"$f":"COUNTIF(OFFICIAL!$R$4:$AF$111,CONCATENATE(R$10,\" : \",$A19))+COUNTIF(OFFICIAL!$R$4:$AF$111,CONCATENATE($A19,\" : \",R$10))","v":0},{"$f":"COUNTIF(OFFICIAL!$R$4:$AF$111,CONCATENATE(S$10,\" : \",$A19))+COUNTIF(OFFICIAL!$R$4:$AF$111,CONCATENATE($A19,\" : \",S$10))","v":0},{"$f":"COUNTIF(OFFICIAL!$R$4:$AF$111,CONCATENATE(T$10,\" : \",$A19))+COUNTIF(OFFICIAL!$R$4:$AF$111,CONCATENATE($A19,\" : \",T$10))","v":0},{"$f":"COUNTIF(OFFICIAL!$R$4:$AF$111,CONCATENATE(U$10,\" : \",$A19))+COUNTIF(OFFICIAL!$R$4:$AF$111,CONCATENATE($A19,\" : \",U$10))","v":0},{"$f":"COUNTIF(OFFICIAL!$R$4:$AF$111,CONCATENATE(V$10,\" : \",$A19))+COUNTIF(OFFICIAL!$R$4:$AF$111,CONCATENATE($A19,\" : \",V$10))","v":0},{"$f":"COUNTIF(OFFICIAL!$R$4:$AF$111,CONCATENATE(W$10,\" : \",$A19))+COUNTIF(OFFICIAL!$R$4:$AF$111,CONCATENATE($A19,\" : \",W$10))","v":0},{"$f":"COUNTIF(OFFICIAL!$R$4:$AF$111,CONCATENATE(X$10,\" : \",$A19))+COUNTIF(OFFICIAL!$R$4:$AF$111,CONCATENATE($A19,\" : \",X$10))","v":0},{"$f":"COUNTIF(OFFICIAL!$R$4:$AF$111,CONCATENATE(Y$10,\" : \",$A19))+COUNTIF(OFFICIAL!$R$4:$AF$111,CONCATENATE($A19,\" : \",Y$10))","v":0},{"$f":"COUNTIF(OFFICIAL!$R$4:$AF$111,CONCATENATE(Z$10,\" : \",$A19))+COUNTIF(OFFICIAL!$R$4:$AF$111,CONCATENATE($A19,\" : \",Z$10))","v":0},{"$f":"COUNTIF(OFFICIAL!$R$4:$AF$111,CONCATENATE(AA$10,\" : \",$A19))+COUNTIF(OFFICIAL!$R$4:$AF$111,CONCATENATE($A19,\" : \",AA$10))","v":0},{"$f":"COUNTIF(OFFICIAL!$R$4:$AF$111,CONCATENATE(AB$10,\" : \",$A19))+COUNTIF(OFFICIAL!$R$4:$AF$111,CONCATENATE($A19,\" : \",AB$10))","v":0},{"$f":"COUNTIF(OFFICIAL!$R$4:$AF$111,CONCATENATE(AC$10,\" : \",$A19))+COUNTIF(OFFICIAL!$R$4:$AF$111,CONCATENATE($A19,\" : \",AC$10))","v":0},{"$f":"COUNTIF(OFFICIAL!$R$4:$AF$111,CONCATENATE(AD$10,\" : \",$A19))+COUNTIF(OFFICIAL!$R$4:$AF$111,CONCATENATE($A19,\" : \",AD$10))","v":0},{"$f":"COUNTIF(OFFICIAL!$R$4:$AF$111,CONCATENATE(AE$10,\" : \",$A19))+COUNTIF(OFFICIAL!$R$4:$AF$111,CONCATENATE($A19,\" : \",AE$10))","v":0}]
[{"$f":"IF(DATA!$F13=\"\",\" \",DATA!$F13)","v":" "},{"$f":"COUNTIF(OFFICIAL!$R$4:$AF$111,CONCATENATE(B$10,\" : \",$A20))+COUNTIF(OFFICIAL!$R$4:$AF$111,CONCATENATE($A20,\" : \",B$10))","v":0},{"$f":"COUNTIF(OFFICIAL!$R$4:$AF$111,CONCATENATE(C$10,\" : \",$A20))+COUNTIF(OFFICIAL!$R$4:$AF$111,CONCATENATE($A20,\" : \",C$10))","v":0},{"$f":"COUNTIF(OFFICIAL!$R$4:$AF$111,CONCATENATE(D$10,\" : \",$A20))+COUNTIF(OFFICIAL!$R$4:$AF$111,CONCATENATE($A20,\" : \",D$10))","v":0},{"$f":"COUNTIF(OFFICIAL!$R$4:$AF$111,CONCATENATE(E$10,\" : \",$A20))+COUNTIF(OFFICIAL!$R$4:$AF$111,CONCATENATE($A20,\" : \",E$10))","v":0},{"$f":"COUNTIF(OFFICIAL!$R$4:$AF$111,CONCATENATE(F$10,\" : \",$A20))+COUNTIF(OFFICIAL!$R$4:$AF$111,CONCATENATE($A20,\" : \",F$10))","v":0},{"$f":"COUNTIF(OFFICIAL!$R$4:$AF$111,CONCATENATE(G$10,\" : \",$A20))+COUNTIF(OFFICIAL!$R$4:$AF$111,CONCATENATE($A20,\" : \",G$10))","v":0},{"$f":"COUNTIF(OFFICIAL!$R$4:$AF$111,CONCATENATE(H$10,\" : \",$A20))+COUNTIF(OFFICIAL!$R$4:$AF$111,CONCATENATE($A20,\" : \",H$10))","v":0},{"$f":"COUNTIF(OFFICIAL!$R$4:$AF$111,CONCATENATE(I$10,\" : \",$A20))+COUNTIF(OFFICIAL!$R$4:$AF$111,CONCATENATE($A20,\" : \",I$10))","v":0},{"$f":"COUNTIF(OFFICIAL!$R$4:$AF$111,CONCATENATE(J$10,\" : \",$A20))+COUNTIF(OFFICIAL!$R$4:$AF$111,CONCATENATE($A20,\" : \",J$10))","v":0},{"$f":"COUNTIF(OFFICIAL!$H$4:$N$111,K$10)","v":0},{"$f":"COUNTIF(OFFICIAL!$R$4:$AF$111,CONCATENATE(L$10,\" : \",$A20))+COUNTIF(OFFICIAL!$R$4:$AF$111,CONCATENATE($A20,\" : \",L$10))","v":0},{"$f":"COUNTIF(OFFICIAL!$R$4:$AF$111,CONCATENATE(M$10,\" : \",$A20))+COUNTIF(OFFICIAL!$R$4:$AF$111,CONCATENATE($A20,\" : \",M$10))","v":0},{"$f":"COUNTIF(OFFICIAL!$R$4:$AF$111,CONCATENATE(N$10,\" : \",$A20))+COUNTIF(OFFICIAL!$R$4:$AF$111,CONCATENATE($A20,\" : \",N$10))","v":0},{"$f":"COUNTIF(OFFICIAL!$R$4:$AF$111,CONCATENATE(O$10,\" : \",$A20))+COUNTIF(OFFICIAL!$R$4:$AF$111,CONCATENATE($A20,\" : \",O$10))","v":0},{"$f":"COUNTIF(OFFICIAL!$R$4:$AF$111,CONCATENATE(P$10,\" : \",$A20))+COUNTIF(OFFICIAL!$R$4:$AF$111,CONCATENATE($A20,\" : \",P$10))","v":0},{"$f":"COUNTIF(OFFICIAL!$R$4:$AF$111,CONCATENATE(Q$10,\" : \",$A20))+COUNTIF(OFFICIAL!$R$4:$AF$111,CONCATENATE($A20,\" : \",Q$10))","v":0},{"$f":"COUNTIF(OFFICIAL!$R$4:$AF$111,CONCATENATE(R$10,\" : \",$A20))+COUNTIF(OFFICIAL!$R$4:$AF$111,CONCATENATE($A20,\" : \",R$10))","v":0},{"$f":"COUNTIF(OFFICIAL!$R$4:$AF$111,CONCATENATE(S$10,\" : \",$A20))+COUNTIF(OFFICIAL!$R$4:$AF$111,CONCATENATE($A20,\" : \",S$10))","v":0},{"$f":"COUNTIF(OFFICIAL!$R$4:$AF$111,CONCATENATE(T$10,\" : \",$A20))+COUNTIF(OFFICIAL!$R$4:$AF$111,CONCATENATE($A20,\" : \",T$10))","v":0},{"$f":"COUNTIF(OFFICIAL!$R$4:$AF$111,CONCATENATE(U$10,\" : \",$A20))+COUNTIF(OFFICIAL!$R$4:$AF$111,CONCATENATE($A20,\" : \",U$10))","v":0},{"$f":"COUNTIF(OFFICIAL!$R$4:$AF$111,CONCATENATE(V$10,\" : \",$A20))+COUNTIF(OFFICIAL!$R$4:$AF$111,CONCATENATE($A20,\" : \",V$10))","v":0},{"$f":"COUNTIF(OFFICIAL!$R$4:$AF$111,CONCATENATE(W$10,\" : \",$A20))+COUNTIF(OFFICIAL!$R$4:$AF$111,CONCATENATE($A20,\" : \",W$10))","v":0},{"$f":"COUNTIF(OFFICIAL!$R$4:$AF$111,CONCATENATE(X$10,\" : \",$A20))+COUNTIF(OFFICIAL!$R$4:$AF$111,CONCATENATE($A20,\" : \",X$10))","v":0},{"$f":"COUNTIF(OFFICIAL!$R$4:$AF$111,CONCATENATE(Y$10,\" : \",$A20))+COUNTIF(OFFICIAL!$R$4:$AF$111,CONCATENATE($A20,\" : \",Y$10))","v":0},{"$f":"COUNTIF(OFFICIAL!$R$4:$AF$111,CONCATENATE(Z$10,\" : \",$A20))+COUNTIF(OFFICIAL!$R$4:$AF$111,CONCATENATE($A20,\" : \",Z$10))","v":0},{"$f":"COUNTIF(OFFICIAL!$R$4:$AF$111,CONCATENATE(AA$10,\" : \",$A20))+COUNTIF(OFFICIAL!$R$4:$AF$111,CONCATENATE($A20,\" : \",AA$10))","v":0},{"$f":"COUNTIF(OFFICIAL!$R$4:$AF$111,CONCATENATE(AB$10,\" : \",$A20))+COUNTIF(OFFICIAL!$R$4:$AF$111,CONCATENATE($A20,\" : \",AB$10))","v":0},{"$f":"COUNTIF(OFFICIAL!$R$4:$AF$111,CONCATENATE(AC$10,\" : \",$A20))+COUNTIF(OFFICIAL!$R$4:$AF$111,CONCATENATE($A20,\" : \",AC$10))","v":0},{"$f":"COUNTIF(OFFICIAL!$R$4:$AF$111,CONCATENATE(AD$10,\" : \",$A20))+COUNTIF(OFFICIAL!$R$4:$AF$111,CONCATENATE($A20,\" : \",AD$10))","v":0},{"$f":"COUNTIF(OFFICIAL!$R$4:$AF$111,CONCATENATE(AE$10,\" : \",$A20))+COUNTIF(OFFICIAL!$R$4:$AF$111,CONCATENATE($A20,\" : \",AE$10))","v":0}]
[{"$f":"IF(DATA!$F14=\"\",\" \",DATA!$F14)","v":" "},{"$f":"COUNTIF(OFFICIAL!$R$4:$AF$111,CONCATENATE(B$10,\" : \",$A21))+COUNTIF(OFFICIAL!$R$4:$AF$111,CONCATENATE($A21,\" : \",B$10))","v":0},{"$f":"COUNTIF(OFFICIAL!$R$4:$AF$111,CONCATENATE(C$10,\" : \",$A21))+COUNTIF(OFFICIAL!$R$4:$AF$111,CONCATENATE($A21,\" : \",C$10))","v":0},{"$f":"COUNTIF(OFFICIAL!$R$4:$AF$111,CONCATENATE(D$10,\" : \",$A21))+COUNTIF(OFFICIAL!$R$4:$AF$111,CONCATENATE($A21,\" : \",D$10))","v":0},{"$f":"COUNTIF(OFFICIAL!$R$4:$AF$111,CONCATENATE(E$10,\" : \",$A21))+COUNTIF(OFFICIAL!$R$4:$AF$111,CONCATENATE($A21,\" : \",E$10))","v":0},{"$f":"COUNTIF(OFFICIAL!$R$4:$AF$111,CONCATENATE(F$10,\" : \",$A21))+COUNTIF(OFFICIAL!$R$4:$AF$111,CONCATENATE($A21,\" : \",F$10))","v":0},{"$f":"COUNTIF(OFFICIAL!$R$4:$AF$111,CONCATENATE(G$10,\" : \",$A21))+COUNTIF(OFFICIAL!$R$4:$AF$111,CONCATENATE($A21,\" : \",G$10))","v":0},{"$f":"COUNTIF(OFFICIAL!$R$4:$AF$111,CONCATENATE(H$10,\" : \",$A21))+COUNTIF(OFFICIAL!$R$4:$AF$111,CONCATENATE($A21,\" : \",H$10))","v":0},{"$f":"COUNTIF(OFFICIAL!$R$4:$AF$111,CONCATENATE(I$10,\" : \",$A21))+COUNTIF(OFFICIAL!$R$4:$AF$111,CONCATENATE($A21,\" : \",I$10))","v":0},{"$f":"COUNTIF(OFFICIAL!$R$4:$AF$111,CONCATENATE(J$10,\" : \",$A21))+COUNTIF(OFFICIAL!$R$4:$AF$111,CONCATENATE($A21,\" : \",J$10))","v":0},{"$f":"COUNTIF(OFFICIAL!$R$4:$AF$111,CONCATENATE(K$10,\" : \",$A21))+COUNTIF(OFFICIAL!$R$4:$AF$111,CONCATENATE($A21,\" : \",K$10))","v":0},{"$f":"COUNTIF(OFFICIAL!$H$4:$N$111,L$10)","v":0},{"$f":"COUNTIF(OFFICIAL!$R$4:$AF$111,CONCATENATE(M$10,\" : \",$A21))+COUNTIF(OFFICIAL!$R$4:$AF$111,CONCATENATE($A21,\" : \",M$10))","v":0},{"$f":"COUNTIF(OFFICIAL!$R$4:$AF$111,CONCATENATE(N$10,\" : \",$A21))+COUNTIF(OFFICIAL!$R$4:$AF$111,CONCATENATE($A21,\" : \",N$10))","v":0},{"$f":"COUNTIF(OFFICIAL!$R$4:$AF$111,CONCATENATE(O$10,\" : \",$A21))+COUNTIF(OFFICIAL!$R$4:$AF$111,CONCATENATE($A21,\" : \",O$10))","v":0},{"$f":"COUNTIF(OFFICIAL!$R$4:$AF$111,CONCATENATE(P$10,\" : \",$A21))+COUNTIF(OFFICIAL!$R$4:$AF$111,CONCATENATE($A21,\" : \",P$10))","v":0},{"$f":"COUNTIF(OFFICIAL!$R$4:$AF$111,CONCATENATE(Q$10,\" : \",$A21))+COUNTIF(OFFICIAL!$R$4:$AF$111,CONCATENATE($A21,\" : \",Q$10))","v":0},{"$f":"COUNTIF(OFFICIAL!$R$4:$AF$111,CONCATENATE(R$10,\" : \",$A21))+COUNTIF(OFFICIAL!$R$4:$AF$111,CONCATENATE($A21,\" : \",R$10))","v":0},{"$f":"COUNTIF(OFFICIAL!$R$4:$AF$111,CONCATENATE(S$10,\" : \",$A21))+COUNTIF(OFFICIAL!$R$4:$AF$111,CONCATENATE($A21,\" : \",S$10))","v":0},{"$f":"COUNTIF(OFFICIAL!$R$4:$AF$111,CONCATENATE(T$10,\" : \",$A21))+COUNTIF(OFFICIAL!$R$4:$AF$111,CONCATENATE($A21,\" : \",T$10))","v":0},{"$f":"COUNTIF(OFFICIAL!$R$4:$AF$111,CONCATENATE(U$10,\" : \",$A21))+COUNTIF(OFFICIAL!$R$4:$AF$111,CONCATENATE($A21,\" : \",U$10))","v":0},{"$f":"COUNTIF(OFFICIAL!$R$4:$AF$111,CONCATENATE(V$10,\" : \",$A21))+COUNTIF(OFFICIAL!$R$4:$AF$111,CONCATENATE($A21,\" : \",V$10))","v":0},{"$f":"COUNTIF(OFFICIAL!$R$4:$AF$111,CONCATENATE(W$10,\" : \",$A21))+COUNTIF(OFFICIAL!$R$4:$AF$111,CONCATENATE($A21,\" : \",W$10))","v":0},{"$f":"COUNTIF(OFFICIAL!$R$4:$AF$111,CONCATENATE(X$10,\" : \",$A21))+COUNTIF(OFFICIAL!$R$4:$AF$111,CONCATENATE($A21,\" : \",X$10))","v":0},{"$f":"COUNTIF(OFFICIAL!$R$4:$AF$111,CONCATENATE(Y$10,\" : \",$A21))+COUNTIF(OFFICIAL!$R$4:$AF$111,CONCATENATE($A21,\" : \",Y$10))","v":0},{"$f":"COUNTIF(OFFICIAL!$R$4:$AF$111,CONCATENATE(Z$10,\" : \",$A21))+COUNTIF(OFFICIAL!$R$4:$AF$111,CONCATENATE($A21,\" : \",Z$10))","v":0},{"$f":"COUNTIF(OFFICIAL!$R$4:$AF$111,CONCATENATE(AA$10,\" : \",$A21))+COUNTIF(OFFICIAL!$R$4:$AF$111,CONCATENATE($A21,\" : \",AA$10))","v":0},{"$f":"COUNTIF(OFFICIAL!$R$4:$AF$111,CONCATENATE(AB$10,\" : \",$A21))+COUNTIF(OFFICIAL!$R$4:$AF$111,CONCATENATE($A21,\" : \",AB$10))","v":0},{"$f":"COUNTIF(OFFICIAL!$R$4:$AF$111,CONCATENATE(AC$10,\" : \",$A21))+COUNTIF(OFFICIAL!$R$4:$AF$111,CONCATENATE($A21,\" : \",AC$10))","v":0},{"$f":"COUNTIF(OFFICIAL!$R$4:$AF$111,CONCATENATE(AD$10,\" : \",$A21))+COUNTIF(OFFICIAL!$R$4:$AF$111,CONCATENATE($A21,\" : \",AD$10))","v":0},{"$f":"COUNTIF(OFFICIAL!$R$4:$AF$111,CONCATENATE(AE$10,\" : \",$A21))+COUNTIF(OFFICIAL!$R$4:$AF$111,CONCATENATE($A21,\" : \",AE$10))","v":0}]
[{"$f":"IF(DATA!$F15=\"\",\" \",DATA!$F15)","v":" "},{"$f":"COUNTIF(OFFICIAL!$R$4:$AF$111,CONCATENATE(B$10,\" : \",$A22))+COUNTIF(OFFICIAL!$R$4:$AF$111,CONCATENATE($A22,\" : \",B$10))","v":0},{"$f":"COUNTIF(OFFICIAL!$R$4:$AF$111,CONCATENATE(C$10,\" : \",$A22))+COUNTIF(OFFICIAL!$R$4:$AF$111,CONCATENATE($A22,\" : \",C$10))","v":0},{"$f":"COUNTIF(OFFICIAL!$R$4:$AF$111,CONCATENATE(D$10,\" : \",$A22))+COUNTIF(OFFICIAL!$R$4:$AF$111,CONCATENATE($A22,\" : \",D$10))","v":0},{"$f":"COUNTIF(OFFICIAL!$R$4:$AF$111,CONCATENATE(E$10,\" : \",$A22))+COUNTIF(OFFICIAL!$R$4:$AF$111,CONCATENATE($A22,\" : \",E$10))","v":0},{"$f":"COUNTIF(OFFICIAL!$R$4:$AF$111,CONCATENATE(F$10,\" : \",$A22))+COUNTIF(OFFICIAL!$R$4:$AF$111,CONCATENATE($A22,\" : \",F$10))","v":0},{"$f":"COUNTIF(OFFICIAL!$R$4:$AF$111,CONCATENATE(G$10,\" : \",$A22))+COUNTIF(OFFICIAL!$R$4:$AF$111,CONCATENATE($A22,\" : \",G$10))","v":0},{"$f":"COUNTIF(OFFICIAL!$R$4:$AF$111,CONCATENATE(H$10,\" : \",$A22))+COUNTIF(OFFICIAL!$R$4:$AF$111,CONCATENATE($A22,\" : \",H$10))","v":0},{"$f":"COUNTIF(OFFICIAL!$R$4:$AF$111,CONCATENATE(I$10,\" : \",$A22))+COUNTIF(OFFICIAL!$R$4:$AF$111,CONCATENATE($A22,\" : \",I$10))","v":0},{"$f":"COUNTIF(OFFICIAL!$R$4:$AF$111,CONCATENATE(J$10,\" : \",$A22))+COUNTIF(OFFICIAL!$R$4:$AF$111,CONCATENATE($A22,\" : \",J$10))","v":0},{"$f":"COUNTIF(OFFICIAL!$R$4:$AF$111,CONCATENATE(K$10,\" : \",$A22))+COUNTIF(OFFICIAL!$R$4:$AF$111,CONCATENATE($A22,\" : \",K$10))","v":0},{"$f":"COUNTIF(OFFICIAL!$R$4:$AF$111,CONCATENATE(L$10,\" : \",$A22))+COUNTIF(OFFICIAL!$R$4:$AF$111,CONCATENATE($A22,\" : \",L$10))","v":0},{"$f":"COUNTIF(OFFICIAL!$H$4:$N$111,M$10)","v":0},{"$f":"COUNTIF(OFFICIAL!$R$4:$AF$111,CONCATENATE(N$10,\" : \",$A22))+COUNTIF(OFFICIAL!$R$4:$AF$111,CONCATENATE($A22,\" : \",N$10))","v":0},{"$f":"COUNTIF(OFFICIAL!$R$4:$AF$111,CONCATENATE(O$10,\" : \",$A22))+COUNTIF(OFFICIAL!$R$4:$AF$111,CONCATENATE($A22,\" : \",O$10))","v":0},{"$f":"COUNTIF(OFFICIAL!$R$4:$AF$111,CONCATENATE(P$10,\" : \",$A22))+COUNTIF(OFFICIAL!$R$4:$AF$111,CONCATENATE($A22,\" : \",P$10))","v":0},{"$f":"COUNTIF(OFFICIAL!$R$4:$AF$111,CONCATENATE(Q$10,\" : \",$A22))+COUNTIF(OFFICIAL!$R$4:$AF$111,CONCATENATE($A22,\" : \",Q$10))","v":0},{"$f":"COUNTIF(OFFICIAL!$R$4:$AF$111,CONCATENATE(R$10,\" : \",$A22))+COUNTIF(OFFICIAL!$R$4:$AF$111,CONCATENATE($A22,\" : \",R$10))","v":0},{"$f":"COUNTIF(OFFICIAL!$R$4:$AF$111,CONCATENATE(S$10,\" : \",$A22))+COUNTIF(OFFICIAL!$R$4:$AF$111,CONCATENATE($A22,\" : \",S$10))","v":0},{"$f":"COUNTIF(OFFICIAL!$R$4:$AF$111,CONCATENATE(T$10,\" : \",$A22))+COUNTIF(OFFICIAL!$R$4:$AF$111,CONCATENATE($A22,\" : \",T$10))","v":0},{"$f":"COUNTIF(OFFICIAL!$R$4:$AF$111,CONCATENATE(U$10,\" : \",$A22))+COUNTIF(OFFICIAL!$R$4:$AF$111,CONCATENATE($A22,\" : \",U$10))","v":0},{"$f":"COUNTIF(OFFICIAL!$R$4:$AF$111,CONCATENATE(V$10,\" : \",$A22))+COUNTIF(OFFICIAL!$R$4:$AF$111,CONCATENATE($A22,\" : \",V$10))","v":0},{"$f":"COUNTIF(OFFICIAL!$R$4:$AF$111,CONCATENATE(W$10,\" : \",$A22))+COUNTIF(OFFICIAL!$R$4:$AF$111,CONCATENATE($A22,\" : \",W$10))","v":0},{"$f":"COUNTIF(OFFICIAL!$R$4:$AF$111,CONCATENATE(X$10,\" : \",$A22))+COUNTIF(OFFICIAL!$R$4:$AF$111,CONCATENATE($A22,\" : \",X$10))","v":0},{"$f":"COUNTIF(OFFICIAL!$R$4:$AF$111,CONCATENATE(Y$10,\" : \",$A22))+COUNTIF(OFFICIAL!$R$4:$AF$111,CONCATENATE($A22,\" : \",Y$10))","v":0},{"$f":"COUNTIF(OFFICIAL!$R$4:$AF$111,CONCATENATE(Z$10,\" : \",$A22))+COUNTIF(OFFICIAL!$R$4:$AF$111,CONCATENATE($A22,\" : \",Z$10))","v":0},{"$f":"COUNTIF(OFFICIAL!$R$4:$AF$111,CONCATENATE(AA$10,\" : \",$A22))+COUNTIF(OFFICIAL!$R$4:$AF$111,CONCATENATE($A22,\" : \",AA$10))","v":0},{"$f":"COUNTIF(OFFICIAL!$R$4:$AF$111,CONCATENATE(AB$10,\" : \",$A22))+COUNTIF(OFFICIAL!$R$4:$AF$111,CONCATENATE($A22,\" : \",AB$10))","v":0},{"$f":"COUNTIF(OFFICIAL!$R$4:$AF$111,CONCATENATE(AC$10,\" : \",$A22))+COUNTIF(OFFICIAL!$R$4:$AF$111,CONCATENATE($A22,\" : \",AC$10))","v":0},{"$f":"COUNTIF(OFFICIAL!$R$4:$AF$111,CONCATENATE(AD$10,\" : \",$A22))+COUNTIF(OFFICIAL!$R$4:$AF$111,CONCATENATE($A22,\" : \",AD$10))","v":0},{"$f":"COUNTIF(OFFICIAL!$R$4:$AF$111,CONCATENATE(AE$10,\" : \",$A22))+COUNTIF(OFFICIAL!$R$4:$AF$111,CONCATENATE($A22,\" : \",AE$10))","v":0}]
[{"$f":"IF(DATA!$F16=\"\",\" \",DATA!$F16)","v":" "},{"$f":"COUNTIF(OFFICIAL!$R$4:$AF$111,CONCATENATE(B$10,\" : \",$A23))+COUNTIF(OFFICIAL!$R$4:$AF$111,CONCATENATE($A23,\" : \",B$10))","v":0},{"$f":"COUNTIF(OFFICIAL!$R$4:$AF$111,CONCATENATE(C$10,\" : \",$A23))+COUNTIF(OFFICIAL!$R$4:$AF$111,CONCATENATE($A23,\" : \",C$10))","v":0},{"$f":"COUNTIF(OFFICIAL!$R$4:$AF$111,CONCATENATE(D$10,\" : \",$A23))+COUNTIF(OFFICIAL!$R$4:$AF$111,CONCATENATE($A23,\" : \",D$10))","v":0},{"$f":"COUNTIF(OFFICIAL!$R$4:$AF$111,CONCATENATE(E$10,\" : \",$A23))+COUNTIF(OFFICIAL!$R$4:$AF$111,CONCATENATE($A23,\" : \",E$10))","v":0},{"$f":"COUNTIF(OFFICIAL!$R$4:$AF$111,CONCATENATE(F$10,\" : \",$A23))+COUNTIF(OFFICIAL!$R$4:$AF$111,CONCATENATE($A23,\" : \",F$10))","v":0},{"$f":"COUNTIF(OFFICIAL!$R$4:$AF$111,CONCATENATE(G$10,\" : \",$A23))+COUNTIF(OFFICIAL!$R$4:$AF$111,CONCATENATE($A23,\" : \",G$10))","v":0},{"$f":"COUNTIF(OFFICIAL!$R$4:$AF$111,CONCATENATE(H$10,\" : \",$A23))+COUNTIF(OFFICIAL!$R$4:$AF$111,CONCATENATE($A23,\" : \",H$10))","v":0},{"$f":"COUNTIF(OFFICIAL!$R$4:$AF$111,CONCATENATE(I$10,\" : \",$A23))+COUNTIF(OFFICIAL!$R$4:$AF$111,CONCATENATE($A23,\" : \",I$10))","v":0},{"$f":"COUNTIF(OFFICIAL!$R$4:$AF$111,CONCATENATE(J$10,\" : \",$A23))+COUNTIF(OFFICIAL!$R$4:$AF$111,CONCATENATE($A23,\" : \",J$10))","v":0},{"$f":"COUNTIF(OFFICIAL!$R$4:$AF$111,CONCATENATE(K$10,\" : \",$A23))+COUNTIF(OFFICIAL!$R$4:$AF$111,CONCATENATE($A23,\" : \",K$10))","v":0},{"$f":"COUNTIF(OFFICIAL!$R$4:$AF$111,CONCATENATE(L$10,\" : \",$A23))+COUNTIF(OFFICIAL!$R$4:$AF$111,CONCATENATE($A23,\" : \",L$10))","v":0},{"$f":"COUNTIF(OFFICIAL!$R$4:$AF$111,CONCATENATE(M$10,\" : \",$A23))+COUNTIF(OFFICIAL!$R$4:$AF$111,CONCATENATE($A23,\" : \",M$10))","v":0},{"$f":"COUNTIF(OFFICIAL!$H$4:$N$111,N$10)","v":0},{"$f":"COUNTIF(OFFICIAL!$R$4:$AF$111,CONCATENATE(O$10,\" : \",$A23))+COUNTIF(OFFICIAL!$R$4:$AF$111,CONCATENATE($A23,\" : \",O$10))","v":0},{"$f":"COUNTIF(OFFICIAL!$R$4:$AF$111,CONCATENATE(P$10,\" : \",$A23))+COUNTIF(OFFICIAL!$R$4:$AF$111,CONCATENATE($A23,\" : \",P$10))","v":0},{"$f":"COUNTIF(OFFICIAL!$R$4:$AF$111,CONCATENATE(Q$10,\" : \",$A23))+COUNTIF(OFFICIAL!$R$4:$AF$111,CONCATENATE($A23,\" : \",Q$10))","v":0},{"$f":"COUNTIF(OFFICIAL!$R$4:$AF$111,CONCATENATE(R$10,\" : \",$A23))+COUNTIF(OFFICIAL!$R$4:$AF$111,CONCATENATE($A23,\" : \",R$10))","v":0},{"$f":"COUNTIF(OFFICIAL!$R$4:$AF$111,CONCATENATE(S$10,\" : \",$A23))+COUNTIF(OFFICIAL!$R$4:$AF$111,CONCATENATE($A23,\" : \",S$10))","v":0},{"$f":"COUNTIF(OFFICIAL!$R$4:$AF$111,CONCATENATE(T$10,\" : \",$A23))+COUNTIF(OFFICIAL!$R$4:$AF$111,CONCATENATE($A23,\" : \",T$10))","v":0},{"$f":"COUNTIF(OFFICIAL!$R$4:$AF$111,CONCATENATE(U$10,\" : \",$A23))+COUNTIF(OFFICIAL!$R$4:$AF$111,CONCATENATE($A23,\" : \",U$10))","v":0},{"$f":"COUNTIF(OFFICIAL!$R$4:$AF$111,CONCATENATE(V$10,\" : \",$A23))+COUNTIF(OFFICIAL!$R$4:$AF$111,CONCATENATE($A23,\" : \",V$10))","v":0},{"$f":"COUNTIF(OFFICIAL!$R$4:$AF$111,CONCATENATE(W$10,\" : \",$A23))+COUNTIF(OFFICIAL!$R$4:$AF$111,CONCATENATE($A23,\" : \",W$10))","v":0},{"$f":"COUNTIF(OFFICIAL!$R$4:$AF$111,CONCATENATE(X$10,\" : \",$A23))+COUNTIF(OFFICIAL!$R$4:$AF$111,CONCATENATE($A23,\" : \",X$10))","v":0},{"$f":"COUNTIF(OFFICIAL!$R$4:$AF$111,CONCATENATE(Y$10,\" : \",$A23))+COUNTIF(OFFICIAL!$R$4:$AF$111,CONCATENATE($A23,\" : \",Y$10))","v":0},{"$f":"COUNTIF(OFFICIAL!$R$4:$AF$111,CONCATENATE(Z$10,\" : \",$A23))+COUNTIF(OFFICIAL!$R$4:$AF$111,CONCATENATE($A23,\" : \",Z$10))","v":0},{"$f":"COUNTIF(OFFICIAL!$R$4:$AF$111,CONCATENATE(AA$10,\" : \",$A23))+COUNTIF(OFFICIAL!$R$4:$AF$111,CONCATENATE($A23,\" : \",AA$10))","v":0},{"$f":"COUNTIF(OFFICIAL!$R$4:$AF$111,CONCATENATE(AB$10,\" : \",$A23))+COUNTIF(OFFICIAL!$R$4:$AF$111,CONCATENATE($A23,\" : \",AB$10))","v":0},{"$f":"COUNTIF(OFFICIAL!$R$4:$AF$111,CONCATENATE(AC$10,\" : \",$A23))+COUNTIF(OFFICIAL!$R$4:$AF$111,CONCATENATE($A23,\" : \",AC$10))","v":0},{"$f":"COUNTIF(OFFICIAL!$R$4:$AF$111,CONCATENATE(AD$10,\" : \",$A23))+COUNTIF(OFFICIAL!$R$4:$AF$111,CONCATENATE($A23,\" : \",AD$10))","v":0},{"$f":"COUNTIF(OFFICIAL!$R$4:$AF$111,CONCATENATE(AE$10,\" : \",$A23))+COUNTIF(OFFICIAL!$R$4:$AF$111,CONCATENATE($A23,\" : \",AE$10))","v":0}]
[{"$f":"IF(DATA!$F17=\"\",\" \",DATA!$F17)","v":" "},{"$f":"COUNTIF(OFFICIAL!$R$4:$AF$111,CONCATENATE(B$10,\" : \",$A24))+COUNTIF(OFFICIAL!$R$4:$AF$111,CONCATENATE($A24,\" : \",B$10))","v":0},{"$f":"COUNTIF(OFFICIAL!$R$4:$AF$111,CONCATENATE(C$10,\" : \",$A24))+COUNTIF(OFFICIAL!$R$4:$AF$111,CONCATENATE($A24,\" : \",C$10))","v":0},{"$f":"COUNTIF(OFFICIAL!$R$4:$AF$111,CONCATENATE(D$10,\" : \",$A24))+COUNTIF(OFFICIAL!$R$4:$AF$111,CONCATENATE($A24,\" : \",D$10))","v":0},{"$f":"COUNTIF(OFFICIAL!$R$4:$AF$111,CONCATENATE(E$10,\" : \",$A24))+COUNTIF(OFFICIAL!$R$4:$AF$111,CONCATENATE($A24,\" : \",E$10))","v":0},{"$f":"COUNTIF(OFFICIAL!$R$4:$AF$111,CONCATENATE(F$10,\" : \",$A24))+COUNTIF(OFFICIAL!$R$4:$AF$111,CONCATENATE($A24,\" : \",F$10))","v":0},{"$f":"COUNTIF(OFFICIAL!$R$4:$AF$111,CONCATENATE(G$10,\" : \",$A24))+COUNTIF(OFFICIAL!$R$4:$AF$111,CONCATENATE($A24,\" : \",G$10))","v":0},{"$f":"COUNTIF(OFFICIAL!$R$4:$AF$111,CONCATENATE(H$10,\" : \",$A24))+COUNTIF(OFFICIAL!$R$4:$AF$111,CONCATENATE($A24,\" : \",H$10))","v":0},{"$f":"COUNTIF(OFFICIAL!$R$4:$AF$111,CONCATENATE(I$10,\" : \",$A24))+COUNTIF(OFFICIAL!$R$4:$AF$111,CONCATENATE($A24,\" : \",I$10))","v":0},{"$f":"COUNTIF(OFFICIAL!$R$4:$AF$111,CONCATENATE(J$10,\" : \",$A24))+COUNTIF(OFFICIAL!$R$4:$AF$111,CONCATENATE($A24,\" : \",J$10))","v":0},{"$f":"COUNTIF(OFFICIAL!$R$4:$AF$111,CONCATENATE(K$10,\" : \",$A24))+COUNTIF(OFFICIAL!$R$4:$AF$111,CONCATENATE($A24,\" : \",K$10))","v":0},{"$f":"COUNTIF(OFFICIAL!$R$4:$AF$111,CONCATENATE(L$10,\" : \",$A24))+COUNTIF(OFFICIAL!$R$4:$AF$111,CONCATENATE($A24,\" : \",L$10))","v":0},{"$f":"COUNTIF(OFFICIAL!$R$4:$AF$111,CONCATENATE(M$10,\" : \",$A24))+COUNTIF(OFFICIAL!$R$4:$AF$111,CONCATENATE($A24,\" : \",M$10))","v":0},{"$f":"COUNTIF(OFFICIAL!$R$4:$AF$111,CONCATENATE(N$10,\" : \",$A24))+COUNTIF(OFFICIAL!$R$4:$AF$111,CONCATENATE($A24,\" : \",N$10))","v":0},{"$f":"COUNTIF(OFFICIAL!$H$4:$N$111,O$10)","v":0},{"$f":"COUNTIF(OFFICIAL!$R$4:$AF$111,CONCATENATE(P$10,\" : \",$A24))+COUNTIF(OFFICIAL!$R$4:$AF$111,CONCATENATE($A24,\" : \",P$10))","v":0},{"$f":"COUNTIF(OFFICIAL!$R$4:$AF$111,CONCATENATE(Q$10,\" : \",$A24))+COUNTIF(OFFICIAL!$R$4:$AF$111,CONCATENATE($A24,\" : \",Q$10))","v":0},{"$f":"COUNTIF(OFFICIAL!$R$4:$AF$111,CONCATENATE(R$10,\" : \",$A24))+COUNTIF(OFFICIAL!$R$4:$AF$111,CONCATENATE($A24,\" : \",R$10))","v":0},{"$f":"COUNTIF(OFFICIAL!$R$4:$AF$111,CONCATENATE(S$10,\" : \",$A24))+COUNTIF(OFFICIAL!$R$4:$AF$111,CONCATENATE($A24,\" : \",S$10))","v":0},{"$f":"COUNTIF(OFFICIAL!$R$4:$AF$111,CONCATENATE(T$10,\" : \",$A24))+COUNTIF(OFFICIAL!$R$4:$AF$111,CONCATENATE($A24,\" : \",T$10))","v":0},{"$f":"COUNTIF(OFFICIAL!$R$4:$AF$111,CONCATENATE(U$10,\" : \",$A24))+COUNTIF(OFFICIAL!$R$4:$AF$111,CONCATENATE($A24,\" : \",U$10))","v":0},{"$f":"COUNTIF(OFFICIAL!$R$4:$AF$111,CONCATENATE(V$10,\" : \",$A24))+COUNTIF(OFFICIAL!$R$4:$AF$111,CONCATENATE($A24,\" : \",V$10))","v":0},{"$f":"COUNTIF(OFFICIAL!$R$4:$AF$111,CONCATENATE(W$10,\" : \",$A24))+COUNTIF(OFFICIAL!$R$4:$AF$111,CONCATENATE($A24,\" : \",W$10))","v":0},{"$f":"COUNTIF(OFFICIAL!$R$4:$AF$111,CONCATENATE(X$10,\" : \",$A24))+COUNTIF(OFFICIAL!$R$4:$AF$111,CONCATENATE($A24,\" : \",X$10))","v":0},{"$f":"COUNTIF(OFFICIAL!$R$4:$AF$111,CONCATENATE(Y$10,\" : \",$A24))+COUNTIF(OFFICIAL!$R$4:$AF$111,CONCATENATE($A24,\" : \",Y$10))","v":0},{"$f":"COUNTIF(OFFICIAL!$R$4:$AF$111,CONCATENATE(Z$10,\" : \",$A24))+COUNTIF(OFFICIAL!$R$4:$AF$111,CONCATENATE($A24,\" : \",Z$10))","v":0},{"$f":"COUNTIF(OFFICIAL!$R$4:$AF$111,CONCATENATE(AA$10,\" : \",$A24))+COUNTIF(OFFICIAL!$R$4:$AF$111,CONCATENATE($A24,\" : \",AA$10))","v":0},{"$f":"COUNTIF(OFFICIAL!$R$4:$AF$111,CONCATENATE(AB$10,\" : \",$A24))+COUNTIF(OFFICIAL!$R$4:$AF$111,CONCATENATE($A24,\" : \",AB$10))","v":0},{"$f":"COUNTIF(OFFICIAL!$R$4:$AF$111,CONCATENATE(AC$10,\" : \",$A24))+COUNTIF(OFFICIAL!$R$4:$AF$111,CONCATENATE($A24,\" : \",AC$10))","v":0},{"$f":"COUNTIF(OFFICIAL!$R$4:$AF$111,CONCATENATE(AD$10,\" : \",$A24))+COUNTIF(OFFICIAL!$R$4:$AF$111,CONCATENATE($A24,\" : \",AD$10))","v":0},{"$f":"COUNTIF(OFFICIAL!$R$4:$AF$111,CONCATENATE(AE$10,\" : \",$A24))+COUNTIF(OFFICIAL!$R$4:$AF$111,CONCATENATE($A24,\" : \",AE$10))","v":0}]
[{"$f":"IF(DATA!$F18=\"\",\" \",DATA!$F18)","v":" "},{"$f":"COUNTIF(OFFICIAL!$R$4:$AF$111,CONCATENATE(B$10,\" : \",$A25))+COUNTIF(OFFICIAL!$R$4:$AF$111,CONCATENATE($A25,\" : \",B$10))","v":0},{"$f":"COUNTIF(OFFICIAL!$R$4:$AF$111,CONCATENATE(C$10,\" : \",$A25))+COUNTIF(OFFICIAL!$R$4:$AF$111,CONCATENATE($A25,\" : \",C$10))","v":0},{"$f":"COUNTIF(OFFICIAL!$R$4:$AF$111,CONCATENATE(D$10,\" : \",$A25))+COUNTIF(OFFICIAL!$R$4:$AF$111,CONCATENATE($A25,\" : \",D$10))","v":0},{"$f":"COUNTIF(OFFICIAL!$R$4:$AF$111,CONCATENATE(E$10,\" : \",$A25))+COUNTIF(OFFICIAL!$R$4:$AF$111,CONCATENATE($A25,\" : \",E$10))","v":0},{"$f":"COUNTIF(OFFICIAL!$R$4:$AF$111,CONCATENATE(F$10,\" : \",$A25))+COUNTIF(OFFICIAL!$R$4:$AF$111,CONCATENATE($A25,\" : \",F$10))","v":0},{"$f":"COUNTIF(OFFICIAL!$R$4:$AF$111,CONCATENATE(G$10,\" : \",$A25))+COUNTIF(OFFICIAL!$R$4:$AF$111,CONCATENATE($A25,\" : \",G$10))","v":0},{"$f":"COUNTIF(OFFICIAL!$R$4:$AF$111,CONCATENATE(H$10,\" : \",$A25))+COUNTIF(OFFICIAL!$R$4:$AF$111,CONCATENATE($A25,\" : \",H$10))","v":0},{"$f":"COUNTIF(OFFICIAL!$R$4:$AF$111,CONCATENATE(I$10,\" : \",$A25))+COUNTIF(OFFICIAL!$R$4:$AF$111,CONCATENATE($A25,\" : \",I$10))","v":0},{"$f":"COUNTIF(OFFICIAL!$R$4:$AF$111,CONCATENATE(J$10,\" : \",$A25))+COUNTIF(OFFICIAL!$R$4:$AF$111,CONCATENATE($A25,\" : \",J$10))","v":0},{"$f":"COUNTIF(OFFICIAL!$R$4:$AF$111,CONCATENATE(K$10,\" : \",$A25))+COUNTIF(OFFICIAL!$R$4:$AF$111,CONCATENATE($A25,\" : \",K$10))","v":0},{"$f":"COUNTIF(OFFICIAL!$R$4:$AF$111,CONCATENATE(L$10,\" : \",$A25))+COUNTIF(OFFICIAL!$R$4:$AF$111,CONCATENATE($A25,\" : \",L$10))","v":0},{"$f":"COUNTIF(OFFICIAL!$R$4:$AF$111,CONCATENATE(M$10,\" : \",$A25))+COUNTIF(OFFICIAL!$R$4:$AF$111,CONCATENATE($A25,\" : \",M$10))","v":0},{"$f":"COUNTIF(OFFICIAL!$R$4:$AF$111,CONCATENATE(N$10,\" : \",$A25))+COUNTIF(OFFICIAL!$R$4:$AF$111,CONCATENATE($A25,\" : \",N$10))","v":0},{"$f":"COUNTIF(OFFICIAL!$R$4:$AF$111,CONCATENATE(O$10,\" : \",$A25))+COUNTIF(OFFICIAL!$R$4:$AF$111,CONCATENATE($A25,\" : \",O$10))","v":0},{"$f":"COUNTIF(OFFICIAL!$H$4:$N$111,P$10)","v":0},{"$f":"COUNTIF(OFFICIAL!$R$4:$AF$111,CONCATENATE(Q$10,\" : \",$A25))+COUNTIF(OFFICIAL!$R$4:$AF$111,CONCATENATE($A25,\" : \",Q$10))","v":0},{"$f":"COUNTIF(OFFICIAL!$R$4:$AF$111,CONCATENATE(R$10,\" : \",$A25))+COUNTIF(OFFICIAL!$R$4:$AF$111,CONCATENATE($A25,\" : \",R$10))","v":0},{"$f":"COUNTIF(OFFICIAL!$R$4:$AF$111,CONCATENATE(S$10,\" : \",$A25))+COUNTIF(OFFICIAL!$R$4:$AF$111,CONCATENATE($A25,\" : \",S$10))","v":0},{"$f":"COUNTIF(OFFICIAL!$R$4:$AF$111,CONCATENATE(T$10,\" : \",$A25))+COUNTIF(OFFICIAL!$R$4:$AF$111,CONCATENATE($A25,\" : \",T$10))","v":0},{"$f":"COUNTIF(OFFICIAL!$R$4:$AF$111,CONCATENATE(U$10,\" : \",$A25))+COUNTIF(OFFICIAL!$R$4:$AF$111,CONCATENATE($A25,\" : \",U$10))","v":0},{"$f":"COUNTIF(OFFICIAL!$R$4:$AF$111,CONCATENATE(V$10,\" : \",$A25))+COUNTIF(OFFICIAL!$R$4:$AF$111,CONCATENATE($A25,\" : \",V$10))","v":0},{"$f":"COUNTIF(OFFICIAL!$R$4:$AF$111,CONCATENATE(W$10,\" : \",$A25))+COUNTIF(OFFICIAL!$R$4:$AF$111,CONCATENATE($A25,\" : \",W$10))","v":0},{"$f":"COUNTIF(OFFICIAL!$R$4:$AF$111,CONCATENATE(X$10,\" : \",$A25))+COUNTIF(OFFICIAL!$R$4:$AF$111,CONCATENATE($A25,\" : \",X$10))","v":0},{"$f":"COUNTIF(OFFICIAL!$R$4:$AF$111,CONCATENATE(Y$10,\" : \",$A25))+COUNTIF(OFFICIAL!$R$4:$AF$111,CONCATENATE($A25,\" : \",Y$10))","v":0},{"$f":"COUNTIF(OFFICIAL!$R$4:$AF$111,CONCATENATE(Z$10,\" : \",$A25))+COUNTIF(OFFICIAL!$R$4:$AF$111,CONCATENATE($A25,\" : \",Z$10))","v":0},{"$f":"COUNTIF(OFFICIAL!$R$4:$AF$111,CONCATENATE(AA$10,\" : \",$A25))+COUNTIF(OFFICIAL!$R$4:$AF$111,CONCATENATE($A25,\" : \",AA$10))","v":0},{"$f":"COUNTIF(OFFICIAL!$R$4:$AF$111,CONCATENATE(AB$10,\" : \",$A25))+COUNTIF(OFFICIAL!$R$4:$AF$111,CONCATENATE($A25,\" : \",AB$10))","v":0},{"$f":"COUNTIF(OFFICIAL!$R$4:$AF$111,CONCATENATE(AC$10,\" : \",$A25))+COUNTIF(OFFICIAL!$R$4:$AF$111,CONCATENATE($A25,\" : \",AC$10))","v":0},{"$f":"COUNTIF(OFFICIAL!$R$4:$AF$111,CONCATENATE(AD$10,\" : \",$A25))+COUNTIF(OFFICIAL!$R$4:$AF$111,CONCATENATE($A25,\" : \",AD$10))","v":0},{"$f":"COUNTIF(OFFICIAL!$R$4:$AF$111,CONCATENATE(AE$10,\" : \",$A25))+COUNTIF(OFFICIAL!$R$4:$AF$111,CONCATENATE($A25,\" : \",AE$10))","v":0}]
[{"$f":"IF(DATA!$F19=\"\",\" \",DATA!$F19)","v":" "},{"$f":"COUNTIF(OFFICIAL!$R$4:$AF$111,CONCATENATE(B$10,\" : \",$A26))+COUNTIF(OFFICIAL!$R$4:$AF$111,CONCATENATE($A26,\" : \",B$10))","v":0},{"$f":"COUNTIF(OFFICIAL!$R$4:$AF$111,CONCATENATE(C$10,\" : \",$A26))+COUNTIF(OFFICIAL!$R$4:$AF$111,CONCATENATE($A26,\" : \",C$10))","v":0},{"$f":"COUNTIF(OFFICIAL!$R$4:$AF$111,CONCATENATE(D$10,\" : \",$A26))+COUNTIF(OFFICIAL!$R$4:$AF$111,CONCATENATE($A26,\" : \",D$10))","v":0},{"$f":"COUNTIF(OFFICIAL!$R$4:$AF$111,CONCATENATE(E$10,\" : \",$A26))+COUNTIF(OFFICIAL!$R$4:$AF$111,CONCATENATE($A26,\" : \",E$10))","v":0},{"$f":"COUNTIF(OFFICIAL!$R$4:$AF$111,CONCATENATE(F$10,\" : \",$A26))+COUNTIF(OFFICIAL!$R$4:$AF$111,CONCATENATE($A26,\" : \",F$10))","v":0},{"$f":"COUNTIF(OFFICIAL!$R$4:$AF$111,CONCATENATE(G$10,\" : \",$A26))+COUNTIF(OFFICIAL!$R$4:$AF$111,CONCATENATE($A26,\" : \",G$10))","v":0},{"$f":"COUNTIF(OFFICIAL!$R$4:$AF$111,CONCATENATE(H$10,\" : \",$A26))+COUNTIF(OFFICIAL!$R$4:$AF$111,CONCATENATE($A26,\" : \",H$10))","v":0},{"$f":"COUNTIF(OFFICIAL!$R$4:$AF$111,CONCATENATE(I$10,\" : \",$A26))+COUNTIF(OFFICIAL!$R$4:$AF$111,CONCATENATE($A26,\" : \",I$10))","v":0},{"$f":"COUNTIF(OFFICIAL!$R$4:$AF$111,CONCATENATE(J$10,\" : \",$A26))+COUNTIF(OFFICIAL!$R$4:$AF$111,CONCATENATE($A26,\" : \",J$10))","v":0},{"$f":"COUNTIF(OFFICIAL!$R$4:$AF$111,CONCATENATE(K$10,\" : \",$A26))+COUNTIF(OFFICIAL!$R$4:$AF$111,CONCATENATE($A26,\" : \",K$10))","v":0},{"$f":"COUNTIF(OFFICIAL!$R$4:$AF$111,CONCATENATE(L$10,\" : \",$A26))+COUNTIF(OFFICIAL!$R$4:$AF$111,CONCATENATE($A26,\" : \",L$10))","v":0},{"$f":"COUNTIF(OFFICIAL!$R$4:$AF$111,CONCATENATE(M$10,\" : \",$A26))+COUNTIF(OFFICIAL!$R$4:$AF$111,CONCATENATE($A26,\" : \",M$10))","v":0},{"$f":"COUNTIF(OFFICIAL!$R$4:$AF$111,CONCATENATE(N$10,\" : \",$A26))+COUNTIF(OFFICIAL!$R$4:$AF$111,CONCATENATE($A26,\" : \",N$10))","v":0},{"$f":"COUNTIF(OFFICIAL!$R$4:$AF$111,CONCATENATE(O$10,\" : \",$A26))+COUNTIF(OFFICIAL!$R$4:$AF$111,CONCATENATE($A26,\" : \",O$10))","v":0},{"$f":"COUNTIF(OFFICIAL!$R$4:$AF$111,CONCATENATE(P$10,\" : \",$A26))+COUNTIF(OFFICIAL!$R$4:$AF$111,CONCATENATE($A26,\" : \",P$10))","v":0},{"$f":"COUNTIF(OFFICIAL!$H$4:$N$111,Q$10)","v":0},{"$f":"COUNTIF(OFFICIAL!$R$4:$AF$111,CONCATENATE(R$10,\" : \",$A26))+COUNTIF(OFFICIAL!$R$4:$AF$111,CONCATENATE($A26,\" : \",R$10))","v":0},{"$f":"COUNTIF(OFFICIAL!$R$4:$AF$111,CONCATENATE(S$10,\" : \",$A26))+COUNTIF(OFFICIAL!$R$4:$AF$111,CONCATENATE($A26,\" : \",S$10))","v":0},{"$f":"COUNTIF(OFFICIAL!$R$4:$AF$111,CONCATENATE(T$10,\" : \",$A26))+COUNTIF(OFFICIAL!$R$4:$AF$111,CONCATENATE($A26,\" : \",T$10))","v":0},{"$f":"COUNTIF(OFFICIAL!$R$4:$AF$111,CONCATENATE(U$10,\" : \",$A26))+COUNTIF(OFFICIAL!$R$4:$AF$111,CONCATENATE($A26,\" : \",U$10))","v":0},{"$f":"COUNTIF(OFFICIAL!$R$4:$AF$111,CONCATENATE(V$10,\" : \",$A26))+COUNTIF(OFFICIAL!$R$4:$AF$111,CONCATENATE($A26,\" : \",V$10))","v":0},{"$f":"COUNTIF(OFFICIAL!$R$4:$AF$111,CONCATENATE(W$10,\" : \",$A26))+COUNTIF(OFFICIAL!$R$4:$AF$111,CONCATENATE($A26,\" : \",W$10))","v":0},{"$f":"COUNTIF(OFFICIAL!$R$4:$AF$111,CONCATENATE(X$10,\" : \",$A26))+COUNTIF(OFFICIAL!$R$4:$AF$111,CONCATENATE($A26,\" : \",X$10))","v":0},{"$f":"COUNTIF(OFFICIAL!$R$4:$AF$111,CONCATENATE(Y$10,\" : \",$A26))+COUNTIF(OFFICIAL!$R$4:$AF$111,CONCATENATE($A26,\" : \",Y$10))","v":0},{"$f":"COUNTIF(OFFICIAL!$R$4:$AF$111,CONCATENATE(Z$10,\" : \",$A26))+COUNTIF(OFFICIAL!$R$4:$AF$111,CONCATENATE($A26,\" : \",Z$10))","v":0},{"$f":"COUNTIF(OFFICIAL!$R$4:$AF$111,CONCATENATE(AA$10,\" : \",$A26))+COUNTIF(OFFICIAL!$R$4:$AF$111,CONCATENATE($A26,\" : \",AA$10))","v":0},{"$f":"COUNTIF(OFFICIAL!$R$4:$AF$111,CONCATENATE(AB$10,\" : \",$A26))+COUNTIF(OFFICIAL!$R$4:$AF$111,CONCATENATE($A26,\" : \",AB$10))","v":0},{"$f":"COUNTIF(OFFICIAL!$R$4:$AF$111,CONCATENATE(AC$10,\" : \",$A26))+COUNTIF(OFFICIAL!$R$4:$AF$111,CONCATENATE($A26,\" : \",AC$10))","v":0},{"$f":"COUNTIF(OFFICIAL!$R$4:$AF$111,CONCATENATE(AD$10,\" : \",$A26))+COUNTIF(OFFICIAL!$R$4:$AF$111,CONCATENATE($A26,\" : \",AD$10))","v":0},{"$f":"COUNTIF(OFFICIAL!$R$4:$AF$111,CONCATENATE(AE$10,\" : \",$A26))+COUNTIF(OFFICIAL!$R$4:$AF$111,CONCATENATE($A26,\" : \",AE$10))","v":0}]
[{"$f":"IF(DATA!$F20=\"\",\" \",DATA!$F20)","v":" "},{"$f":"COUNTIF(OFFICIAL!$R$4:$AF$111,CONCATENATE(B$10,\" : \",$A27))+COUNTIF(OFFICIAL!$R$4:$AF$111,CONCATENATE($A27,\" : \",B$10))","v":0},{"$f":"COUNTIF(OFFICIAL!$R$4:$AF$111,CONCATENATE(C$10,\" : \",$A27))+COUNTIF(OFFICIAL!$R$4:$AF$111,CONCATENATE($A27,\" : \",C$10))","v":0},{"$f":"COUNTIF(OFFICIAL!$R$4:$AF$111,CONCATENATE(D$10,\" : \",$A27))+COUNTIF(OFFICIAL!$R$4:$AF$111,CONCATENATE($A27,\" : \",D$10))","v":0},{"$f":"COUNTIF(OFFICIAL!$R$4:$AF$111,CONCATENATE(E$10,\" : \",$A27))+COUNTIF(OFFICIAL!$R$4:$AF$111,CONCATENATE($A27,\" : \",E$10))","v":0},{"$f":"COUNTIF(OFFICIAL!$R$4:$AF$111,CONCATENATE(F$10,\" : \",$A27))+COUNTIF(OFFICIAL!$R$4:$AF$111,CONCATENATE($A27,\" : \",F$10))","v":0},{"$f":"COUNTIF(OFFICIAL!$R$4:$AF$111,CONCATENATE(G$10,\" : \",$A27))+COUNTIF(OFFICIAL!$R$4:$AF$111,CONCATENATE($A27,\" : \",G$10))","v":0},{"$f":"COUNTIF(OFFICIAL!$R$4:$AF$111,CONCATENATE(H$10,\" : \",$A27))+COUNTIF(OFFICIAL!$R$4:$AF$111,CONCATENATE($A27,\" : \",H$10))","v":0},{"$f":"COUNTIF(OFFICIAL!$R$4:$AF$111,CONCATENATE(I$10,\" : \",$A27))+COUNTIF(OFFICIAL!$R$4:$AF$111,CONCATENATE($A27,\" : \",I$10))","v":0},{"$f":"COUNTIF(OFFICIAL!$R$4:$AF$111,CONCATENATE(J$10,\" : \",$A27))+COUNTIF(OFFICIAL!$R$4:$AF$111,CONCATENATE($A27,\" : \",J$10))","v":0},{"$f":"COUNTIF(OFFICIAL!$R$4:$AF$111,CONCATENATE(K$10,\" : \",$A27))+COUNTIF(OFFICIAL!$R$4:$AF$111,CONCATENATE($A27,\" : \",K$10))","v":0},{"$f":"COUNTIF(OFFICIAL!$R$4:$AF$111,CONCATENATE(L$10,\" : \",$A27))+COUNTIF(OFFICIAL!$R$4:$AF$111,CONCATENATE($A27,\" : \",L$10))","v":0},{"$f":"COUNTIF(OFFICIAL!$R$4:$AF$111,CONCATENATE(M$10,\" : \",$A27))+COUNTIF(OFFICIAL!$R$4:$AF$111,CONCATENATE($A27,\" : \",M$10))","v":0},{"$f":"COUNTIF(OFFICIAL!$R$4:$AF$111,CONCATENATE(N$10,\" : \",$A27))+COUNTIF(OFFICIAL!$R$4:$AF$111,CONCATENATE($A27,\" : \",N$10))","v":0},{"$f":"COUNTIF(OFFICIAL!$R$4:$AF$111,CONCATENATE(O$10,\" : \",$A27))+COUNTIF(OFFICIAL!$R$4:$AF$111,CONCATENATE($A27,\" : \",O$10))","v":0},{"$f":"COUNTIF(OFFICIAL!$R$4:$AF$111,CONCATENATE(P$10,\" : \",$A27))+COUNTIF(OFFICIAL!$R$4:$AF$111,CONCATENATE($A27,\" : \",P$10))","v":0},{"$f":"COUNTIF(OFFICIAL!$R$4:$AF$111,CONCATENATE(Q$10,\" : \",$A27))+COUNTIF(OFFICIAL!$R$4:$AF$111,CONCATENATE($A27,\" : \",Q$10))","v":0},{"$f":"COUNTIF(OFFICIAL!$H$4:$N$111,R$10)","v":0},{"$f":"COUNTIF(OFFICIAL!$R$4:$AF$111,CONCATENATE(S$10,\" : \",$A27))+COUNTIF(OFFICIAL!$R$4:$AF$111,CONCATENATE($A27,\" : \",S$10))","v":0},{"$f":"COUNTIF(OFFICIAL!$R$4:$AF$111,CONCATENATE(T$10,\" : \",$A27))+COUNTIF(OFFICIAL!$R$4:$AF$111,CONCATENATE($A27,\" : \",T$10))","v":0},{"$f":"COUNTIF(OFFICIAL!$R$4:$AF$111,CONCATENATE(U$10,\" : \",$A27))+COUNTIF(OFFICIAL!$R$4:$AF$111,CONCATENATE($A27,\" : \",U$10))","v":0},{"$f":"COUNTIF(OFFICIAL!$R$4:$AF$111,CONCATENATE(V$10,\" : \",$A27))+COUNTIF(OFFICIAL!$R$4:$AF$111,CONCATENATE($A27,\" : \",V$10))","v":0},{"$f":"COUNTIF(OFFICIAL!$R$4:$AF$111,CONCATENATE(W$10,\" : \",$A27))+COUNTIF(OFFICIAL!$R$4:$AF$111,CONCATENATE($A27,\" : \",W$10))","v":0},{"$f":"COUNTIF(OFFICIAL!$R$4:$AF$111,CONCATENATE(X$10,\" : \",$A27))+COUNTIF(OFFICIAL!$R$4:$AF$111,CONCATENATE($A27,\" : \",X$10))","v":0},{"$f":"COUNTIF(OFFICIAL!$R$4:$AF$111,CONCATENATE(Y$10,\" : \",$A27))+COUNTIF(OFFICIAL!$R$4:$AF$111,CONCATENATE($A27,\" : \",Y$10))","v":0},{"$f":"COUNTIF(OFFICIAL!$R$4:$AF$111,CONCATENATE(Z$10,\" : \",$A27))+COUNTIF(OFFICIAL!$R$4:$AF$111,CONCATENATE($A27,\" : \",Z$10))","v":0},{"$f":"COUNTIF(OFFICIAL!$R$4:$AF$111,CONCATENATE(AA$10,\" : \",$A27))+COUNTIF(OFFICIAL!$R$4:$AF$111,CONCATENATE($A27,\" : \",AA$10))","v":0},{"$f":"COUNTIF(OFFICIAL!$R$4:$AF$111,CONCATENATE(AB$10,\" : \",$A27))+COUNTIF(OFFICIAL!$R$4:$AF$111,CONCATENATE($A27,\" : \",AB$10))","v":0},{"$f":"COUNTIF(OFFICIAL!$R$4:$AF$111,CONCATENATE(AC$10,\" : \",$A27))+COUNTIF(OFFICIAL!$R$4:$AF$111,CONCATENATE($A27,\" : \",AC$10))","v":0},{"$f":"COUNTIF(OFFICIAL!$R$4:$AF$111,CONCATENATE(AD$10,\" : \",$A27))+COUNTIF(OFFICIAL!$R$4:$AF$111,CONCATENATE($A27,\" : \",AD$10))","v":0},{"$f":"COUNTIF(OFFICIAL!$R$4:$AF$111,CONCATENATE(AE$10,\" : \",$A27))+COUNTIF(OFFICIAL!$R$4:$AF$111,CONCATENATE($A27,\" : \",AE$10))","v":0}]
[{"$f":"IF(DATA!$F21=\"\",\" \",DATA!$F21)","v":" "},{"$f":"COUNTIF(OFFICIAL!$R$4:$AF$111,CONCATENATE(B$10,\" : \",$A28))+COUNTIF(OFFICIAL!$R$4:$AF$111,CONCATENATE($A28,\" : \",B$10))","v":0},{"$f":"COUNTIF(OFFICIAL!$R$4:$AF$111,CONCATENATE(C$10,\" : \",$A28))+COUNTIF(OFFICIAL!$R$4:$AF$111,CONCATENATE($A28,\" : \",C$10))","v":0},{"$f":"COUNTIF(OFFICIAL!$R$4:$AF$111,CONCATENATE(D$10,\" : \",$A28))+COUNTIF(OFFICIAL!$R$4:$AF$111,CONCATENATE($A28,\" : \",D$10))","v":0},{"$f":"COUNTIF(OFFICIAL!$R$4:$AF$111,CONCATENATE(E$10,\" : \",$A28))+COUNTIF(OFFICIAL!$R$4:$AF$111,CONCATENATE($A28,\" : \",E$10))","v":0},{"$f":"COUNTIF(OFFICIAL!$R$4:$AF$111,CONCATENATE(F$10,\" : \",$A28))+COUNTIF(OFFICIAL!$R$4:$AF$111,CONCATENATE($A28,\" : \",F$10))","v":0},{"$f":"COUNTIF(OFFICIAL!$R$4:$AF$111,CONCATENATE(G$10,\" : \",$A28))+COUNTIF(OFFICIAL!$R$4:$AF$111,CONCATENATE($A28,\" : \",G$10))","v":0},{"$f":"COUNTIF(OFFICIAL!$R$4:$AF$111,CONCATENATE(H$10,\" : \",$A28))+COUNTIF(OFFICIAL!$R$4:$AF$111,CONCATENATE($A28,\" : \",H$10))","v":0},{"$f":"COUNTIF(OFFICIAL!$R$4:$AF$111,CONCATENATE(I$10,\" : \",$A28))+COUNTIF(OFFICIAL!$R$4:$AF$111,CONCATENATE($A28,\" : \",I$10))","v":0},{"$f":"COUNTIF(OFFICIAL!$R$4:$AF$111,CONCATENATE(J$10,\" : \",$A28))+COUNTIF(OFFICIAL!$R$4:$AF$111,CONCATENATE($A28,\" : \",J$10))","v":0},{"$f":"COUNTIF(OFFICIAL!$R$4:$AF$111,CONCATENATE(K$10,\" : \",$A28))+COUNTIF(OFFICIAL!$R$4:$AF$111,CONCATENATE($A28,\" : \",K$10))","v":0},{"$f":"COUNTIF(OFFICIAL!$R$4:$AF$111,CONCATENATE(L$10,\" : \",$A28))+COUNTIF(OFFICIAL!$R$4:$AF$111,CONCATENATE($A28,\" : \",L$10))","v":0},{"$f":"COUNTIF(OFFICIAL!$R$4:$AF$111,CONCATENATE(M$10,\" : \",$A28))+COUNTIF(OFFICIAL!$R$4:$AF$111,CONCATENATE($A28,\" : \",M$10))","v":0},{"$f":"COUNTIF(OFFICIAL!$R$4:$AF$111,CONCATENATE(N$10,\" : \",$A28))+COUNTIF(OFFICIAL!$R$4:$AF$111,CONCATENATE($A28,\" : \",N$10))","v":0},{"$f":"COUNTIF(OFFICIAL!$R$4:$AF$111,CONCATENATE(O$10,\" : \",$A28))+COUNTIF(OFFICIAL!$R$4:$AF$111,CONCATENATE($A28,\" : \",O$10))","v":0},{"$f":"COUNTIF(OFFICIAL!$R$4:$AF$111,CONCATENATE(P$10,\" : \",$A28))+COUNTIF(OFFICIAL!$R$4:$AF$111,CONCATENATE($A28,\" : \",P$10))","v":0},{"$f":"COUNTIF(OFFICIAL!$R$4:$AF$111,CONCATENATE(Q$10,\" : \",$A28))+COUNTIF(OFFICIAL!$R$4:$AF$111,CONCATENATE($A28,\" : \",Q$10))","v":0},{"$f":"COUNTIF(OFFICIAL!$R$4:$AF$111,CONCATENATE(R$10,\" : \",$A28))+COUNTIF(OFFICIAL!$R$4:$AF$111,CONCATENATE($A28,\" : \",R$10))","v":0},{"$f":"COUNTIF(OFFICIAL!$H$4:$N$111,S$10)","v":0},{"$f":"COUNTIF(OFFICIAL!$R$4:$AF$111,CONCATENATE(T$10,\" : \",$A28))+COUNTIF(OFFICIAL!$R$4:$AF$111,CONCATENATE($A28,\" : \",T$10))","v":0},{"$f":"COUNTIF(OFFICIAL!$R$4:$AF$111,CONCATENATE(U$10,\" : \",$A28))+COUNTIF(OFFICIAL!$R$4:$AF$111,CONCATENATE($A28,\" : \",U$10))","v":0},{"$f":"COUNTIF(OFFICIAL!$R$4:$AF$111,CONCATENATE(V$10,\" : \",$A28))+COUNTIF(OFFICIAL!$R$4:$AF$111,CONCATENATE($A28,\" : \",V$10))","v":0},{"$f":"COUNTIF(OFFICIAL!$R$4:$AF$111,CONCATENATE(W$10,\" : \",$A28))+COUNTIF(OFFICIAL!$R$4:$AF$111,CONCATENATE($A28,\" : \",W$10))","v":0},{"$f":"COUNTIF(OFFICIAL!$R$4:$AF$111,CONCATENATE(X$10,\" : \",$A28))+COUNTIF(OFFICIAL!$R$4:$AF$111,CONCATENATE($A28,\" : \",X$10))","v":0},{"$f":"COUNTIF(OFFICIAL!$R$4:$AF$111,CONCATENATE(Y$10,\" : \",$A28))+COUNTIF(OFFICIAL!$R$4:$AF$111,CONCATENATE($A28,\" : \",Y$10))","v":0},{"$f":"COUNTIF(OFFICIAL!$R$4:$AF$111,CONCATENATE(Z$10,\" : \",$A28))+COUNTIF(OFFICIAL!$R$4:$AF$111,CONCATENATE($A28,\" : \",Z$10))","v":0},{"$f":"COUNTIF(OFFICIAL!$R$4:$AF$111,CONCATENATE(AA$10,\" : \",$A28))+COUNTIF(OFFICIAL!$R$4:$AF$111,CONCATENATE($A28,\" : \",AA$10))","v":0},{"$f":"COUNTIF(OFFICIAL!$R$4:$AF$111,CONCATENATE(AB$10,\" : \",$A28))+COUNTIF(OFFICIAL!$R$4:$AF$111,CONCATENATE($A28,\" : \",AB$10))","v":0},{"$f":"COUNTIF(OFFICIAL!$R$4:$AF$111,CONCATENATE(AC$10,\" : \",$A28))+COUNTIF(OFFICIAL!$R$4:$AF$111,CONCATENATE($A28,\" : \",AC$10))","v":0},{"$f":"COUNTIF(OFFICIAL!$R$4:$AF$111,CONCATENATE(AD$10,\" : \",$A28))+COUNTIF(OFFICIAL!$R$4:$AF$111,CONCATENATE($A28,\" : \",AD$10))","v":0},{"$f":"COUNTIF(OFFICIAL!$R$4:$AF$111,CONCATENATE(AE$10,\" : \",$A28))+COUNTIF(OFFICIAL!$R$4:$AF$111,CONCATENATE($A28,\" : \",AE$10))","v":0}]
[{"$f":"IF(DATA!$F22=\"\",\" \",DATA!$F22)","v":" "},{"$f":"COUNTIF(OFFICIAL!$R$4:$AF$111,CONCATENATE(B$10,\" : \",$A29))+COUNTIF(OFFICIAL!$R$4:$AF$111,CONCATENATE($A29,\" : \",B$10))","v":0},{"$f":"COUNTIF(OFFICIAL!$R$4:$AF$111,CONCATENATE(C$10,\" : \",$A29))+COUNTIF(OFFICIAL!$R$4:$AF$111,CONCATENATE($A29,\" : \",C$10))","v":0},{"$f":"COUNTIF(OFFICIAL!$R$4:$AF$111,CONCATENATE(D$10,\" : \",$A29))+COUNTIF(OFFICIAL!$R$4:$AF$111,CONCATENATE($A29,\" : \",D$10))","v":0},{"$f":"COUNTIF(OFFICIAL!$R$4:$AF$111,CONCATENATE(E$10,\" : \",$A29))+COUNTIF(OFFICIAL!$R$4:$AF$111,CONCATENATE($A29,\" : \",E$10))","v":0},{"$f":"COUNTIF(OFFICIAL!$R$4:$AF$111,CONCATENATE(F$10,\" : \",$A29))+COUNTIF(OFFICIAL!$R$4:$AF$111,CONCATENATE($A29,\" : \",F$10))","v":0},{"$f":"COUNTIF(OFFICIAL!$R$4:$AF$111,CONCATENATE(G$10,\" : \",$A29))+COUNTIF(OFFICIAL!$R$4:$AF$111,CONCATENATE($A29,\" : \",G$10))","v":0},{"$f":"COUNTIF(OFFICIAL!$R$4:$AF$111,CONCATENATE(H$10,\" : \",$A29))+COUNTIF(OFFICIAL!$R$4:$AF$111,CONCATENATE($A29,\" : \",H$10))","v":0},{"$f":"COUNTIF(OFFICIAL!$R$4:$AF$111,CONCATENATE(I$10,\" : \",$A29))+COUNTIF(OFFICIAL!$R$4:$AF$111,CONCATENATE($A29,\" : \",I$10))","v":0},{"$f":"COUNTIF(OFFICIAL!$R$4:$AF$111,CONCATENATE(J$10,\" : \",$A29))+COUNTIF(OFFICIAL!$R$4:$AF$111,CONCATENATE($A29,\" : \",J$10))","v":0},{"$f":"COUNTIF(OFFICIAL!$R$4:$AF$111,CONCATENATE(K$10,\" : \",$A29))+COUNTIF(OFFICIAL!$R$4:$AF$111,CONCATENATE($A29,\" : \",K$10))","v":0},{"$f":"COUNTIF(OFFICIAL!$R$4:$AF$111,CONCATENATE(L$10,\" : \",$A29))+COUNTIF(OFFICIAL!$R$4:$AF$111,CONCATENATE($A29,\" : \",L$10))","v":0},{"$f":"COUNTIF(OFFICIAL!$R$4:$AF$111,CONCATENATE(M$10,\" : \",$A29))+COUNTIF(OFFICIAL!$R$4:$AF$111,CONCATENATE($A29,\" : \",M$10))","v":0},{"$f":"COUNTIF(OFFICIAL!$R$4:$AF$111,CONCATENATE(N$10,\" : \",$A29))+COUNTIF(OFFICIAL!$R$4:$AF$111,CONCATENATE($A29,\" : \",N$10))","v":0},{"$f":"COUNTIF(OFFICIAL!$R$4:$AF$111,CONCATENATE(O$10,\" : \",$A29))+COUNTIF(OFFICIAL!$R$4:$AF$111,CONCATENATE($A29,\" : \",O$10))","v":0},{"$f":"COUNTIF(OFFICIAL!$R$4:$AF$111,CONCATENATE(P$10,\" : \",$A29))+COUNTIF(OFFICIAL!$R$4:$AF$111,CONCATENATE($A29,\" : \",P$10))","v":0},{"$f":"COUNTIF(OFFICIAL!$R$4:$AF$111,CONCATENATE(Q$10,\" : \",$A29))+COUNTIF(OFFICIAL!$R$4:$AF$111,CONCATENATE($A29,\" : \",Q$10))","v":0},{"$f":"COUNTIF(OFFICIAL!$R$4:$AF$111,CONCATENATE(R$10,\" : \",$A29))+COUNTIF(OFFICIAL!$R$4:$AF$111,CONCATENATE($A29,\" : \",R$10))","v":0},{"$f":"COUNTIF(OFFICIAL!$R$4:$AF$111,CONCATENATE(S$10,\" : \",$A29))+COUNTIF(OFFICIAL!$R$4:$AF$111,CONCATENATE($A29,\" : \",S$10))","v":0},{"$f":"COUNTIF(OFFICIAL!$H$4:$N$111,T$10)","v":0},{"$f":"COUNTIF(OFFICIAL!$R$4:$AF$111,CONCATENATE(U$10,\" : \",$A29))+COUNTIF(OFFICIAL!$R$4:$AF$111,CONCATENATE($A29,\" : \",U$10))","v":0},{"$f":"COUNTIF(OFFICIAL!$R$4:$AF$111,CONCATENATE(V$10,\" : \",$A29))+COUNTIF(OFFICIAL!$R$4:$AF$111,CONCATENATE($A29,\" : \",V$10))","v":0},{"$f":"COUNTIF(OFFICIAL!$R$4:$AF$111,CONCATENATE(W$10,\" : \",$A29))+COUNTIF(OFFICIAL!$R$4:$AF$111,CONCATENATE($A29,\" : \",W$10))","v":0},{"$f":"COUNTIF(OFFICIAL!$R$4:$AF$111,CONCATENATE(X$10,\" : \",$A29))+COUNTIF(OFFICIAL!$R$4:$AF$111,CONCATENATE($A29,\" : \",X$10))","v":0},{"$f":"COUNTIF(OFFICIAL!$R$4:$AF$111,CONCATENATE(Y$10,\" : \",$A29))+COUNTIF(OFFICIAL!$R$4:$AF$111,CONCATENATE($A29,\" : \",Y$10))","v":0},{"$f":"COUNTIF(OFFICIAL!$R$4:$AF$111,CONCATENATE(Z$10,\" : \",$A29))+COUNTIF(OFFICIAL!$R$4:$AF$111,CONCATENATE($A29,\" : \",Z$10))","v":0},{"$f":"COUNTIF(OFFICIAL!$R$4:$AF$111,CONCATENATE(AA$10,\" : \",$A29))+COUNTIF(OFFICIAL!$R$4:$AF$111,CONCATENATE($A29,\" : \",AA$10))","v":0},{"$f":"COUNTIF(OFFICIAL!$R$4:$AF$111,CONCATENATE(AB$10,\" : \",$A29))+COUNTIF(OFFICIAL!$R$4:$AF$111,CONCATENATE($A29,\" : \",AB$10))","v":0},{"$f":"COUNTIF(OFFICIAL!$R$4:$AF$111,CONCATENATE(AC$10,\" : \",$A29))+COUNTIF(OFFICIAL!$R$4:$AF$111,CONCATENATE($A29,\" : \",AC$10))","v":0},{"$f":"COUNTIF(OFFICIAL!$R$4:$AF$111,CONCATENATE(AD$10,\" : \",$A29))+COUNTIF(OFFICIAL!$R$4:$AF$111,CONCATENATE($A29,\" : \",AD$10))","v":0},{"$f":"COUNTIF(OFFICIAL!$R$4:$AF$111,CONCATENATE(AE$10,\" : \",$A29))+COUNTIF(OFFICIAL!$R$4:$AF$111,CONCATENATE($A29,\" : \",AE$10))","v":0}]
[{"$f":"IF(DATA!$F23=\"\",\" \",DATA!$F23)","v":" "},{"$f":"COUNTIF(OFFICIAL!$R$4:$AF$111,CONCATENATE(B$10,\" : \",$A30))+COUNTIF(OFFICIAL!$R$4:$AF$111,CONCATENATE($A30,\" : \",B$10))","v":0},{"$f":"COUNTIF(OFFICIAL!$R$4:$AF$111,CONCATENATE(C$10,\" : \",$A30))+COUNTIF(OFFICIAL!$R$4:$AF$111,CONCATENATE($A30,\" : \",C$10))","v":0},{"$f":"COUNTIF(OFFICIAL!$R$4:$AF$111,CONCATENATE(D$10,\" : \",$A30))+COUNTIF(OFFICIAL!$R$4:$AF$111,CONCATENATE($A30,\" : \",D$10))","v":0},{"$f":"COUNTIF(OFFICIAL!$R$4:$AF$111,CONCATENATE(E$10,\" : \",$A30))+COUNTIF(OFFICIAL!$R$4:$AF$111,CONCATENATE($A30,\" : \",E$10))","v":0},{"$f":"COUNTIF(OFFICIAL!$R$4:$AF$111,CONCATENATE(F$10,\" : \",$A30))+COUNTIF(OFFICIAL!$R$4:$AF$111,CONCATENATE($A30,\" : \",F$10))","v":0},{"$f":"COUNTIF(OFFICIAL!$R$4:$AF$111,CONCATENATE(G$10,\" : \",$A30))+COUNTIF(OFFICIAL!$R$4:$AF$111,CONCATENATE($A30,\" : \",G$10))","v":0},{"$f":"COUNTIF(OFFICIAL!$R$4:$AF$111,CONCATENATE(H$10,\" : \",$A30))+COUNTIF(OFFICIAL!$R$4:$AF$111,CONCATENATE($A30,\" : \",H$10))","v":0},{"$f":"COUNTIF(OFFICIAL!$R$4:$AF$111,CONCATENATE(I$10,\" : \",$A30))+COUNTIF(OFFICIAL!$R$4:$AF$111,CONCATENATE($A30,\" : \",I$10))","v":0},{"$f":"COUNTIF(OFFICIAL!$R$4:$AF$111,CONCATENATE(J$10,\" : \",$A30))+COUNTIF(OFFICIAL!$R$4:$AF$111,CONCATENATE($A30,\" : \",J$10))","v":0},{"$f":"COUNTIF(OFFICIAL!$R$4:$AF$111,CONCATENATE(K$10,\" : \",$A30))+COUNTIF(OFFICIAL!$R$4:$AF$111,CONCATENATE($A30,\" : \",K$10))","v":0},{"$f":"COUNTIF(OFFICIAL!$R$4:$AF$111,CONCATENATE(L$10,\" : \",$A30))+COUNTIF(OFFICIAL!$R$4:$AF$111,CONCATENATE($A30,\" : \",L$10))","v":0},{"$f":"COUNTIF(OFFICIAL!$R$4:$AF$111,CONCATENATE(M$10,\" : \",$A30))+COUNTIF(OFFICIAL!$R$4:$AF$111,CONCATENATE($A30,\" : \",M$10))","v":0},{"$f":"COUNTIF(OFFICIAL!$R$4:$AF$111,CONCATENATE(N$10,\" : \",$A30))+COUNTIF(OFFICIAL!$R$4:$AF$111,CONCATENATE($A30,\" : \",N$10))","v":0},{"$f":"COUNTIF(OFFICIAL!$R$4:$AF$111,CONCATENATE(O$10,\" : \",$A30))+COUNTIF(OFFICIAL!$R$4:$AF$111,CONCATENATE($A30,\" : \",O$10))","v":0},{"$f":"COUNTIF(OFFICIAL!$R$4:$AF$111,CONCATENATE(P$10,\" : \",$A30))+COUNTIF(OFFICIAL!$R$4:$AF$111,CONCATENATE($A30,\" : \",P$10))","v":0},{"$f":"COUNTIF(OFFICIAL!$R$4:$AF$111,CONCATENATE(Q$10,\" : \",$A30))+COUNTIF(OFFICIAL!$R$4:$AF$111,CONCATENATE($A30,\" : \",Q$10))","v":0},{"$f":"COUNTIF(OFFICIAL!$R$4:$AF$111,CONCATENATE(R$10,\" : \",$A30))+COUNTIF(OFFICIAL!$R$4:$AF$111,CONCATENATE($A30,\" : \",R$10))","v":0},{"$f":"COUNTIF(OFFICIAL!$R$4:$AF$111,CONCATENATE(S$10,\" : \",$A30))+COUNTIF(OFFICIAL!$R$4:$AF$111,CONCATENATE($A30,\" : \",S$10))","v":0},{"$f":"COUNTIF(OFFICIAL!$R$4:$AF$111,CONCATENATE(T$10,\" : \",$A30))+COUNTIF(OFFICIAL!$R$4:$AF$111,CONCATENATE($A30,\" : \",T$10))","v":0},{"$f":"COUNTIF(OFFICIAL!$H$4:$N$111,U$10)","v":0},{"$f":"COUNTIF(OFFICIAL!$R$4:$AF$111,CONCATENATE(V$10,\" : \",$A30))+COUNTIF(OFFICIAL!$R$4:$AF$111,CONCATENATE($A30,\" : \",V$10))","v":0},{"$f":"COUNTIF(OFFICIAL!$R$4:$AF$111,CONCATENATE(W$10,\" : \",$A30))+COUNTIF(OFFICIAL!$R$4:$AF$111,CONCATENATE($A30,\" : \",W$10))","v":0},{"$f":"COUNTIF(OFFICIAL!$R$4:$AF$111,CONCATENATE(X$10,\" : \",$A30))+COUNTIF(OFFICIAL!$R$4:$AF$111,CONCATENATE($A30,\" : \",X$10))","v":0},{"$f":"COUNTIF(OFFICIAL!$R$4:$AF$111,CONCATENATE(Y$10,\" : \",$A30))+COUNTIF(OFFICIAL!$R$4:$AF$111,CONCATENATE($A30,\" : \",Y$10))","v":0},{"$f":"COUNTIF(OFFICIAL!$R$4:$AF$111,CONCATENATE(Z$10,\" : \",$A30))+COUNTIF(OFFICIAL!$R$4:$AF$111,CONCATENATE($A30,\" : \",Z$10))","v":0},{"$f":"COUNTIF(OFFICIAL!$R$4:$AF$111,CONCATENATE(AA$10,\" : \",$A30))+COUNTIF(OFFICIAL!$R$4:$AF$111,CONCATENATE($A30,\" : \",AA$10))","v":0},{"$f":"COUNTIF(OFFICIAL!$R$4:$AF$111,CONCATENATE(AB$10,\" : \",$A30))+COUNTIF(OFFICIAL!$R$4:$AF$111,CONCATENATE($A30,\" : \",AB$10))","v":0},{"$f":"COUNTIF(OFFICIAL!$R$4:$AF$111,CONCATENATE(AC$10,\" : \",$A30))+COUNTIF(OFFICIAL!$R$4:$AF$111,CONCATENATE($A30,\" : \",AC$10))","v":0},{"$f":"COUNTIF(OFFICIAL!$R$4:$AF$111,CONCATENATE(AD$10,\" : \",$A30))+COUNTIF(OFFICIAL!$R$4:$AF$111,CONCATENATE($A30,\" : \",AD$10))","v":0},{"$f":"COUNTIF(OFFICIAL!$R$4:$AF$111,CONCATENATE(AE$10,\" : \",$A30))+COUNTIF(OFFICIAL!$R$4:$AF$111,CONCATENATE($A30,\" : \",AE$10))","v":0}]
[{"$f":"IF(DATA!$F24=\"\",\" \",DATA!$F24)","v":" "},{"$f":"COUNTIF(OFFICIAL!$R$4:$AF$111,CONCATENATE(B$10,\" : \",$A31))+COUNTIF(OFFICIAL!$R$4:$AF$111,CONCATENATE($A31,\" : \",B$10))","v":0},{"$f":"COUNTIF(OFFICIAL!$R$4:$AF$111,CONCATENATE(C$10,\" : \",$A31))+COUNTIF(OFFICIAL!$R$4:$AF$111,CONCATENATE($A31,\" : \",C$10))","v":0},{"$f":"COUNTIF(OFFICIAL!$R$4:$AF$111,CONCATENATE(D$10,\" : \",$A31))+COUNTIF(OFFICIAL!$R$4:$AF$111,CONCATENATE($A31,\" : \",D$10))","v":0},{"$f":"COUNTIF(OFFICIAL!$R$4:$AF$111,CONCATENATE(E$10,\" : \",$A31))+COUNTIF(OFFICIAL!$R$4:$AF$111,CONCATENATE($A31,\" : \",E$10))","v":0},{"$f":"COUNTIF(OFFICIAL!$R$4:$AF$111,CONCATENATE(F$10,\" : \",$A31))+COUNTIF(OFFICIAL!$R$4:$AF$111,CONCATENATE($A31,\" : \",F$10))","v":0},{"$f":"COUNTIF(OFFICIAL!$R$4:$AF$111,CONCATENATE(G$10,\" : \",$A31))+COUNTIF(OFFICIAL!$R$4:$AF$111,CONCATENATE($A31,\" : \",G$10))","v":0},{"$f":"COUNTIF(OFFICIAL!$R$4:$AF$111,CONCATENATE(H$10,\" : \",$A31))+COUNTIF(OFFICIAL!$R$4:$AF$111,CONCATENATE($A31,\" : \",H$10))","v":0},{"$f":"COUNTIF(OFFICIAL!$R$4:$AF$111,CONCATENATE(I$10,\" : \",$A31))+COUNTIF(OFFICIAL!$R$4:$AF$111,CONCATENATE($A31,\" : \",I$10))","v":0},{"$f":"COUNTIF(OFFICIAL!$R$4:$AF$111,CONCATENATE(J$10,\" : \",$A31))+COUNTIF(OFFICIAL!$R$4:$AF$111,CONCATENATE($A31,\" : \",J$10))","v":0},{"$f":"COUNTIF(OFFICIAL!$R$4:$AF$111,CONCATENATE(K$10,\" : \",$A31))+COUNTIF(OFFICIAL!$R$4:$AF$111,CONCATENATE($A31,\" : \",K$10))","v":0},{"$f":"COUNTIF(OFFICIAL!$R$4:$AF$111,CONCATENATE(L$10,\" : \",$A31))+COUNTIF(OFFICIAL!$R$4:$AF$111,CONCATENATE($A31,\" : \",L$10))","v":0},{"$f":"COUNTIF(OFFICIAL!$R$4:$AF$111,CONCATENATE(M$10,\" : \",$A31))+COUNTIF(OFFICIAL!$R$4:$AF$111,CONCATENATE($A31,\" : \",M$10))","v":0},{"$f":"COUNTIF(OFFICIAL!$R$4:$AF$111,CONCATENATE(N$10,\" : \",$A31))+COUNTIF(OFFICIAL!$R$4:$AF$111,CONCATENATE($A31,\" : \",N$10))","v":0},{"$f":"COUNTIF(OFFICIAL!$R$4:$AF$111,CONCATENATE(O$10,\" : \",$A31))+COUNTIF(OFFICIAL!$R$4:$AF$111,CONCATENATE($A31,\" : \",O$10))","v":0},{"$f":"COUNTIF(OFFICIAL!$R$4:$AF$111,CONCATENATE(P$10,\" : \",$A31))+COUNTIF(OFFICIAL!$R$4:$AF$111,CONCATENATE($A31,\" : \",P$10))","v":0},{"$f":"COUNTIF(OFFICIAL!$R$4:$AF$111,CONCATENATE(Q$10,\" : \",$A31))+COUNTIF(OFFICIAL!$R$4:$AF$111,CONCATENATE($A31,\" : \",Q$10))","v":0},{"$f":"COUNTIF(OFFICIAL!$R$4:$AF$111,CONCATENATE(R$10,\" : \",$A31))+COUNTIF(OFFICIAL!$R$4:$AF$111,CONCATENATE($A31,\" : \",R$10))","v":0},{"$f":"COUNTIF(OFFICIAL!$R$4:$AF$111,CONCATENATE(S$10,\" : \",$A31))+COUNTIF(OFFICIAL!$R$4:$AF$111,CONCATENATE($A31,\" : \",S$10))","v":0},{"$f":"COUNTIF(OFFICIAL!$R$4:$AF$111,CONCATENATE(T$10,\" : \",$A31))+COUNTIF(OFFICIAL!$R$4:$AF$111,CONCATENATE($A31,\" : \",T$10))","v":0},{"$f":"COUNTIF(OFFICIAL!$R$4:$AF$111,CONCATENATE(U$10,\" : \",$A31))+COUNTIF(OFFICIAL!$R$4:$AF$111,CONCATENATE($A31,\" : \",U$10))","v":0},{"$f":"COUNTIF(OFFICIAL!$H$4:$N$111,V$10)","v":0},{"$f":"COUNTIF(OFFICIAL!$R$4:$AF$111,CONCATENATE(W$10,\" : \",$A31))+COUNTIF(OFFICIAL!$R$4:$AF$111,CONCATENATE($A31,\" : \",W$10))","v":0},{"$f":"COUNTIF(OFFICIAL!$R$4:$AF$111,CONCATENATE(X$10,\" : \",$A31))+COUNTIF(OFFICIAL!$R$4:$AF$111,CONCATENATE($A31,\" : \",X$10))","v":0},{"$f":"COUNTIF(OFFICIAL!$R$4:$AF$111,CONCATENATE(Y$10,\" : \",$A31))+COUNTIF(OFFICIAL!$R$4:$AF$111,CONCATENATE($A31,\" : \",Y$10))","v":0},{"$f":"COUNTIF(OFFICIAL!$R$4:$AF$111,CONCATENATE(Z$10,\" : \",$A31))+COUNTIF(OFFICIAL!$R$4:$AF$111,CONCATENATE($A31,\" : \",Z$10))","v":0},{"$f":"COUNTIF(OFFICIAL!$R$4:$AF$111,CONCATENATE(AA$10,\" : \",$A31))+COUNTIF(OFFICIAL!$R$4:$AF$111,CONCATENATE($A31,\" : \",AA$10))","v":0},{"$f":"COUNTIF(OFFICIAL!$R$4:$AF$111,CONCATENATE(AB$10,\" : \",$A31))+COUNTIF(OFFICIAL!$R$4:$AF$111,CONCATENATE($A31,\" : \",AB$10))","v":0},{"$f":"COUNTIF(OFFICIAL!$R$4:$AF$111,CONCATENATE(AC$10,\" : \",$A31))+COUNTIF(OFFICIAL!$R$4:$AF$111,CONCATENATE($A31,\" : \",AC$10))","v":0},{"$f":"COUNTIF(OFFICIAL!$R$4:$AF$111,CONCATENATE(AD$10,\" : \",$A31))+COUNTIF(OFFICIAL!$R$4:$AF$111,CONCATENATE($A31,\" : \",AD$10))","v":0},{"$f":"COUNTIF(OFFICIAL!$R$4:$AF$111,CONCATENATE(AE$10,\" : \",$A31))+COUNTIF(OFFICIAL!$R$4:$AF$111,CONCATENATE($A31,\" : \",AE$10))","v":0}]
[{"$f":"IF(DATA!$F25=\"\",\" \",DATA!$F25)","v":" "},{"$f":"COUNTIF(OFFICIAL!$R$4:$AF$111,CONCATENATE(B$10,\" : \",$A32))+COUNTIF(OFFICIAL!$R$4:$AF$111,CONCATENATE($A32,\" : \",B$10))","v":0},{"$f":"COUNTIF(OFFICIAL!$R$4:$AF$111,CONCATENATE(C$10,\" : \",$A32))+COUNTIF(OFFICIAL!$R$4:$AF$111,CONCATENATE($A32,\" : \",C$10))","v":0},{"$f":"COUNTIF(OFFICIAL!$R$4:$AF$111,CONCATENATE(D$10,\" : \",$A32))+COUNTIF(OFFICIAL!$R$4:$AF$111,CONCATENATE($A32,\" : \",D$10))","v":0},{"$f":"COUNTIF(OFFICIAL!$R$4:$AF$111,CONCATENATE(E$10,\" : \",$A32))+COUNTIF(OFFICIAL!$R$4:$AF$111,CONCATENATE($A32,\" : \",E$10))","v":0},{"$f":"COUNTIF(OFFICIAL!$R$4:$AF$111,CONCATENATE(F$10,\" : \",$A32))+COUNTIF(OFFICIAL!$R$4:$AF$111,CONCATENATE($A32,\" : \",F$10))","v":0},{"$f":"COUNTIF(OFFICIAL!$R$4:$AF$111,CONCATENATE(G$10,\" : \",$A32))+COUNTIF(OFFICIAL!$R$4:$AF$111,CONCATENATE($A32,\" : \",G$10))","v":0},{"$f":"COUNTIF(OFFICIAL!$R$4:$AF$111,CONCATENATE(H$10,\" : \",$A32))+COUNTIF(OFFICIAL!$R$4:$AF$111,CONCATENATE($A32,\" : \",H$10))","v":0},{"$f":"COUNTIF(OFFICIAL!$R$4:$AF$111,CONCATENATE(I$10,\" : \",$A32))+COUNTIF(OFFICIAL!$R$4:$AF$111,CONCATENATE($A32,\" : \",I$10))","v":0},{"$f":"COUNTIF(OFFICIAL!$R$4:$AF$111,CONCATENATE(J$10,\" : \",$A32))+COUNTIF(OFFICIAL!$R$4:$AF$111,CONCATENATE($A32,\" : \",J$10))","v":0},{"$f":"COUNTIF(OFFICIAL!$R$4:$AF$111,CONCATENATE(K$10,\" : \",$A32))+COUNTIF(OFFICIAL!$R$4:$AF$111,CONCATENATE($A32,\" : \",K$10))","v":0},{"$f":"COUNTIF(OFFICIAL!$R$4:$AF$111,CONCATENATE(L$10,\" : \",$A32))+COUNTIF(OFFICIAL!$R$4:$AF$111,CONCATENATE($A32,\" : \",L$10))","v":0},{"$f":"COUNTIF(OFFICIAL!$R$4:$AF$111,CONCATENATE(M$10,\" : \",$A32))+COUNTIF(OFFICIAL!$R$4:$AF$111,CONCATENATE($A32,\" : \",M$10))","v":0},{"$f":"COUNTIF(OFFICIAL!$R$4:$AF$111,CONCATENATE(N$10,\" : \",$A32))+COUNTIF(OFFICIAL!$R$4:$AF$111,CONCATENATE($A32,\" : \",N$10))","v":0},{"$f":"COUNTIF(OFFICIAL!$R$4:$AF$111,CONCATENATE(O$10,\" : \",$A32))+COUNTIF(OFFICIAL!$R$4:$AF$111,CONCATENATE($A32,\" : \",O$10))","v":0},{"$f":"COUNTIF(OFFICIAL!$R$4:$AF$111,CONCATENATE(P$10,\" : \",$A32))+COUNTIF(OFFICIAL!$R$4:$AF$111,CONCATENATE($A32,\" : \",P$10))","v":0},{"$f":"COUNTIF(OFFICIAL!$R$4:$AF$111,CONCATENATE(Q$10,\" : \",$A32))+COUNTIF(OFFICIAL!$R$4:$AF$111,CONCATENATE($A32,\" : \",Q$10))","v":0},{"$f":"COUNTIF(OFFICIAL!$R$4:$AF$111,CONCATENATE(R$10,\" : \",$A32))+COUNTIF(OFFICIAL!$R$4:$AF$111,CONCATENATE($A32,\" : \",R$10))","v":0},{"$f":"COUNTIF(OFFICIAL!$R$4:$AF$111,CONCATENATE(S$10,\" : \",$A32))+COUNTIF(OFFICIAL!$R$4:$AF$111,CONCATENATE($A32,\" : \",S$10))","v":0},{"$f":"COUNTIF(OFFICIAL!$R$4:$AF$111,CONCATENATE(T$10,\" : \",$A32))+COUNTIF(OFFICIAL!$R$4:$AF$111,CONCATENATE($A32,\" : \",T$10))","v":0},{"$f":"COUNTIF(OFFICIAL!$R$4:$AF$111,CONCATENATE(U$10,\" : \",$A32))+COUNTIF(OFFICIAL!$R$4:$AF$111,CONCATENATE($A32,\" : \",U$10))","v":0},{"$f":"COUNTIF(OFFICIAL!$R$4:$AF$111,CONCATENATE(V$10,\" : \",$A32))+COUNTIF(OFFICIAL!$R$4:$AF$111,CONCATENATE($A32,\" : \",V$10))","v":0},{"$f":"COUNTIF(OFFICIAL!$H$4:$N$111,W$10)","v":0},{"$f":"COUNTIF(OFFICIAL!$R$4:$AF$111,CONCATENATE(X$10,\" : \",$A32))+COUNTIF(OFFICIAL!$R$4:$AF$111,CONCATENATE($A32,\" : \",X$10))","v":0},{"$f":"COUNTIF(OFFICIAL!$R$4:$AF$111,CONCATENATE(Y$10,\" : \",$A32))+COUNTIF(OFFICIAL!$R$4:$AF$111,CONCATENATE($A32,\" : \",Y$10))","v":0},{"$f":"COUNTIF(OFFICIAL!$R$4:$AF$111,CONCATENATE(Z$10,\" : \",$A32))+COUNTIF(OFFICIAL!$R$4:$AF$111,CONCATENATE($A32,\" : \",Z$10))","v":0},{"$f":"COUNTIF(OFFICIAL!$R$4:$AF$111,CONCATENATE(AA$10,\" : \",$A32))+COUNTIF(OFFICIAL!$R$4:$AF$111,CONCATENATE($A32,\" : \",AA$10))","v":0},{"$f":"COUNTIF(OFFICIAL!$R$4:$AF$111,CONCATENATE(AB$10,\" : \",$A32))+COUNTIF(OFFICIAL!$R$4:$AF$111,CONCATENATE($A32,\" : \",AB$10))","v":0},{"$f":"COUNTIF(OFFICIAL!$R$4:$AF$111,CONCATENATE(AC$10,\" : \",$A32))+COUNTIF(OFFICIAL!$R$4:$AF$111,CONCATENATE($A32,\" : \",AC$10))","v":0},{"$f":"COUNTIF(OFFICIAL!$R$4:$AF$111,CONCATENATE(AD$10,\" : \",$A32))+COUNTIF(OFFICIAL!$R$4:$AF$111,CONCATENATE($A32,\" : \",AD$10))","v":0},{"$f":"COUNTIF(OFFICIAL!$R$4:$AF$111,CONCATENATE(AE$10,\" : \",$A32))+COUNTIF(OFFICIAL!$R$4:$AF$111,CONCATENATE($A32,\" : \",AE$10))","v":0}]
[{"$f":"IF(DATA!$F26=\"\",\" \",DATA!$F26)","v":" "},{"$f":"COUNTIF(OFFICIAL!$R$4:$AF$111,CONCATENATE(B$10,\" : \",$A33))+COUNTIF(OFFICIAL!$R$4:$AF$111,CONCATENATE($A33,\" : \",B$10))","v":0},{"$f":"COUNTIF(OFFICIAL!$R$4:$AF$111,CONCATENATE(C$10,\" : \",$A33))+COUNTIF(OFFICIAL!$R$4:$AF$111,CONCATENATE($A33,\" : \",C$10))","v":0},{"$f":"COUNTIF(OFFICIAL!$R$4:$AF$111,CONCATENATE(D$10,\" : \",$A33))+COUNTIF(OFFICIAL!$R$4:$AF$111,CONCATENATE($A33,\" : \",D$10))","v":0},{"$f":"COUNTIF(OFFICIAL!$R$4:$AF$111,CONCATENATE(E$10,\" : \",$A33))+COUNTIF(OFFICIAL!$R$4:$AF$111,CONCATENATE($A33,\" : \",E$10))","v":0},{"$f":"COUNTIF(OFFICIAL!$R$4:$AF$111,CONCATENATE(F$10,\" : \",$A33))+COUNTIF(OFFICIAL!$R$4:$AF$111,CONCATENATE($A33,\" : \",F$10))","v":0},{"$f":"COUNTIF(OFFICIAL!$R$4:$AF$111,CONCATENATE(G$10,\" : \",$A33))+COUNTIF(OFFICIAL!$R$4:$AF$111,CONCATENATE($A33,\" : \",G$10))","v":0},{"$f":"COUNTIF(OFFICIAL!$R$4:$AF$111,CONCATENATE(H$10,\" : \",$A33))+COUNTIF(OFFICIAL!$R$4:$AF$111,CONCATENATE($A33,\" : \",H$10))","v":0},{"$f":"COUNTIF(OFFICIAL!$R$4:$AF$111,CONCATENATE(I$10,\" : \",$A33))+COUNTIF(OFFICIAL!$R$4:$AF$111,CONCATENATE($A33,\" : \",I$10))","v":0},{"$f":"COUNTIF(OFFICIAL!$R$4:$AF$111,CONCATENATE(J$10,\" : \",$A33))+COUNTIF(OFFICIAL!$R$4:$AF$111,CONCATENATE($A33,\" : \",J$10))","v":0},{"$f":"COUNTIF(OFFICIAL!$R$4:$AF$111,CONCATENATE(K$10,\" : \",$A33))+COUNTIF(OFFICIAL!$R$4:$AF$111,CONCATENATE($A33,\" : \",K$10))","v":0},{"$f":"COUNTIF(OFFICIAL!$R$4:$AF$111,CONCATENATE(L$10,\" : \",$A33))+COUNTIF(OFFICIAL!$R$4:$AF$111,CONCATENATE($A33,\" : \",L$10))","v":0},{"$f":"COUNTIF(OFFICIAL!$R$4:$AF$111,CONCATENATE(M$10,\" : \",$A33))+COUNTIF(OFFICIAL!$R$4:$AF$111,CONCATENATE($A33,\" : \",M$10))","v":0},{"$f":"COUNTIF(OFFICIAL!$R$4:$AF$111,CONCATENATE(N$10,\" : \",$A33))+COUNTIF(OFFICIAL!$R$4:$AF$111,CONCATENATE($A33,\" : \",N$10))","v":0},{"$f":"COUNTIF(OFFICIAL!$R$4:$AF$111,CONCATENATE(O$10,\" : \",$A33))+COUNTIF(OFFICIAL!$R$4:$AF$111,CONCATENATE($A33,\" : \",O$10))","v":0},{"$f":"COUNTIF(OFFICIAL!$R$4:$AF$111,CONCATENATE(P$10,\" : \",$A33))+COUNTIF(OFFICIAL!$R$4:$AF$111,CONCATENATE($A33,\" : \",P$10))","v":0},{"$f":"COUNTIF(OFFICIAL!$R$4:$AF$111,CONCATENATE(Q$10,\" : \",$A33))+COUNTIF(OFFICIAL!$R$4:$AF$111,CONCATENATE($A33,\" : \",Q$10))","v":0},{"$f":"COUNTIF(OFFICIAL!$R$4:$AF$111,CONCATENATE(R$10,\" : \",$A33))+COUNTIF(OFFICIAL!$R$4:$AF$111,CONCATENATE($A33,\" : \",R$10))","v":0},{"$f":"COUNTIF(OFFICIAL!$R$4:$AF$111,CONCATENATE(S$10,\" : \",$A33))+COUNTIF(OFFICIAL!$R$4:$AF$111,CONCATENATE($A33,\" : \",S$10))","v":0},{"$f":"COUNTIF(OFFICIAL!$R$4:$AF$111,CONCATENATE(T$10,\" : \",$A33))+COUNTIF(OFFICIAL!$R$4:$AF$111,CONCATENATE($A33,\" : \",T$10))","v":0},{"$f":"COUNTIF(OFFICIAL!$R$4:$AF$111,CONCATENATE(U$10,\" : \",$A33))+COUNTIF(OFFICIAL!$R$4:$AF$111,CONCATENATE($A33,\" : \",U$10))","v":0},{"$f":"COUNTIF(OFFICIAL!$R$4:$AF$111,CONCATENATE(V$10,\" : \",$A33))+COUNTIF(OFFICIAL!$R$4:$AF$111,CONCATENATE($A33,\" : \",V$10))","v":0},{"$f":"COUNTIF(OFFICIAL!$R$4:$AF$111,CONCATENATE(W$10,\" : \",$A33))+COUNTIF(OFFICIAL!$R$4:$AF$111,CONCATENATE($A33,\" : \",W$10))","v":0},{"$f":"COUNTIF(OFFICIAL!$H$4:$N$111,X$10)","v":0},{"$f":"COUNTIF(OFFICIAL!$R$4:$AF$111,CONCATENATE(Y$10,\" : \",$A33))+COUNTIF(OFFICIAL!$R$4:$AF$111,CONCATENATE($A33,\" : \",Y$10))","v":0},{"$f":"COUNTIF(OFFICIAL!$R$4:$AF$111,CONCATENATE(Z$10,\" : \",$A33))+COUNTIF(OFFICIAL!$R$4:$AF$111,CONCATENATE($A33,\" : \",Z$10))","v":0},{"$f":"COUNTIF(OFFICIAL!$R$4:$AF$111,CONCATENATE(AA$10,\" : \",$A33))+COUNTIF(OFFICIAL!$R$4:$AF$111,CONCATENATE($A33,\" : \",AA$10))","v":0},{"$f":"COUNTIF(OFFICIAL!$R$4:$AF$111,CONCATENATE(AB$10,\" : \",$A33))+COUNTIF(OFFICIAL!$R$4:$AF$111,CONCATENATE($A33,\" : \",AB$10))","v":0},{"$f":"COUNTIF(OFFICIAL!$R$4:$AF$111,CONCATENATE(AC$10,\" : \",$A33))+COUNTIF(OFFICIAL!$R$4:$AF$111,CONCATENATE($A33,\" : \",AC$10))","v":0},{"$f":"COUNTIF(OFFICIAL!$R$4:$AF$111,CONCATENATE(AD$10,\" : \",$A33))+COUNTIF(OFFICIAL!$R$4:$AF$111,CONCATENATE($A33,\" : \",AD$10))","v":0},{"$f":"COUNTIF(OFFICIAL!$R$4:$AF$111,CONCATENATE(AE$10,\" : \",$A33))+COUNTIF(OFFICIAL!$R$4:$AF$111,CONCATENATE($A33,\" : \",AE$10))","v":0}]
[{"$f":"IF(DATA!$F27=\"\",\" \",DATA!$F27)","v":" "},{"$f":"COUNTIF(OFFICIAL!$R$4:$AF$111,CONCATENATE(B$10,\" : \",$A34))+COUNTIF(OFFICIAL!$R$4:$AF$111,CONCATENATE($A34,\" : \",B$10))","v":0},{"$f":"COUNTIF(OFFICIAL!$R$4:$AF$111,CONCATENATE(C$10,\" : \",$A34))+COUNTIF(OFFICIAL!$R$4:$AF$111,CONCATENATE($A34,\" : \",C$10))","v":0},{"$f":"COUNTIF(OFFICIAL!$R$4:$AF$111,CONCATENATE(D$10,\" : \",$A34))+COUNTIF(OFFICIAL!$R$4:$AF$111,CONCATENATE($A34,\" : \",D$10))","v":0},{"$f":"COUNTIF(OFFICIAL!$R$4:$AF$111,CONCATENATE(E$10,\" : \",$A34))+COUNTIF(OFFICIAL!$R$4:$AF$111,CONCATENATE($A34,\" : \",E$10))","v":0},{"$f":"COUNTIF(OFFICIAL!$R$4:$AF$111,CONCATENATE(F$10,\" : \",$A34))+COUNTIF(OFFICIAL!$R$4:$AF$111,CONCATENATE($A34,\" : \",F$10))","v":0},{"$f":"COUNTIF(OFFICIAL!$R$4:$AF$111,CONCATENATE(G$10,\" : \",$A34))+COUNTIF(OFFICIAL!$R$4:$AF$111,CONCATENATE($A34,\" : \",G$10))","v":0},{"$f":"COUNTIF(OFFICIAL!$R$4:$AF$111,CONCATENATE(H$10,\" : \",$A34))+COUNTIF(OFFICIAL!$R$4:$AF$111,CONCATENATE($A34,\" : \",H$10))","v":0},{"$f":"COUNTIF(OFFICIAL!$R$4:$AF$111,CONCATENATE(I$10,\" : \",$A34))+COUNTIF(OFFICIAL!$R$4:$AF$111,CONCATENATE($A34,\" : \",I$10))","v":0},{"$f":"COUNTIF(OFFICIAL!$R$4:$AF$111,CONCATENATE(J$10,\" : \",$A34))+COUNTIF(OFFICIAL!$R$4:$AF$111,CONCATENATE($A34,\" : \",J$10))","v":0},{"$f":"COUNTIF(OFFICIAL!$R$4:$AF$111,CONCATENATE(K$10,\" : \",$A34))+COUNTIF(OFFICIAL!$R$4:$AF$111,CONCATENATE($A34,\" : \",K$10))","v":0},{"$f":"COUNTIF(OFFICIAL!$R$4:$AF$111,CONCATENATE(L$10,\" : \",$A34))+COUNTIF(OFFICIAL!$R$4:$AF$111,CONCATENATE($A34,\" : \",L$10))","v":0},{"$f":"COUNTIF(OFFICIAL!$R$4:$AF$111,CONCATENATE(M$10,\" : \",$A34))+COUNTIF(OFFICIAL!$R$4:$AF$111,CONCATENATE($A34,\" : \",M$10))","v":0},{"$f":"COUNTIF(OFFICIAL!$R$4:$AF$111,CONCATENATE(N$10,\" : \",$A34))+COUNTIF(OFFICIAL!$R$4:$AF$111,CONCATENATE($A34,\" : \",N$10))","v":0},{"$f":"COUNTIF(OFFICIAL!$R$4:$AF$111,CONCATENATE(O$10,\" : \",$A34))+COUNTIF(OFFICIAL!$R$4:$AF$111,CONCATENATE($A34,\" : \",O$10))","v":0},{"$f":"COUNTIF(OFFICIAL!$R$4:$AF$111,CONCATENATE(P$10,\" : \",$A34))+COUNTIF(OFFICIAL!$R$4:$AF$111,CONCATENATE($A34,\" : \",P$10))","v":0},{"$f":"COUNTIF(OFFICIAL!$R$4:$AF$111,CONCATENATE(Q$10,\" : \",$A34))+COUNTIF(OFFICIAL!$R$4:$AF$111,CONCATENATE($A34,\" : \",Q$10))","v":0},{"$f":"COUNTIF(OFFICIAL!$R$4:$AF$111,CONCATENATE(R$10,\" : \",$A34))+COUNTIF(OFFICIAL!$R$4:$AF$111,CONCATENATE($A34,\" : \",R$10))","v":0},{"$f":"COUNTIF(OFFICIAL!$R$4:$AF$111,CONCATENATE(S$10,\" : \",$A34))+COUNTIF(OFFICIAL!$R$4:$AF$111,CONCATENATE($A34,\" : \",S$10))","v":0},{"$f":"COUNTIF(OFFICIAL!$R$4:$AF$111,CONCATENATE(T$10,\" : \",$A34))+COUNTIF(OFFICIAL!$R$4:$AF$111,CONCATENATE($A34,\" : \",T$10))","v":0},{"$f":"COUNTIF(OFFICIAL!$R$4:$AF$111,CONCATENATE(U$10,\" : \",$A34))+COUNTIF(OFFICIAL!$R$4:$AF$111,CONCATENATE($A34,\" : \",U$10))","v":0},{"$f":"COUNTIF(OFFICIAL!$R$4:$AF$111,CONCATENATE(V$10,\" : \",$A34))+COUNTIF(OFFICIAL!$R$4:$AF$111,CONCATENATE($A34,\" : \",V$10))","v":0},{"$f":"COUNTIF(OFFICIAL!$R$4:$AF$111,CONCATENATE(W$10,\" : \",$A34))+COUNTIF(OFFICIAL!$R$4:$AF$111,CONCATENATE($A34,\" : \",W$10))","v":0},{"$f":"COUNTIF(OFFICIAL!$R$4:$AF$111,CONCATENATE(X$10,\" : \",$A34))+COUNTIF(OFFICIAL!$R$4:$AF$111,CONCATENATE($A34,\" : \",X$10))","v":0},{"$f":"COUNTIF(OFFICIAL!$H$4:$N$111,Y$10)","v":0},{"$f":"COUNTIF(OFFICIAL!$R$4:$AF$111,CONCATENATE(Z$10,\" : \",$A34))+COUNTIF(OFFICIAL!$R$4:$AF$111,CONCATENATE($A34,\" : \",Z$10))","v":0},{"$f":"COUNTIF(OFFICIAL!$R$4:$AF$111,CONCATENATE(AA$10,\" : \",$A34))+COUNTIF(OFFICIAL!$R$4:$AF$111,CONCATENATE($A34,\" : \",AA$10))","v":0},{"$f":"COUNTIF(OFFICIAL!$R$4:$AF$111,CONCATENATE(AB$10,\" : \",$A34))+COUNTIF(OFFICIAL!$R$4:$AF$111,CONCATENATE($A34,\" : \",AB$10))","v":0},{"$f":"COUNTIF(OFFICIAL!$R$4:$AF$111,CONCATENATE(AC$10,\" : \",$A34))+COUNTIF(OFFICIAL!$R$4:$AF$111,CONCATENATE($A34,\" : \",AC$10))","v":0},{"$f":"COUNTIF(OFFICIAL!$R$4:$AF$111,CONCATENATE(AD$10,\" : \",$A34))+COUNTIF(OFFICIAL!$R$4:$AF$111,CONCATENATE($A34,\" : \",AD$10))","v":0},{"$f":"COUNTIF(OFFICIAL!$R$4:$AF$111,CONCATENATE(AE$10,\" : \",$A34))+COUNTIF(OFFICIAL!$R$4:$AF$111,CONCATENATE($A34,\" : \",AE$10))","v":0}]
[{"$f":"IF(DATA!$F28=\"\",\" \",DATA!$F28)","v":" "},{"$f":"COUNTIF(OFFICIAL!$R$4:$AF$111,CONCATENATE(B$10,\" : \",$A35))+COUNTIF(OFFICIAL!$R$4:$AF$111,CONCATENATE($A35,\" : \",B$10))","v":0},{"$f":"COUNTIF(OFFICIAL!$R$4:$AF$111,CONCATENATE(C$10,\" : \",$A35))+COUNTIF(OFFICIAL!$R$4:$AF$111,CONCATENATE($A35,\" : \",C$10))","v":0},{"$f":"COUNTIF(OFFICIAL!$R$4:$AF$111,CONCATENATE(D$10,\" : \",$A35))+COUNTIF(OFFICIAL!$R$4:$AF$111,CONCATENATE($A35,\" : \",D$10))","v":0},{"$f":"COUNTIF(OFFICIAL!$R$4:$AF$111,CONCATENATE(E$10,\" : \",$A35))+COUNTIF(OFFICIAL!$R$4:$AF$111,CONCATENATE($A35,\" : \",E$10))","v":0},{"$f":"COUNTIF(OFFICIAL!$R$4:$AF$111,CONCATENATE(F$10,\" : \",$A35))+COUNTIF(OFFICIAL!$R$4:$AF$111,CONCATENATE($A35,\" : \",F$10))","v":0},{"$f":"COUNTIF(OFFICIAL!$R$4:$AF$111,CONCATENATE(G$10,\" : \",$A35))+COUNTIF(OFFICIAL!$R$4:$AF$111,CONCATENATE($A35,\" : \",G$10))","v":0},{"$f":"COUNTIF(OFFICIAL!$R$4:$AF$111,CONCATENATE(H$10,\" : \",$A35))+COUNTIF(OFFICIAL!$R$4:$AF$111,CONCATENATE($A35,\" : \",H$10))","v":0},{"$f":"COUNTIF(OFFICIAL!$R$4:$AF$111,CONCATENATE(I$10,\" : \",$A35))+COUNTIF(OFFICIAL!$R$4:$AF$111,CONCATENATE($A35,\" : \",I$10))","v":0},{"$f":"COUNTIF(OFFICIAL!$R$4:$AF$111,CONCATENATE(J$10,\" : \",$A35))+COUNTIF(OFFICIAL!$R$4:$AF$111,CONCATENATE($A35,\" : \",J$10))","v":0},{"$f":"COUNTIF(OFFICIAL!$R$4:$AF$111,CONCATENATE(K$10,\" : \",$A35))+COUNTIF(OFFICIAL!$R$4:$AF$111,CONCATENATE($A35,\" : \",K$10))","v":0},{"$f":"COUNTIF(OFFICIAL!$R$4:$AF$111,CONCATENATE(L$10,\" : \",$A35))+COUNTIF(OFFICIAL!$R$4:$AF$111,CONCATENATE($A35,\" : \",L$10))","v":0},{"$f":"COUNTIF(OFFICIAL!$R$4:$AF$111,CONCATENATE(M$10,\" : \",$A35))+COUNTIF(OFFICIAL!$R$4:$AF$111,CONCATENATE($A35,\" : \",M$10))","v":0},{"$f":"COUNTIF(OFFICIAL!$R$4:$AF$111,CONCATENATE(N$10,\" : \",$A35))+COUNTIF(OFFICIAL!$R$4:$AF$111,CONCATENATE($A35,\" : \",N$10))","v":0},{"$f":"COUNTIF(OFFICIAL!$R$4:$AF$111,CONCATENATE(O$10,\" : \",$A35))+COUNTIF(OFFICIAL!$R$4:$AF$111,CONCATENATE($A35,\" : \",O$10))","v":0},{"$f":"COUNTIF(OFFICIAL!$R$4:$AF$111,CONCATENATE(P$10,\" : \",$A35))+COUNTIF(OFFICIAL!$R$4:$AF$111,CONCATENATE($A35,\" : \",P$10))","v":0},{"$f":"COUNTIF(OFFICIAL!$R$4:$AF$111,CONCATENATE(Q$10,\" : \",$A35))+COUNTIF(OFFICIAL!$R$4:$AF$111,CONCATENATE($A35,\" : \",Q$10))","v":0},{"$f":"COUNTIF(OFFICIAL!$R$4:$AF$111,CONCATENATE(R$10,\" : \",$A35))+COUNTIF(OFFICIAL!$R$4:$AF$111,CONCATENATE($A35,\" : \",R$10))","v":0},{"$f":"COUNTIF(OFFICIAL!$R$4:$AF$111,CONCATENATE(S$10,\" : \",$A35))+COUNTIF(OFFICIAL!$R$4:$AF$111,CONCATENATE($A35,\" : \",S$10))","v":0},{"$f":"COUNTIF(OFFICIAL!$R$4:$AF$111,CONCATENATE(T$10,\" : \",$A35))+COUNTIF(OFFICIAL!$R$4:$AF$111,CONCATENATE($A35,\" : \",T$10))","v":0},{"$f":"COUNTIF(OFFICIAL!$R$4:$AF$111,CONCATENATE(U$10,\" : \",$A35))+COUNTIF(OFFICIAL!$R$4:$AF$111,CONCATENATE($A35,\" : \",U$10))","v":0},{"$f":"COUNTIF(OFFICIAL!$R$4:$AF$111,CONCATENATE(V$10,\" : \",$A35))+COUNTIF(OFFICIAL!$R$4:$AF$111,CONCATENATE($A35,\" : \",V$10))","v":0},{"$f":"COUNTIF(OFFICIAL!$R$4:$AF$111,CONCATENATE(W$10,\" : \",$A35))+COUNTIF(OFFICIAL!$R$4:$AF$111,CONCATENATE($A35,\" : \",W$10))","v":0},{"$f":"COUNTIF(OFFICIAL!$R$4:$AF$111,CONCATENATE(X$10,\" : \",$A35))+COUNTIF(OFFICIAL!$R$4:$AF$111,CONCATENATE($A35,\" : \",X$10))","v":0},{"$f":"COUNTIF(OFFICIAL!$R$4:$AF$111,CONCATENATE(Y$10,\" : \",$A35))+COUNTIF(OFFICIAL!$R$4:$AF$111,CONCATENATE($A35,\" : \",Y$10))","v":0},{"$f":"COUNTIF(OFFICIAL!$H$4:$N$111,Z$10)","v":0},{"$f":"COUNTIF(OFFICIAL!$R$4:$AF$111,CONCATENATE(AA$10,\" : \",$A35))+COUNTIF(OFFICIAL!$R$4:$AF$111,CONCATENATE($A35,\" : \",AA$10))","v":0},{"$f":"COUNTIF(OFFICIAL!$R$4:$AF$111,CONCATENATE(AB$10,\" : \",$A35))+COUNTIF(OFFICIAL!$R$4:$AF$111,CONCATENATE($A35,\" : \",AB$10))","v":0},{"$f":"COUNTIF(OFFICIAL!$R$4:$AF$111,CONCATENATE(AC$10,\" : \",$A35))+COUNTIF(OFFICIAL!$R$4:$AF$111,CONCATENATE($A35,\" : \",AC$10))","v":0},{"$f":"COUNTIF(OFFICIAL!$R$4:$AF$111,CONCATENATE(AD$10,\" : \",$A35))+COUNTIF(OFFICIAL!$R$4:$AF$111,CONCATENATE($A35,\" : \",AD$10))","v":0},{"$f":"COUNTIF(OFFICIAL!$R$4:$AF$111,CONCATENATE(AE$10,\" : \",$A35))+COUNTIF(OFFICIAL!$R$4:$AF$111,CONCATENATE($A35,\" : \",AE$10))","v":0}]
[{"$f":"IF(DATA!$F29=\"\",\" \",DATA!$F29)","v":" "},{"$f":"COUNTIF(OFFICIAL!$R$4:$AF$111,CONCATENATE(B$10,\" : \",$A36))+COUNTIF(OFFICIAL!$R$4:$AF$111,CONCATENATE($A36,\" : \",B$10))","v":0},{"$f":"COUNTIF(OFFICIAL!$R$4:$AF$111,CONCATENATE(C$10,\" : \",$A36))+COUNTIF(OFFICIAL!$R$4:$AF$111,CONCATENATE($A36,\" : \",C$10))","v":0},{"$f":"COUNTIF(OFFICIAL!$R$4:$AF$111,CONCATENATE(D$10,\" : \",$A36))+COUNTIF(OFFICIAL!$R$4:$AF$111,CONCATENATE($A36,\" : \",D$10))","v":0},{"$f":"COUNTIF(OFFICIAL!$R$4:$AF$111,CONCATENATE(E$10,\" : \",$A36))+COUNTIF(OFFICIAL!$R$4:$AF$111,CONCATENATE($A36,\" : \",E$10))","v":0},{"$f":"COUNTIF(OFFICIAL!$R$4:$AF$111,CONCATENATE(F$10,\" : \",$A36))+COUNTIF(OFFICIAL!$R$4:$AF$111,CONCATENATE($A36,\" : \",F$10))","v":0},{"$f":"COUNTIF(OFFICIAL!$R$4:$AF$111,CONCATENATE(G$10,\" : \",$A36))+COUNTIF(OFFICIAL!$R$4:$AF$111,CONCATENATE($A36,\" : \",G$10))","v":0},{"$f":"COUNTIF(OFFICIAL!$R$4:$AF$111,CONCATENATE(H$10,\" : \",$A36))+COUNTIF(OFFICIAL!$R$4:$AF$111,CONCATENATE($A36,\" : \",H$10))","v":0},{"$f":"COUNTIF(OFFICIAL!$R$4:$AF$111,CONCATENATE(I$10,\" : \",$A36))+COUNTIF(OFFICIAL!$R$4:$AF$111,CONCATENATE($A36,\" : \",I$10))","v":0},{"$f":"COUNTIF(OFFICIAL!$R$4:$AF$111,CONCATENATE(J$10,\" : \",$A36))+COUNTIF(OFFICIAL!$R$4:$AF$111,CONCATENATE($A36,\" : \",J$10))","v":0},{"$f":"COUNTIF(OFFICIAL!$R$4:$AF$111,CONCATENATE(K$10,\" : \",$A36))+COUNTIF(OFFICIAL!$R$4:$AF$111,CONCATENATE($A36,\" : \",K$10))","v":0},{"$f":"COUNTIF(OFFICIAL!$R$4:$AF$111,CONCATENATE(L$10,\" : \",$A36))+COUNTIF(OFFICIAL!$R$4:$AF$111,CONCATENATE($A36,\" : \",L$10))","v":0},{"$f":"COUNTIF(OFFICIAL!$R$4:$AF$111,CONCATENATE(M$10,\" : \",$A36))+COUNTIF(OFFICIAL!$R$4:$AF$111,CONCATENATE($A36,\" : \",M$10))","v":0},{"$f":"COUNTIF(OFFICIAL!$R$4:$AF$111,CONCATENATE(N$10,\" : \",$A36))+COUNTIF(OFFICIAL!$R$4:$AF$111,CONCATENATE($A36,\" : \",N$10))","v":0},{"$f":"COUNTIF(OFFICIAL!$R$4:$AF$111,CONCATENATE(O$10,\" : \",$A36))+COUNTIF(OFFICIAL!$R$4:$AF$111,CONCATENATE($A36,\" : \",O$10))","v":0},{"$f":"COUNTIF(OFFICIAL!$R$4:$AF$111,CONCATENATE(P$10,\" : \",$A36))+COUNTIF(OFFICIAL!$R$4:$AF$111,CONCATENATE($A36,\" : \",P$10))","v":0},{"$f":"COUNTIF(OFFICIAL!$R$4:$AF$111,CONCATENATE(Q$10,\" : \",$A36))+COUNTIF(OFFICIAL!$R$4:$AF$111,CONCATENATE($A36,\" : \",Q$10))","v":0},{"$f":"COUNTIF(OFFICIAL!$R$4:$AF$111,CONCATENATE(R$10,\" : \",$A36))+COUNTIF(OFFICIAL!$R$4:$AF$111,CONCATENATE($A36,\" : \",R$10))","v":0},{"$f":"COUNTIF(OFFICIAL!$R$4:$AF$111,CONCATENATE(S$10,\" : \",$A36))+COUNTIF(OFFICIAL!$R$4:$AF$111,CONCATENATE($A36,\" : \",S$10))","v":0},{"$f":"COUNTIF(OFFICIAL!$R$4:$AF$111,CONCATENATE(T$10,\" : \",$A36))+COUNTIF(OFFICIAL!$R$4:$AF$111,CONCATENATE($A36,\" : \",T$10))","v":0},{"$f":"COUNTIF(OFFICIAL!$R$4:$AF$111,CONCATENATE(U$10,\" : \",$A36))+COUNTIF(OFFICIAL!$R$4:$AF$111,CONCATENATE($A36,\" : \",U$10))","v":0},{"$f":"COUNTIF(OFFICIAL!$R$4:$AF$111,CONCATENATE(V$10,\" : \",$A36))+COUNTIF(OFFICIAL!$R$4:$AF$111,CONCATENATE($A36,\" : \",V$10))","v":0},{"$f":"COUNTIF(OFFICIAL!$R$4:$AF$111,CONCATENATE(W$10,\" : \",$A36))+COUNTIF(OFFICIAL!$R$4:$AF$111,CONCATENATE($A36,\" : \",W$10))","v":0},{"$f":"COUNTIF(OFFICIAL!$R$4:$AF$111,CONCATENATE(X$10,\" : \",$A36))+COUNTIF(OFFICIAL!$R$4:$AF$111,CONCATENATE($A36,\" : \",X$10))","v":0},{"$f":"COUNTIF(OFFICIAL!$R$4:$AF$111,CONCATENATE(Y$10,\" : \",$A36))+COUNTIF(OFFICIAL!$R$4:$AF$111,CONCATENATE($A36,\" : \",Y$10))","v":0},{"$f":"COUNTIF(OFFICIAL!$R$4:$AF$111,CONCATENATE(Z$10,\" : \",$A36))+COUNTIF(OFFICIAL!$R$4:$AF$111,CONCATENATE($A36,\" : \",Z$10))","v":0},{"$f":"COUNTIF(OFFICIAL!$H$4:$N$111,AA$10)","v":0},{"$f":"COUNTIF(OFFICIAL!$R$4:$AF$111,CONCATENATE(AB$10,\" : \",$A36))+COUNTIF(OFFICIAL!$R$4:$AF$111,CONCATENATE($A36,\" : \",AB$10))","v":0},{"$f":"COUNTIF(OFFICIAL!$R$4:$AF$111,CONCATENATE(AC$10,\" : \",$A36))+COUNTIF(OFFICIAL!$R$4:$AF$111,CONCATENATE($A36,\" : \",AC$10))","v":0},{"$f":"COUNTIF(OFFICIAL!$R$4:$AF$111,CONCATENATE(AD$10,\" : \",$A36))+COUNTIF(OFFICIAL!$R$4:$AF$111,CONCATENATE($A36,\" : \",AD$10))","v":0},{"$f":"COUNTIF(OFFICIAL!$R$4:$AF$111,CONCATENATE(AE$10,\" : \",$A36))+COUNTIF(OFFICIAL!$R$4:$AF$111,CONCATENATE($A36,\" : \",AE$10))","v":0}]
[{"$f":"IF(DATA!$F30=\"\",\" \",DATA!$F30)","v":" "},{"$f":"COUNTIF(OFFICIAL!$R$4:$AF$111,CONCATENATE(B$10,\" : \",$A37))+COUNTIF(OFFICIAL!$R$4:$AF$111,CONCATENATE($A37,\" : \",B$10))","v":0},{"$f":"COUNTIF(OFFICIAL!$R$4:$AF$111,CONCATENATE(C$10,\" : \",$A37))+COUNTIF(OFFICIAL!$R$4:$AF$111,CONCATENATE($A37,\" : \",C$10))","v":0},{"$f":"COUNTIF(OFFICIAL!$R$4:$AF$111,CONCATENATE(D$10,\" : \",$A37))+COUNTIF(OFFICIAL!$R$4:$AF$111,CONCATENATE($A37,\" : \",D$10))","v":0},{"$f":"COUNTIF(OFFICIAL!$R$4:$AF$111,CONCATENATE(E$10,\" : \",$A37))+COUNTIF(OFFICIAL!$R$4:$AF$111,CONCATENATE($A37,\" : \",E$10))","v":0},{"$f":"COUNTIF(OFFICIAL!$R$4:$AF$111,CONCATENATE(F$10,\" : \",$A37))+COUNTIF(OFFICIAL!$R$4:$AF$111,CONCATENATE($A37,\" : \",F$10))","v":0},{"$f":"COUNTIF(OFFICIAL!$R$4:$AF$111,CONCATENATE(G$10,\" : \",$A37))+COUNTIF(OFFICIAL!$R$4:$AF$111,CONCATENATE($A37,\" : \",G$10))","v":0},{"$f":"COUNTIF(OFFICIAL!$R$4:$AF$111,CONCATENATE(H$10,\" : \",$A37))+COUNTIF(OFFICIAL!$R$4:$AF$111,CONCATENATE($A37,\" : \",H$10))","v":0},{"$f":"COUNTIF(OFFICIAL!$R$4:$AF$111,CONCATENATE(I$10,\" : \",$A37))+COUNTIF(OFFICIAL!$R$4:$AF$111,CONCATENATE($A37,\" : \",I$10))","v":0},{"$f":"COUNTIF(OFFICIAL!$R$4:$AF$111,CONCATENATE(J$10,\" : \",$A37))+COUNTIF(OFFICIAL!$R$4:$AF$111,CONCATENATE($A37,\" : \",J$10))","v":0},{"$f":"COUNTIF(OFFICIAL!$R$4:$AF$111,CONCATENATE(K$10,\" : \",$A37))+COUNTIF(OFFICIAL!$R$4:$AF$111,CONCATENATE($A37,\" : \",K$10))","v":0},{"$f":"COUNTIF(OFFICIAL!$R$4:$AF$111,CONCATENATE(L$10,\" : \",$A37))+COUNTIF(OFFICIAL!$R$4:$AF$111,CONCATENATE($A37,\" : \",L$10))","v":0},{"$f":"COUNTIF(OFFICIAL!$R$4:$AF$111,CONCATENATE(M$10,\" : \",$A37))+COUNTIF(OFFICIAL!$R$4:$AF$111,CONCATENATE($A37,\" : \",M$10))","v":0},{"$f":"COUNTIF(OFFICIAL!$R$4:$AF$111,CONCATENATE(N$10,\" : \",$A37))+COUNTIF(OFFICIAL!$R$4:$AF$111,CONCATENATE($A37,\" : \",N$10))","v":0},{"$f":"COUNTIF(OFFICIAL!$R$4:$AF$111,CONCATENATE(O$10,\" : \",$A37))+COUNTIF(OFFICIAL!$R$4:$AF$111,CONCATENATE($A37,\" : \",O$10))","v":0},{"$f":"COUNTIF(OFFICIAL!$R$4:$AF$111,CONCATENATE(P$10,\" : \",$A37))+COUNTIF(OFFICIAL!$R$4:$AF$111,CONCATENATE($A37,\" : \",P$10))","v":0},{"$f":"COUNTIF(OFFICIAL!$R$4:$AF$111,CONCATENATE(Q$10,\" : \",$A37))+COUNTIF(OFFICIAL!$R$4:$AF$111,CONCATENATE($A37,\" : \",Q$10))","v":0},{"$f":"COUNTIF(OFFICIAL!$R$4:$AF$111,CONCATENATE(R$10,\" : \",$A37))+COUNTIF(OFFICIAL!$R$4:$AF$111,CONCATENATE($A37,\" : \",R$10))","v":0},{"$f":"COUNTIF(OFFICIAL!$R$4:$AF$111,CONCATENATE(S$10,\" : \",$A37))+COUNTIF(OFFICIAL!$R$4:$AF$111,CONCATENATE($A37,\" : \",S$10))","v":0},{"$f":"COUNTIF(OFFICIAL!$R$4:$AF$111,CONCATENATE(T$10,\" : \",$A37))+COUNTIF(OFFICIAL!$R$4:$AF$111,CONCATENATE($A37,\" : \",T$10))","v":0},{"$f":"COUNTIF(OFFICIAL!$R$4:$AF$111,CONCATENATE(U$10,\" : \",$A37))+COUNTIF(OFFICIAL!$R$4:$AF$111,CONCATENATE($A37,\" : \",U$10))","v":0},{"$f":"COUNTIF(OFFICIAL!$R$4:$AF$111,CONCATENATE(V$10,\" : \",$A37))+COUNTIF(OFFICIAL!$R$4:$AF$111,CONCATENATE($A37,\" : \",V$10))","v":0},{"$f":"COUNTIF(OFFICIAL!$R$4:$AF$111,CONCATENATE(W$10,\" : \",$A37))+COUNTIF(OFFICIAL!$R$4:$AF$111,CONCATENATE($A37,\" : \",W$10))","v":0},{"$f":"COUNTIF(OFFICIAL!$R$4:$AF$111,CONCATENATE(X$10,\" : \",$A37))+COUNTIF(OFFICIAL!$R$4:$AF$111,CONCATENATE($A37,\" : \",X$10))","v":0},{"$f":"COUNTIF(OFFICIAL!$R$4:$AF$111,CONCATENATE(Y$10,\" : \",$A37))+COUNTIF(OFFICIAL!$R$4:$AF$111,CONCATENATE($A37,\" : \",Y$10))","v":0},{"$f":"COUNTIF(OFFICIAL!$R$4:$AF$111,CONCATENATE(Z$10,\" : \",$A37))+COUNTIF(OFFICIAL!$R$4:$AF$111,CONCATENATE($A37,\" : \",Z$10))","v":0},{"$f":"COUNTIF(OFFICIAL!$R$4:$AF$111,CONCATENATE(AA$10,\" : \",$A37))+COUNTIF(OFFICIAL!$R$4:$AF$111,CONCATENATE($A37,\" : \",AA$10))","v":0},{"$f":"COUNTIF(OFFICIAL!$H$4:$N$111,AB$10)","v":0},{"$f":"COUNTIF(OFFICIAL!$R$4:$AF$111,CONCATENATE(AC$10,\" : \",$A37))+COUNTIF(OFFICIAL!$R$4:$AF$111,CONCATENATE($A37,\" : \",AC$10))","v":0},{"$f":"COUNTIF(OFFICIAL!$R$4:$AF$111,CONCATENATE(AD$10,\" : \",$A37))+COUNTIF(OFFICIAL!$R$4:$AF$111,CONCATENATE($A37,\" : \",AD$10))","v":0},{"$f":"COUNTIF(OFFICIAL!$R$4:$AF$111,CONCATENATE(AE$10,\" : \",$A37))+COUNTIF(OFFICIAL!$R$4:$AF$111,CONCATENATE($A37,\" : \",AE$10))","v":0}]
[{"$f":"IF(DATA!$F31=\"\",\" \",DATA!$F31)","v":" "},{"$f":"COUNTIF(OFFICIAL!$R$4:$AF$111,CONCATENATE(B$10,\" : \",$A38))+COUNTIF(OFFICIAL!$R$4:$AF$111,CONCATENATE($A38,\" : \",B$10))","v":0},{"$f":"COUNTIF(OFFICIAL!$R$4:$AF$111,CONCATENATE(C$10,\" : \",$A38))+COUNTIF(OFFICIAL!$R$4:$AF$111,CONCATENATE($A38,\" : \",C$10))","v":0},{"$f":"COUNTIF(OFFICIAL!$R$4:$AF$111,CONCATENATE(D$10,\" : \",$A38))+COUNTIF(OFFICIAL!$R$4:$AF$111,CONCATENATE($A38,\" : \",D$10))","v":0},{"$f":"COUNTIF(OFFICIAL!$R$4:$AF$111,CONCATENATE(E$10,\" : \",$A38))+COUNTIF(OFFICIAL!$R$4:$AF$111,CONCATENATE($A38,\" : \",E$10))","v":0},{"$f":"COUNTIF(OFFICIAL!$R$4:$AF$111,CONCATENATE(F$10,\" : \",$A38))+COUNTIF(OFFICIAL!$R$4:$AF$111,CONCATENATE($A38,\" : \",F$10))","v":0},{"$f":"COUNTIF(OFFICIAL!$R$4:$AF$111,CONCATENATE(G$10,\" : \",$A38))+COUNTIF(OFFICIAL!$R$4:$AF$111,CONCATENATE($A38,\" : \",G$10))","v":0},{"$f":"COUNTIF(OFFICIAL!$R$4:$AF$111,CONCATENATE(H$10,\" : \",$A38))+COUNTIF(OFFICIAL!$R$4:$AF$111,CONCATENATE($A38,\" : \",H$10))","v":0},{"$f":"COUNTIF(OFFICIAL!$R$4:$AF$111,CONCATENATE(I$10,\" : \",$A38))+COUNTIF(OFFICIAL!$R$4:$AF$111,CONCATENATE($A38,\" : \",I$10))","v":0},{"$f":"COUNTIF(OFFICIAL!$R$4:$AF$111,CONCATENATE(J$10,\" : \",$A38))+COUNTIF(OFFICIAL!$R$4:$AF$111,CONCATENATE($A38,\" : \",J$10))","v":0},{"$f":"COUNTIF(OFFICIAL!$R$4:$AF$111,CONCATENATE(K$10,\" : \",$A38))+COUNTIF(OFFICIAL!$R$4:$AF$111,CONCATENATE($A38,\" : \",K$10))","v":0},{"$f":"COUNTIF(OFFICIAL!$R$4:$AF$111,CONCATENATE(L$10,\" : \",$A38))+COUNTIF(OFFICIAL!$R$4:$AF$111,CONCATENATE($A38,\" : \",L$10))","v":0},{"$f":"COUNTIF(OFFICIAL!$R$4:$AF$111,CONCATENATE(M$10,\" : \",$A38))+COUNTIF(OFFICIAL!$R$4:$AF$111,CONCATENATE($A38,\" : \",M$10))","v":0},{"$f":"COUNTIF(OFFICIAL!$R$4:$AF$111,CONCATENATE(N$10,\" : \",$A38))+COUNTIF(OFFICIAL!$R$4:$AF$111,CONCATENATE($A38,\" : \",N$10))","v":0},{"$f":"COUNTIF(OFFICIAL!$R$4:$AF$111,CONCATENATE(O$10,\" : \",$A38))+COUNTIF(OFFICIAL!$R$4:$AF$111,CONCATENATE($A38,\" : \",O$10))","v":0},{"$f":"COUNTIF(OFFICIAL!$R$4:$AF$111,CONCATENATE(P$10,\" : \",$A38))+COUNTIF(OFFICIAL!$R$4:$AF$111,CONCATENATE($A38,\" : \",P$10))","v":0},{"$f":"COUNTIF(OFFICIAL!$R$4:$AF$111,CONCATENATE(Q$10,\" : \",$A38))+COUNTIF(OFFICIAL!$R$4:$AF$111,CONCATENATE($A38,\" : \",Q$10))","v":0},{"$f":"COUNTIF(OFFICIAL!$R$4:$AF$111,CONCATENATE(R$10,\" : \",$A38))+COUNTIF(OFFICIAL!$R$4:$AF$111,CONCATENATE($A38,\" : \",R$10))","v":0},{"$f":"COUNTIF(OFFICIAL!$R$4:$AF$111,CONCATENATE(S$10,\" : \",$A38))+COUNTIF(OFFICIAL!$R$4:$AF$111,CONCATENATE($A38,\" : \",S$10))","v":0},{"$f":"COUNTIF(OFFICIAL!$R$4:$AF$111,CONCATENATE(T$10,\" : \",$A38))+COUNTIF(OFFICIAL!$R$4:$AF$111,CONCATENATE($A38,\" : \",T$10))","v":0},{"$f":"COUNTIF(OFFICIAL!$R$4:$AF$111,CONCATENATE(U$10,\" : \",$A38))+COUNTIF(OFFICIAL!$R$4:$AF$111,CONCATENATE($A38,\" : \",U$10))","v":0},{"$f":"COUNTIF(OFFICIAL!$R$4:$AF$111,CONCATENATE(V$10,\" : \",$A38))+COUNTIF(OFFICIAL!$R$4:$AF$111,CONCATENATE($A38,\" : \",V$10))","v":0},{"$f":"COUNTIF(OFFICIAL!$R$4:$AF$111,CONCATENATE(W$10,\" : \",$A38))+COUNTIF(OFFICIAL!$R$4:$AF$111,CONCATENATE($A38,\" : \",W$10))","v":0},{"$f":"COUNTIF(OFFICIAL!$R$4:$AF$111,CONCATENATE(X$10,\" : \",$A38))+COUNTIF(OFFICIAL!$R$4:$AF$111,CONCATENATE($A38,\" : \",X$10))","v":0},{"$f":"COUNTIF(OFFICIAL!$R$4:$AF$111,CONCATENATE(Y$10,\" : \",$A38))+COUNTIF(OFFICIAL!$R$4:$AF$111,CONCATENATE($A38,\" : \",Y$10))","v":0},{"$f":"COUNTIF(OFFICIAL!$R$4:$AF$111,CONCATENATE(Z$10,\" : \",$A38))+COUNTIF(OFFICIAL!$R$4:$AF$111,CONCATENATE($A38,\" : \",Z$10))","v":0},{"$f":"COUNTIF(OFFICIAL!$R$4:$AF$111,CONCATENATE(AA$10,\" : \",$A38))+COUNTIF(OFFICIAL!$R$4:$AF$111,CONCATENATE($A38,\" : \",AA$10))","v":0},{"$f":"COUNTIF(OFFICIAL!$R$4:$AF$111,CONCATENATE(AB$10,\" : \",$A38))+COUNTIF(OFFICIAL!$R$4:$AF$111,CONCATENATE($A38,\" : \",AB$10))","v":0},{"$f":"COUNTIF(OFFICIAL!$H$4:$N$111,AC$10)","v":0},{"$f":"COUNTIF(OFFICIAL!$R$4:$AF$111,CONCATENATE(AD$10,\" : \",$A38))+COUNTIF(OFFICIAL!$R$4:$AF$111,CONCATENATE($A38,\" : \",AD$10))","v":0},{"$f":"COUNTIF(OFFICIAL!$R$4:$AF$111,CONCATENATE(AE$10,\" : \",$A38))+COUNTIF(OFFICIAL!$R$4:$AF$111,CONCATENATE($A38,\" : \",AE$10))","v":0}]
[{"$f":"IF(DATA!$F32=\"\",\" \",DATA!$F32)","v":" "},{"$f":"COUNTIF(OFFICIAL!$R$4:$AF$111,CONCATENATE(B$10,\" : \",$A39))+COUNTIF(OFFICIAL!$R$4:$AF$111,CONCATENATE($A39,\" : \",B$10))","v":0},{"$f":"COUNTIF(OFFICIAL!$R$4:$AF$111,CONCATENATE(C$10,\" : \",$A39))+COUNTIF(OFFICIAL!$R$4:$AF$111,CONCATENATE($A39,\" : \",C$10))","v":0},{"$f":"COUNTIF(OFFICIAL!$R$4:$AF$111,CONCATENATE(D$10,\" : \",$A39))+COUNTIF(OFFICIAL!$R$4:$AF$111,CONCATENATE($A39,\" : \",D$10))","v":0},{"$f":"COUNTIF(OFFICIAL!$R$4:$AF$111,CONCATENATE(E$10,\" : \",$A39))+COUNTIF(OFFICIAL!$R$4:$AF$111,CONCATENATE($A39,\" : \",E$10))","v":0},{"$f":"COUNTIF(OFFICIAL!$R$4:$AF$111,CONCATENATE(F$10,\" : \",$A39))+COUNTIF(OFFICIAL!$R$4:$AF$111,CONCATENATE($A39,\" : \",F$10))","v":0},{"$f":"COUNTIF(OFFICIAL!$R$4:$AF$111,CONCATENATE(G$10,\" : \",$A39))+COUNTIF(OFFICIAL!$R$4:$AF$111,CONCATENATE($A39,\" : \",G$10))","v":0},{"$f":"COUNTIF(OFFICIAL!$R$4:$AF$111,CONCATENATE(H$10,\" : \",$A39))+COUNTIF(OFFICIAL!$R$4:$AF$111,CONCATENATE($A39,\" : \",H$10))","v":0},{"$f":"COUNTIF(OFFICIAL!$R$4:$AF$111,CONCATENATE(I$10,\" : \",$A39))+COUNTIF(OFFICIAL!$R$4:$AF$111,CONCATENATE($A39,\" : \",I$10))","v":0},{"$f":"COUNTIF(OFFICIAL!$R$4:$AF$111,CONCATENATE(J$10,\" : \",$A39))+COUNTIF(OFFICIAL!$R$4:$AF$111,CONCATENATE($A39,\" : \",J$10))","v":0},{"$f":"COUNTIF(OFFICIAL!$R$4:$AF$111,CONCATENATE(K$10,\" : \",$A39))+COUNTIF(OFFICIAL!$R$4:$AF$111,CONCATENATE($A39,\" : \",K$10))","v":0},{"$f":"COUNTIF(OFFICIAL!$R$4:$AF$111,CONCATENATE(L$10,\" : \",$A39))+COUNTIF(OFFICIAL!$R$4:$AF$111,CONCATENATE($A39,\" : \",L$10))","v":0},{"$f":"COUNTIF(OFFICIAL!$R$4:$AF$111,CONCATENATE(M$10,\" : \",$A39))+COUNTIF(OFFICIAL!$R$4:$AF$111,CONCATENATE($A39,\" : \",M$10))","v":0},{"$f":"COUNTIF(OFFICIAL!$R$4:$AF$111,CONCATENATE(N$10,\" : \",$A39))+COUNTIF(OFFICIAL!$R$4:$AF$111,CONCATENATE($A39,\" : \",N$10))","v":0},{"$f":"COUNTIF(OFFICIAL!$R$4:$AF$111,CONCATENATE(O$10,\" : \",$A39))+COUNTIF(OFFICIAL!$R$4:$AF$111,CONCATENATE($A39,\" : \",O$10))","v":0},{"$f":"COUNTIF(OFFICIAL!$R$4:$AF$111,CONCATENATE(P$10,\" : \",$A39))+COUNTIF(OFFICIAL!$R$4:$AF$111,CONCATENATE($A39,\" : \",P$10))","v":0},{"$f":"COUNTIF(OFFICIAL!$R$4:$AF$111,CONCATENATE(Q$10,\" : \",$A39))+COUNTIF(OFFICIAL!$R$4:$AF$111,CONCATENATE($A39,\" : \",Q$10))","v":0},{"$f":"COUNTIF(OFFICIAL!$R$4:$AF$111,CONCATENATE(R$10,\" : \",$A39))+COUNTIF(OFFICIAL!$R$4:$AF$111,CONCATENATE($A39,\" : \",R$10))","v":0},{"$f":"COUNTIF(OFFICIAL!$R$4:$AF$111,CONCATENATE(S$10,\" : \",$A39))+COUNTIF(OFFICIAL!$R$4:$AF$111,CONCATENATE($A39,\" : \",S$10))","v":0},{"$f":"COUNTIF(OFFICIAL!$R$4:$AF$111,CONCATENATE(T$10,\" : \",$A39))+COUNTIF(OFFICIAL!$R$4:$AF$111,CONCATENATE($A39,\" : \",T$10))","v":0},{"$f":"COUNTIF(OFFICIAL!$R$4:$AF$111,CONCATENATE(U$10,\" : \",$A39))+COUNTIF(OFFICIAL!$R$4:$AF$111,CONCATENATE($A39,\" : \",U$10))","v":0},{"$f":"COUNTIF(OFFICIAL!$R$4:$AF$111,CONCATENATE(V$10,\" : \",$A39))+COUNTIF(OFFICIAL!$R$4:$AF$111,CONCATENATE($A39,\" : \",V$10))","v":0},{"$f":"COUNTIF(OFFICIAL!$R$4:$AF$111,CONCATENATE(W$10,\" : \",$A39))+COUNTIF(OFFICIAL!$R$4:$AF$111,CONCATENATE($A39,\" : \",W$10))","v":0},{"$f":"COUNTIF(OFFICIAL!$R$4:$AF$111,CONCATENATE(X$10,\" : \",$A39))+COUNTIF(OFFICIAL!$R$4:$AF$111,CONCATENATE($A39,\" : \",X$10))","v":0},{"$f":"COUNTIF(OFFICIAL!$R$4:$AF$111,CONCATENATE(Y$10,\" : \",$A39))+COUNTIF(OFFICIAL!$R$4:$AF$111,CONCATENATE($A39,\" : \",Y$10))","v":0},{"$f":"COUNTIF(OFFICIAL!$R$4:$AF$111,CONCATENATE(Z$10,\" : \",$A39))+COUNTIF(OFFICIAL!$R$4:$AF$111,CONCATENATE($A39,\" : \",Z$10))","v":0},{"$f":"COUNTIF(OFFICIAL!$R$4:$AF$111,CONCATENATE(AA$10,\" : \",$A39))+COUNTIF(OFFICIAL!$R$4:$AF$111,CONCATENATE($A39,\" : \",AA$10))","v":0},{"$f":"COUNTIF(OFFICIAL!$R$4:$AF$111,CONCATENATE(AB$10,\" : \",$A39))+COUNTIF(OFFICIAL!$R$4:$AF$111,CONCATENATE($A39,\" : \",AB$10))","v":0},{"$f":"COUNTIF(OFFICIAL!$R$4:$AF$111,CONCATENATE(AC$10,\" : \",$A39))+COUNTIF(OFFICIAL!$R$4:$AF$111,CONCATENATE($A39,\" : \",AC$10))","v":0},{"$f":"COUNTIF(OFFICIAL!$H$4:$N$111,AD$10)","v":0},{"$f":"COUNTIF(OFFICIAL!$R$4:$AF$111,CONCATENATE(AE$10,\" : \",$A39))+COUNTIF(OFFICIAL!$R$4:$AF$111,CONCATENATE($A39,\" : \",AE$10))","v":0}]
[{"$f":"IF(DATA!$F33=\"\",\" \",DATA!$F33)","v":" "},{"$f":"COUNTIF(OFFICIAL!$R$4:$AF$111,CONCATENATE(B$10,\" : \",$A40))+COUNTIF(OFFICIAL!$R$4:$AF$111,CONCATENATE($A40,\" : \",B$10))","v":0},{"$f":"COUNTIF(OFFICIAL!$R$4:$AF$111,CONCATENATE(C$10,\" : \",$A40))+COUNTIF(OFFICIAL!$R$4:$AF$111,CONCATENATE($A40,\" : \",C$10))","v":0},{"$f":"COUNTIF(OFFICIAL!$R$4:$AF$111,CONCATENATE(D$10,\" : \",$A40))+COUNTIF(OFFICIAL!$R$4:$AF$111,CONCATENATE($A40,\" : \",D$10))","v":0},{"$f":"COUNTIF(OFFICIAL!$R$4:$AF$111,CONCATENATE(E$10,\" : \",$A40))+COUNTIF(OFFICIAL!$R$4:$AF$111,CONCATENATE($A40,\" : \",E$10))","v":0},{"$f":"COUNTIF(OFFICIAL!$R$4:$AF$111,CONCATENATE(F$10,\" : \",$A40))+COUNTIF(OFFICIAL!$R$4:$AF$111,CONCATENATE($A40,\" : \",F$10))","v":0},{"$f":"COUNTIF(OFFICIAL!$R$4:$AF$111,CONCATENATE(G$10,\" : \",$A40))+COUNTIF(OFFICIAL!$R$4:$AF$111,CONCATENATE($A40,\" : \",G$10))","v":0},{"$f":"COUNTIF(OFFICIAL!$R$4:$AF$111,CONCATENATE(H$10,\" : \",$A40))+COUNTIF(OFFICIAL!$R$4:$AF$111,CONCATENATE($A40,\" : \",H$10))","v":0},{"$f":"COUNTIF(OFFICIAL!$R$4:$AF$111,CONCATENATE(I$10,\" : \",$A40))+COUNTIF(OFFICIAL!$R$4:$AF$111,CONCATENATE($A40,\" : \",I$10))","v":0},{"$f":"COUNTIF(OFFICIAL!$R$4:$AF$111,CONCATENATE(J$10,\" : \",$A40))+COUNTIF(OFFICIAL!$R$4:$AF$111,CONCATENATE($A40,\" : \",J$10))","v":0},{"$f":"COUNTIF(OFFICIAL!$R$4:$AF$111,CONCATENATE(K$10,\" : \",$A40))+COUNTIF(OFFICIAL!$R$4:$AF$111,CONCATENATE($A40,\" : \",K$10))","v":0},{"$f":"COUNTIF(OFFICIAL!$R$4:$AF$111,CONCATENATE(L$10,\" : \",$A40))+COUNTIF(OFFICIAL!$R$4:$AF$111,CONCATENATE($A40,\" : \",L$10))","v":0},{"$f":"COUNTIF(OFFICIAL!$R$4:$AF$111,CONCATENATE(M$10,\" : \",$A40))+COUNTIF(OFFICIAL!$R$4:$AF$111,CONCATENATE($A40,\" : \",M$10))","v":0},{"$f":"COUNTIF(OFFICIAL!$R$4:$AF$111,CONCATENATE(N$10,\" : \",$A40))+COUNTIF(OFFICIAL!$R$4:$AF$111,CONCATENATE($A40,\" : \",N$10))","v":0},{"$f":"COUNTIF(OFFICIAL!$R$4:$AF$111,CONCATENATE(O$10,\" : \",$A40))+COUNTIF(OFFICIAL!$R$4:$AF$111,CONCATENATE($A40,\" : \",O$10))","v":0},{"$f":"COUNTIF(OFFICIAL!$R$4:$AF$111,CONCATENATE(P$10,\" : \",$A40))+COUNTIF(OFFICIAL!$R$4:$AF$111,CONCATENATE($A40,\" : \",P$10))","v":0},{"$f":"COUNTIF(OFFICIAL!$R$4:$AF$111,CONCATENATE(Q$10,\" : \",$A40))+COUNTIF(OFFICIAL!$R$4:$AF$111,CONCATENATE($A40,\" : \",Q$10))","v":0},{"$f":"COUNTIF(OFFICIAL!$R$4:$AF$111,CONCATENATE(R$10,\" : \",$A40))+COUNTIF(OFFICIAL!$R$4:$AF$111,CONCATENATE($A40,\" : \",R$10))","v":0},{"$f":"COUNTIF(OFFICIAL!$R$4:$AF$111,CONCATENATE(S$10,\" : \",$A40))+COUNTIF(OFFICIAL!$R$4:$AF$111,CONCATENATE($A40,\" : \",S$10))","v":0},{"$f":"COUNTIF(OFFICIAL!$R$4:$AF$111,CONCATENATE(T$10,\" : \",$A40))+COUNTIF(OFFICIAL!$R$4:$AF$111,CONCATENATE($A40,\" : \",T$10))","v":0},{"$f":"COUNTIF(OFFICIAL!$R$4:$AF$111,CONCATENATE(U$10,\" : \",$A40))+COUNTIF(OFFICIAL!$R$4:$AF$111,CONCATENATE($A40,\" : \",U$10))","v":0},{"$f":"COUNTIF(OFFICIAL!$R$4:$AF$111,CONCATENATE(V$10,\" : \",$A40))+COUNTIF(OFFICIAL!$R$4:$AF$111,CONCATENATE($A40,\" : \",V$10))","v":0},{"$f":"COUNTIF(OFFICIAL!$R$4:$AF$111,CONCATENATE(W$10,\" : \",$A40))+COUNTIF(OFFICIAL!$R$4:$AF$111,CONCATENATE($A40,\" : \",W$10))","v":0},{"$f":"COUNTIF(OFFICIAL!$R$4:$AF$111,CONCATENATE(X$10,\" : \",$A40))+COUNTIF(OFFICIAL!$R$4:$AF$111,CONCATENATE($A40,\" : \",X$10))","v":0},{"$f":"COUNTIF(OFFICIAL!$R$4:$AF$111,CONCATENATE(Y$10,\" : \",$A40))+COUNTIF(OFFICIAL!$R$4:$AF$111,CONCATENATE($A40,\" : \",Y$10))","v":0},{"$f":"COUNTIF(OFFICIAL!$R$4:$AF$111,CONCATENATE(Z$10,\" : \",$A40))+COUNTIF(OFFICIAL!$R$4:$AF$111,CONCATENATE($A40,\" : \",Z$10))","v":0},{"$f":"COUNTIF(OFFICIAL!$R$4:$AF$111,CONCATENATE(AA$10,\" : \",$A40))+COUNTIF(OFFICIAL!$R$4:$AF$111,CONCATENATE($A40,\" : \",AA$10))","v":0},{"$f":"COUNTIF(OFFICIAL!$R$4:$AF$111,CONCATENATE(AB$10,\" : \",$A40))+COUNTIF(OFFICIAL!$R$4:$AF$111,CONCATENATE($A40,\" : \",AB$10))","v":0},{"$f":"COUNTIF(OFFICIAL!$R$4:$AF$111,CONCATENATE(AC$10,\" : \",$A40))+COUNTIF(OFFICIAL!$R$4:$AF$111,CONCATENATE($A40,\" : \",AC$10))","v":0},{"$f":"COUNTIF(OFFICIAL!$R$4:$AF$111,CONCATENATE(AD$10,\" : \",$A40))+COUNTIF(OFFICIAL!$R$4:$AF$111,CONCATENATE($A40,\" : \",AD$10))","v":0},{"$f":"COUNTIF(OFFICIAL!$H$4:$N$111,AE$10)","v":0}]

{"sheet":"Ump-teams","index":3,"n_rows":32,"n_cols":31,"rows_kept":32,"cut":false,"hidden":false,"merged":[]}
[]
[null,{"$f":"IF(DATA!$B4=\"\",\" \",DATA!$B4)","v":" "},{"$f":"IF(DATA!$B5=\"\",\" \",DATA!$B5)","v":" "},{"$f":"IF(DATA!$B6=\"\",\" \",DATA!$B6)","v":" "},{"$f":"IF(DATA!$B7=\"\",\" \",DATA!$B7)","v":" "},{"$f":"IF(DATA!$B8=\"\",\" \",DATA!$B8)","v":" "},{"$f":"IF(DATA!$B9=\"\",\" \",DATA!$B9)","v":" "},{"$f":"IF(DATA!$B10=\"\",\" \",DATA!$B10)","v":" "},{"$f":"IF(DATA!$B11=\"\",\" \",DATA!$B11)","v":" "},{"$f":"IF(DATA!$B12=\"\",\" \",DATA!$B12)","v":" "},{"$f":"IF(DATA!$B13=\"\",\" \",DATA!$B13)","v":" "},{"$f":"IF(DATA!$B14=\"\",\" \",DATA!$B14)","v":" "},{"$f":"IF(DATA!$B15=\"\",\" \",DATA!$B15)","v":" "},{"$f":"IF(DATA!$B16=\"\",\" \",DATA!$B16)","v":" "},{"$f":"IF(DATA!$B17=\"\",\" \",DATA!$B17)","v":" "},{"$f":"IF(DATA!$B18=\"\",\" \",DATA!$B18)","v":" "},{"$f":"IF(DATA!$B19=\"\",\" \",DATA!$B19)","v":" "},{"$f":"IF(DATA!$B20=\"\",\" \",DATA!$B20)","v":" "},{"$f":"IF(DATA!$B21=\"\",\" \",DATA!$B21)","v":" "},{"$f":"IF(DATA!$B22=\"\",\" \",DATA!$B22)","v":" "},{"$f":"IF(DATA!$B23=\"\",\" \",DATA!$B23)","v":" "},{"$f":"IF(DATA!$B24=\"\",\" \",DATA!$B24)","v":" "},{"$f":"IF(DATA!$B25=\"\",\" \",DATA!$B25)","v":" "},{"$f":"IF(DATA!$B26=\"\",\" \",DATA!$B26)","v":" "},{"$f":"IF(DATA!$B27=\"\",\" \",DATA!$B27)","v":" "},{"$f":"IF(DATA!$B28=\"\",\" \",DATA!$B28)","v":" "},{"$f":"IF(DATA!$B29=\"\",\" \",DATA!$B29)","v":" "},{"$f":"IF(DATA!$B30=\"\",\" \",DATA!$B30)","v":" "},{"$f":"IF(DATA!$B31=\"\",\" \",DATA!$B31)","v":" "},{"$f":"IF(DATA!$B32=\"\",\" \",DATA!$B32)","v":" "},{"$f":"IF(DATA!$B33=\"\",\" \",DATA!$B33)","v":" "}]
[{"$f":"IF(DATA!$F4=\"\",\" \",DATA!$F4)","v":" "},{"$f":"COUNTIF(OFFICIAL!$AG$4:$AR$111,CONCATENATE(B$2,\" : \",$A3))+COUNTIF(OFFICIAL!$AG$4:$AR$111,CONCATENATE($A3,\" : \",B$2))","v":0},{"$f":"COUNTIF(OFFICIAL!$AG$4:$AR$111,CONCATENATE(C$2,\" : \",$A3))+COUNTIF(OFFICIAL!$AG$4:$AR$111,CONCATENATE($A3,\" : \",C$2))","v":0},{"$f":"COUNTIF(OFFICIAL!$AG$4:$AR$111,CONCATENATE(D$2,\" : \",$A3))+COUNTIF(OFFICIAL!$AG$4:$AR$111,CONCATENATE($A3,\" : \",D$2))","v":0},{"$f":"COUNTIF(OFFICIAL!$AG$4:$AR$111,CONCATENATE(E$2,\" : \",$A3))+COUNTIF(OFFICIAL!$AG$4:$AR$111,CONCATENATE($A3,\" : \",E$2))","v":0},{"$f":"COUNTIF(OFFICIAL!$AG$4:$AR$111,CONCATENATE(F$2,\" : \",$A3))+COUNTIF(OFFICIAL!$AG$4:$AR$111,CONCATENATE($A3,\" : \",F$2))","v":0},{"$f":"COUNTIF(OFFICIAL!$AG$4:$AR$111,CONCATENATE(G$2,\" : \",$A3))+COUNTIF(OFFICIAL!$AG$4:$AR$111,CONCATENATE($A3,\" : \",G$2))","v":0},{"$f":"COUNTIF(OFFICIAL!$AG$4:$AR$111,CONCATENATE(H$2,\" : \",$A3))+COUNTIF(OFFICIAL!$AG$4:$AR$111,CONCATENATE($A3,\" : \",H$2))","v":0},{"$f":"COUNTIF(OFFICIAL!$AG$4:$AR$111,CONCATENATE(I$2,\" : \",$A3))+COUNTIF(OFFICIAL!$AG$4:$AR$111,CONCATENATE($A3,\" : \",I$2))","v":0},{"$f":"COUNTIF(OFFICIAL!$AG$4:$AR$111,CONCATENATE(J$2,\" : \",$A3))+COUNTIF(OFFICIAL!$AG$4:$AR$111,CONCATENATE($A3,\" : \",J$2))","v":0},{"$f":"COUNTIF(OFFICIAL!$AG$4:$AR$111,CONCATENATE(K$2,\" : \",$A3))+COUNTIF(OFFICIAL!$AG$4:$AR$111,CONCATENATE($A3,\" : \",K$2))","v":0},{"$f":"COUNTIF(OFFICIAL!$AG$4:$AR$111,CONCATENATE(L$2,\" : \",$A3))+COUNTIF(OFFICIAL!$AG$4:$AR$111,CONCATENATE($A3,\" : \",L$2))","v":0},{"$f":"COUNTIF(OFFICIAL!$AG$4:$AR$111,CONCATENATE(M$2,\" : \",$A3))+COUNTIF(OFFICIAL!$AG$4:$AR$111,CONCATENATE($A3,\" : \",M$2))","v":0},{"$f":"COUNTIF(OFFICIAL!$AG$4:$AR$111,CONCATENATE(N$2,\" : \",$A3))+COUNTIF(OFFICIAL!$AG$4:$AR$111,CONCATENATE($A3,\" : \",N$2))","v":0},{"$f":"COUNTIF(OFFICIAL!$AG$4:$AR$111,CONCATENATE(O$2,\" : \",$A3))+COUNTIF(OFFICIAL!$AG$4:$AR$111,CONCATENATE($A3,\" : \",O$2))","v":0},{"$f":"COUNTIF(OFFICIAL!$AG$4:$AR$111,CONCATENATE(P$2,\" : \",$A3))+COUNTIF(OFFICIAL!$AG$4:$AR$111,CONCATENATE($A3,\" : \",P$2))","v":0},{"$f":"COUNTIF(OFFICIAL!$AG$4:$AR$111,CONCATENATE(Q$2,\" : \",$A3))+COUNTIF(OFFICIAL!$AG$4:$AR$111,CONCATENATE($A3,\" : \",Q$2))","v":0},{"$f":"COUNTIF(OFFICIAL!$AG$4:$AR$111,CONCATENATE(R$2,\" : \",$A3))+COUNTIF(OFFICIAL!$AG$4:$AR$111,CONCATENATE($A3,\" : \",R$2))","v":0},{"$f":"COUNTIF(OFFICIAL!$AG$4:$AR$111,CONCATENATE(S$2,\" : \",$A3))+COUNTIF(OFFICIAL!$AG$4:$AR$111,CONCATENATE($A3,\" : \",S$2))","v":0},{"$f":"COUNTIF(OFFICIAL!$AG$4:$AR$111,CONCATENATE(T$2,\" : \",$A3))+COUNTIF(OFFICIAL!$AG$4:$AR$111,CONCATENATE($A3,\" : \",T$2))","v":0},{"$f":"COUNTIF(OFFICIAL!$AG$4:$AR$111,CONCATENATE(U$2,\" : \",$A3))+COUNTIF(OFFICIAL!$AG$4:$AR$111,CONCATENATE($A3,\" : \",U$2))","v":0},{"$f":"COUNTIF(OFFICIAL!$AG$4:$AR$111,CONCATENATE(V$2,\" : \",$A3))+COUNTIF(OFFICIAL!$AG$4:$AR$111,CONCATENATE($A3,\" : \",V$2))","v":0},{"$f":"COUNTIF(OFFICIAL!$AG$4:$AR$111,CONCATENATE(W$2,\" : \",$A3))+COUNTIF(OFFICIAL!$AG$4:$AR$111,CONCATENATE($A3,\" : \",W$2))","v":0},{"$f":"COUNTIF(OFFICIAL!$AG$4:$AR$111,CONCATENATE(X$2,\" : \",$A3))+COUNTIF(OFFICIAL!$AG$4:$AR$111,CONCATENATE($A3,\" : \",X$2))","v":0},{"$f":"COUNTIF(OFFICIAL!$AG$4:$AR$111,CONCATENATE(Y$2,\" : \",$A3))+COUNTIF(OFFICIAL!$AG$4:$AR$111,CONCATENATE($A3,\" : \",Y$2))","v":0},{"$f":"COUNTIF(OFFICIAL!$AG$4:$AR$111,CONCATENATE(Z$2,\" : \",$A3))+COUNTIF(OFFICIAL!$AG$4:$AR$111,CONCATENATE($A3,\" : \",Z$2))","v":0},{"$f":"COUNTIF(OFFICIAL!$AG$4:$AR$111,CONCATENATE(AA$2,\" : \",$A3))+COUNTIF(OFFICIAL!$AG$4:$AR$111,CONCATENATE($A3,\" : \",AA$2))","v":0},{"$f":"COUNTIF(OFFICIAL!$AG$4:$AR$111,CONCATENATE(AB$2,\" : \",$A3))+COUNTIF(OFFICIAL!$AG$4:$AR$111,CONCATENATE($A3,\" : \",AB$2))","v":0},{"$f":"COUNTIF(OFFICIAL!$AG$4:$AR$111,CONCATENATE(AC$2,\" : \",$A3))+COUNTIF(OFFICIAL!$AG$4:$AR$111,CONCATENATE($A3,\" : \",AC$2))","v":0},{"$f":"COUNTIF(OFFICIAL!$AG$4:$AR$111,CONCATENATE(AD$2,\" : \",$A3))+COUNTIF(OFFICIAL!$AG$4:$AR$111,CONCATENATE($A3,\" : \",AD$2))","v":0},{"$f":"COUNTIF(OFFICIAL!$AG$4:$AR$111,CONCATENATE(AE$2,\" : \",$A3))+COUNTIF(OFFICIAL!$AG$4:$AR$111,CONCATENATE($A3,\" : \",AE$2))","v":0}]
[{"$f":"IF(DATA!$F5=\"\",\" \",DATA!$F5)","v":" "},{"$f":"COUNTIF(OFFICIAL!$AG$4:$AR$111,CONCATENATE(B$2,\" : \",$A4))+COUNTIF(OFFICIAL!$AG$4:$AR$111,CONCATENATE($A4,\" : \",B$2))","v":0},{"$f":"COUNTIF(OFFICIAL!$AG$4:$AR$111,CONCATENATE(C$2,\" : \",$A4))+COUNTIF(OFFICIAL!$AG$4:$AR$111,CONCATENATE($A4,\" : \",C$2))","v":0},{"$f":"COUNTIF(OFFICIAL!$AG$4:$AR$111,CONCATENATE(D$2,\" : \",$A4))+COUNTIF(OFFICIAL!$AG$4:$AR$111,CONCATENATE($A4,\" : \",D$2))","v":0},{"$f":"COUNTIF(OFFICIAL!$AG$4:$AR$111,CONCATENATE(E$2,\" : \",$A4))+COUNTIF(OFFICIAL!$AG$4:$AR$111,CONCATENATE($A4,\" : \",E$2))","v":0},{"$f":"COUNTIF(OFFICIAL!$AG$4:$AR$111,CONCATENATE(F$2,\" : \",$A4))+COUNTIF(OFFICIAL!$AG$4:$AR$111,CONCATENATE($A4,\" : \",F$2))","v":0},{"$f":"COUNTIF(OFFICIAL!$AG$4:$AR$111,CONCATENATE(G$2,\" : \",$A4))+COUNTIF(OFFICIAL!$AG$4:$AR$111,CONCATENATE($A4,\" : \",G$2))","v":0},{"$f":"COUNTIF(OFFICIAL!$AG$4:$AR$111,CONCATENATE(H$2,\" : \",$A4))+COUNTIF(OFFICIAL!$AG$4:$AR$111,CONCATENATE($A4,\" : \",H$2))","v":0},{"$f":"COUNTIF(OFFICIAL!$AG$4:$AR$111,CONCATENATE(I$2,\" : \",$A4))+COUNTIF(OFFICIAL!$AG$4:$AR$111,CONCATENATE($A4,\" : \",I$2))","v":0},{"$f":"COUNTIF(OFFICIAL!$AG$4:$AR$111,CONCATENATE(J$2,\" : \",$A4))+COUNTIF(OFFICIAL!$AG$4:$AR$111,CONCATENATE($A4,\" : \",J$2))","v":0},{"$f":"COUNTIF(OFFICIAL!$AG$4:$AR$111,CONCATENATE(K$2,\" : \",$A4))+COUNTIF(OFFICIAL!$AG$4:$AR$111,CONCATENATE($A4,\" : \",K$2))","v":0},{"$f":"COUNTIF(OFFICIAL!$AG$4:$AR$111,CONCATENATE(L$2,\" : \",$A4))+COUNTIF(OFFICIAL!$AG$4:$AR$111,CONCATENATE($A4,\" : \",L$2))","v":0},{"$f":"COUNTIF(OFFICIAL!$AG$4:$AR$111,CONCATENATE(M$2,\" : \",$A4))+COUNTIF(OFFICIAL!$AG$4:$AR$111,CONCATENATE($A4,\" : \",M$2))","v":0},{"$f":"COUNTIF(OFFICIAL!$AG$4:$AR$111,CONCATENATE(N$2,\" : \",$A4))+COUNTIF(OFFICIAL!$AG$4:$AR$111,CONCATENATE($A4,\" : \",N$2))","v":0},{"$f":"COUNTIF(OFFICIAL!$AG$4:$AR$111,CONCATENATE(O$2,\" : \",$A4))+COUNTIF(OFFICIAL!$AG$4:$AR$111,CONCATENATE($A4,\" : \",O$2))","v":0},{"$f":"COUNTIF(OFFICIAL!$AG$4:$AR$111,CONCATENATE(P$2,\" : \",$A4))+COUNTIF(OFFICIAL!$AG$4:$AR$111,CONCATENATE($A4,\" : \",P$2))","v":0},{"$f":"COUNTIF(OFFICIAL!$AG$4:$AR$111,CONCATENATE(Q$2,\" : \",$A4))+COUNTIF(OFFICIAL!$AG$4:$AR$111,CONCATENATE($A4,\" : \",Q$2))","v":0},{"$f":"COUNTIF(OFFICIAL!$AG$4:$AR$111,CONCATENATE(R$2,\" : \",$A4))+COUNTIF(OFFICIAL!$AG$4:$AR$111,CONCATENATE($A4,\" : \",R$2))","v":0},{"$f":"COUNTIF(OFFICIAL!$AG$4:$AR$111,CONCATENATE(S$2,\" : \",$A4))+COUNTIF(OFFICIAL!$AG$4:$AR$111,CONCATENATE($A4,\" : \",S$2))","v":0},{"$f":"COUNTIF(OFFICIAL!$AG$4:$AR$111,CONCATENATE(T$2,\" : \",$A4))+COUNTIF(OFFICIAL!$AG$4:$AR$111,CONCATENATE($A4,\" : \",T$2))","v":0},{"$f":"COUNTIF(OFFICIAL!$AG$4:$AR$111,CONCATENATE(U$2,\" : \",$A4))+COUNTIF(OFFICIAL!$AG$4:$AR$111,CONCATENATE($A4,\" : \",U$2))","v":0},{"$f":"COUNTIF(OFFICIAL!$AG$4:$AR$111,CONCATENATE(V$2,\" : \",$A4))+COUNTIF(OFFICIAL!$AG$4:$AR$111,CONCATENATE($A4,\" : \",V$2))","v":0},{"$f":"COUNTIF(OFFICIAL!$AG$4:$AR$111,CONCATENATE(W$2,\" : \",$A4))+COUNTIF(OFFICIAL!$AG$4:$AR$111,CONCATENATE($A4,\" : \",W$2))","v":0},{"$f":"COUNTIF(OFFICIAL!$AG$4:$AR$111,CONCATENATE(X$2,\" : \",$A4))+COUNTIF(OFFICIAL!$AG$4:$AR$111,CONCATENATE($A4,\" : \",X$2))","v":0},{"$f":"COUNTIF(OFFICIAL!$AG$4:$AR$111,CONCATENATE(Y$2,\" : \",$A4))+COUNTIF(OFFICIAL!$AG$4:$AR$111,CONCATENATE($A4,\" : \",Y$2))","v":0},{"$f":"COUNTIF(OFFICIAL!$AG$4:$AR$111,CONCATENATE(Z$2,\" : \",$A4))+COUNTIF(OFFICIAL!$AG$4:$AR$111,CONCATENATE($A4,\" : \",Z$2))","v":0},{"$f":"COUNTIF(OFFICIAL!$AG$4:$AR$111,CONCATENATE(AA$2,\" : \",$A4))+COUNTIF(OFFICIAL!$AG$4:$AR$111,CONCATENATE($A4,\" : \",AA$2))","v":0},{"$f":"COUNTIF(OFFICIAL!$AG$4:$AR$111,CONCATENATE(AB$2,\" : \",$A4))+COUNTIF(OFFICIAL!$AG$4:$AR$111,CONCATENATE($A4,\" : \",AB$2))","v":0},{"$f":"COUNTIF(OFFICIAL!$AG$4:$AR$111,CONCATENATE(AC$2,\" : \",$A4))+COUNTIF(OFFICIAL!$AG$4:$AR$111,CONCATENATE($A4,\" : \",AC$2))","v":0},{"$f":"COUNTIF(OFFICIAL!$AG$4:$AR$111,CONCATENATE(AD$2,\" : \",$A4))+COUNTIF(OFFICIAL!$AG$4:$AR$111,CONCATENATE($A4,\" : \",AD$2))","v":0},{"$f":"COUNTIF(OFFICIAL!$AG$4:$AR$111,CONCATENATE(AE$2,\" : \",$A4))+COUNTIF(OFFICIAL!$AG$4:$AR$111,CONCATENATE($A4,\" : \",AE$2))","v":0}]
[{"$f":"IF(DATA!$F6=\"\",\" \",DATA!$F6)","v":" "},{"$f":"COUNTIF(OFFICIAL!$AG$4:$AR$111,CONCATENATE(B$2,\" : \",$A5))+COUNTIF(OFFICIAL!$AG$4:$AR$111,CONCATENATE($A5,\" : \",B$2))","v":0},{"$f":"COUNTIF(OFFICIAL!$AG$4:$AR$111,CONCATENATE(C$2,\" : \",$A5))+COUNTIF(OFFICIAL!$AG$4:$AR$111,CONCATENATE($A5,\" : \",C$2))","v":0},{"$f":"COUNTIF(OFFICIAL!$AG$4:$AR$111,CONCATENATE(D$2,\" : \",$A5))+COUNTIF(OFFICIAL!$AG$4:$AR$111,CONCATENATE($A5,\" : \",D$2))","v":0},{"$f":"COUNTIF(OFFICIAL!$AG$4:$AR$111,CONCATENATE(E$2,\" : \",$A5))+COUNTIF(OFFICIAL!$AG$4:$AR$111,CONCATENATE($A5,\" : \",E$2))","v":0},{"$f":"COUNTIF(OFFICIAL!$AG$4:$AR$111,CONCATENATE(F$2,\" : \",$A5))+COUNTIF(OFFICIAL!$AG$4:$AR$111,CONCATENATE($A5,\" : \",F$2))","v":0},{"$f":"COUNTIF(OFFICIAL!$AG$4:$AR$111,CONCATENATE(G$2,\" : \",$A5))+COUNTIF(OFFICIAL!$AG$4:$AR$111,CONCATENATE($A5,\" : \",G$2))","v":0},{"$f":"COUNTIF(OFFICIAL!$AG$4:$AR$111,CONCATENATE(H$2,\" : \",$A5))+COUNTIF(OFFICIAL!$AG$4:$AR$111,CONCATENATE($A5,\" : \",H$2))","v":0},{"$f":"COUNTIF(OFFICIAL!$AG$4:$AR$111,CONCATENATE(I$2,\" : \",$A5))+COUNTIF(OFFICIAL!$AG$4:$AR$111,CONCATENATE($A5,\" : \",I$2))","v":0},{"$f":"COUNTIF(OFFICIAL!$AG$4:$AR$111,CONCATENATE(J$2,\" : \",$A5))+COUNTIF(OFFICIAL!$AG$4:$AR$111,CONCATENATE($A5,\" : \",J$2))","v":0},{"$f":"COUNTIF(OFFICIAL!$AG$4:$AR$111,CONCATENATE(K$2,\" : \",$A5))+COUNTIF(OFFICIAL!$AG$4:$AR$111,CONCATENATE($A5,\" : \",K$2))","v":0},{"$f":"COUNTIF(OFFICIAL!$AG$4:$AR$111,CONCATENATE(L$2,\" : \",$A5))+COUNTIF(OFFICIAL!$AG$4:$AR$111,CONCATENATE($A5,\" : \",L$2))","v":0},{"$f":"COUNTIF(OFFICIAL!$AG$4:$AR$111,CONCATENATE(M$2,\" : \",$A5))+COUNTIF(OFFICIAL!$AG$4:$AR$111,CONCATENATE($A5,\" : \",M$2))","v":0},{"$f":"COUNTIF(OFFICIAL!$AG$4:$AR$111,CONCATENATE(N$2,\" : \",$A5))+COUNTIF(OFFICIAL!$AG$4:$AR$111,CONCATENATE($A5,\" : \",N$2))","v":0},{"$f":"COUNTIF(OFFICIAL!$AG$4:$AR$111,CONCATENATE(O$2,\" : \",$A5))+COUNTIF(OFFICIAL!$AG$4:$AR$111,CONCATENATE($A5,\" : \",O$2))","v":0},{"$f":"COUNTIF(OFFICIAL!$AG$4:$AR$111,CONCATENATE(P$2,\" : \",$A5))+COUNTIF(OFFICIAL!$AG$4:$AR$111,CONCATENATE($A5,\" : \",P$2))","v":0},{"$f":"COUNTIF(OFFICIAL!$AG$4:$AR$111,CONCATENATE(Q$2,\" : \",$A5))+COUNTIF(OFFICIAL!$AG$4:$AR$111,CONCATENATE($A5,\" : \",Q$2))","v":0},{"$f":"COUNTIF(OFFICIAL!$AG$4:$AR$111,CONCATENATE(R$2,\" : \",$A5))+COUNTIF(OFFICIAL!$AG$4:$AR$111,CONCATENATE($A5,\" : \",R$2))","v":0},{"$f":"COUNTIF(OFFICIAL!$AG$4:$AR$111,CONCATENATE(S$2,\" : \",$A5))+COUNTIF(OFFICIAL!$AG$4:$AR$111,CONCATENATE($A5,\" : \",S$2))","v":0},{"$f":"COUNTIF(OFFICIAL!$AG$4:$AR$111,CONCATENATE(T$2,\" : \",$A5))+COUNTIF(OFFICIAL!$AG$4:$AR$111,CONCATENATE($A5,\" : \",T$2))","v":0},{"$f":"COUNTIF(OFFICIAL!$AG$4:$AR$111,CONCATENATE(U$2,\" : \",$A5))+COUNTIF(OFFICIAL!$AG$4:$AR$111,CONCATENATE($A5,\" : \",U$2))","v":0},{"$f":"COUNTIF(OFFICIAL!$AG$4:$AR$111,CONCATENATE(V$2,\" : \",$A5))+COUNTIF(OFFICIAL!$AG$4:$AR$111,CONCATENATE($A5,\" : \",V$2))","v":0},{"$f":"COUNTIF(OFFICIAL!$AG$4:$AR$111,CONCATENATE(W$2,\" : \",$A5))+COUNTIF(OFFICIAL!$AG$4:$AR$111,CONCATENATE($A5,\" : \",W$2))","v":0},{"$f":"COUNTIF(OFFICIAL!$AG$4:$AR$111,CONCATENATE(X$2,\" : \",$A5))+COUNTIF(OFFICIAL!$AG$4:$AR$111,CONCATENATE($A5,\" : \",X$2))","v":0},{"$f":"COUNTIF(OFFICIAL!$AG$4:$AR$111,CONCATENATE(Y$2,\" : \",$A5))+COUNTIF(OFFICIAL!$AG$4:$AR$111,CONCATENATE($A5,\" : \",Y$2))","v":0},{"$f":"COUNTIF(OFFICIAL!$AG$4:$AR$111,CONCATENATE(Z$2,\" : \",$A5))+COUNTIF(OFFICIAL!$AG$4:$AR$111,CONCATENATE($A5,\" : \",Z$2))","v":0},{"$f":"COUNTIF(OFFICIAL!$AG$4:$AR$111,CONCATENATE(AA$2,\" : \",$A5))+COUNTIF(OFFICIAL!$AG$4:$AR$111,CONCATENATE($A5,\" : \",AA$2))","v":0},{"$f":"COUNTIF(OFFICIAL!$AG$4:$AR$111,CONCATENATE(AB$2,\" : \",$A5))+COUNTIF(OFFICIAL!$AG$4:$AR$111,CONCATENATE($A5,\" : \",AB$2))","v":0},{"$f":"COUNTIF(OFFICIAL!$AG$4:$AR$111,CONCATENATE(AC$2,\" : \",$A5))+COUNTIF(OFFICIAL!$AG$4:$AR$111,CONCATENATE($A5,\" : \",AC$2))","v":0},{"$f":"COUNTIF(OFFICIAL!$AG$4:$AR$111,CONCATENATE(AD$2,\" : \",$A5))+COUNTIF(OFFICIAL!$AG$4:$AR$111,CONCATENATE($A5,\" : \",AD$2))","v":0},{"$f":"COUNTIF(OFFICIAL!$AG$4:$AR$111,CONCATENATE(AE$2,\" : \",$A5))+COUNTIF(OFFICIAL!$AG$4:$AR$111,CONCATENATE($A5,\" : \",AE$2))","v":0}]
[{"$f":"IF(DATA!$F7=\"\",\" \",DATA!$F7)","v":" "},{"$f":"COUNTIF(OFFICIAL!$AG$4:$AR$111,CONCATENATE(B$2,\" : \",$A6))+COUNTIF(OFFICIAL!$AG$4:$AR$111,CONCATENATE($A6,\" : \",B$2))","v":0},{"$f":"COUNTIF(OFFICIAL!$AG$4:$AR$111,CONCATENATE(C$2,\" : \",$A6))+COUNTIF(OFFICIAL!$AG$4:$AR$111,CONCATENATE($A6,\" : \",C$2))","v":0},{"$f":"COUNTIF(OFFICIAL!$AG$4:$AR$111,CONCATENATE(D$2,\" : \",$A6))+COUNTIF(OFFICIAL!$AG$4:$AR$111,CONCATENATE($A6,\" : \",D$2))","v":0},{"$f":"COUNTIF(OFFICIAL!$AG$4:$AR$111,CONCATENATE(E$2,\" : \",$A6))+COUNTIF(OFFICIAL!$AG$4:$AR$111,CONCATENATE($A6,\" : \",E$2))","v":0},{"$f":"COUNTIF(OFFICIAL!$AG$4:$AR$111,CONCATENATE(F$2,\" : \",$A6))+COUNTIF(OFFICIAL!$AG$4:$AR$111,CONCATENATE($A6,\" : \",F$2))","v":0},{"$f":"COUNTIF(OFFICIAL!$AG$4:$AR$111,CONCATENATE(G$2,\" : \",$A6))+COUNTIF(OFFICIAL!$AG$4:$AR$111,CONCATENATE($A6,\" : \",G$2))","v":0},{"$f":"COUNTIF(OFFICIAL!$AG$4:$AR$111,CONCATENATE(H$2,\" : \",$A6))+COUNTIF(OFFICIAL!$AG$4:$AR$111,CONCATENATE($A6,\" : \",H$2))","v":0},{"$f":"COUNTIF(OFFICIAL!$AG$4:$AR$111,CONCATENATE(I$2,\" : \",$A6))+COUNTIF(OFFICIAL!$AG$4:$AR$111,CONCATENATE($A6,\" : \",I$2))","v":0},{"$f":"COUNTIF(OFFICIAL!$AG$4:$AR$111,CONCATENATE(J$2,\" : \",$A6))+COUNTIF(OFFICIAL!$AG$4:$AR$111,CONCATENATE($A6,\" : \",J$2))","v":0},{"$f":"COUNTIF(OFFICIAL!$AG$4:$AR$111,CONCATENATE(K$2,\" : \",$A6))+COUNTIF(OFFICIAL!$AG$4:$AR$111,CONCATENATE($A6,\" : \",K$2))","v":0},{"$f":"COUNTIF(OFFICIAL!$AG$4:$AR$111,CONCATENATE(L$2,\" : \",$A6))+COUNTIF(OFFICIAL!$AG$4:$AR$111,CONCATENATE($A6,\" : \",L$2))","v":0},{"$f":"COUNTIF(OFFICIAL!$AG$4:$AR$111,CONCATENATE(M$2,\" : \",$A6))+COUNTIF(OFFICIAL!$AG$4:$AR$111,CONCATENATE($A6,\" : \",M$2))","v":0},{"$f":"COUNTIF(OFFICIAL!$AG$4:$AR$111,CONCATENATE(N$2,\" : \",$A6))+COUNTIF(OFFICIAL!$AG$4:$AR$111,CONCATENATE($A6,\" : \",N$2))","v":0},{"$f":"COUNTIF(OFFICIAL!$AG$4:$AR$111,CONCATENATE(O$2,\" : \",$A6))+COUNTIF(OFFICIAL!$AG$4:$AR$111,CONCATENATE($A6,\" : \",O$2))","v":0},{"$f":"COUNTIF(OFFICIAL!$AG$4:$AR$111,CONCATENATE(P$2,\" : \",$A6))+COUNTIF(OFFICIAL!$AG$4:$AR$111,CONCATENATE($A6,\" : \",P$2))","v":0},{"$f":"COUNTIF(OFFICIAL!$AG$4:$AR$111,CONCATENATE(Q$2,\" : \",$A6))+COUNTIF(OFFICIAL!$AG$4:$AR$111,CONCATENATE($A6,\" : \",Q$2))","v":0},{"$f":"COUNTIF(OFFICIAL!$AG$4:$AR$111,CONCATENATE(R$2,\" : \",$A6))+COUNTIF(OFFICIAL!$AG$4:$AR$111,CONCATENATE($A6,\" : \",R$2))","v":0},{"$f":"COUNTIF(OFFICIAL!$AG$4:$AR$111,CONCATENATE(S$2,\" : \",$A6))+COUNTIF(OFFICIAL!$AG$4:$AR$111,CONCATENATE($A6,\" : \",S$2))","v":0},{"$f":"COUNTIF(OFFICIAL!$AG$4:$AR$111,CONCATENATE(T$2,\" : \",$A6))+COUNTIF(OFFICIAL!$AG$4:$AR$111,CONCATENATE($A6,\" : \",T$2))","v":0},{"$f":"COUNTIF(OFFICIAL!$AG$4:$AR$111,CONCATENATE(U$2,\" : \",$A6))+COUNTIF(OFFICIAL!$AG$4:$AR$111,CONCATENATE($A6,\" : \",U$2))","v":0},{"$f":"COUNTIF(OFFICIAL!$AG$4:$AR$111,CONCATENATE(V$2,\" : \",$A6))+COUNTIF(OFFICIAL!$AG$4:$AR$111,CONCATENATE($A6,\" : \",V$2))","v":0},{"$f":"COUNTIF(OFFICIAL!$AG$4:$AR$111,CONCATENATE(W$2,\" : \",$A6))+COUNTIF(OFFICIAL!$AG$4:$AR$111,CONCATENATE($A6,\" : \",W$2))","v":0},{"$f":"COUNTIF(OFFICIAL!$AG$4:$AR$111,CONCATENATE(X$2,\" : \",$A6))+COUNTIF(OFFICIAL!$AG$4:$AR$111,CONCATENATE($A6,\" : \",X$2))","v":0},{"$f":"COUNTIF(OFFICIAL!$AG$4:$AR$111,CONCATENATE(Y$2,\" : \",$A6))+COUNTIF(OFFICIAL!$AG$4:$AR$111,CONCATENATE($A6,\" : \",Y$2))","v":0},{"$f":"COUNTIF(OFFICIAL!$AG$4:$AR$111,CONCATENATE(Z$2,\" : \",$A6))+COUNTIF(OFFICIAL!$AG$4:$AR$111,CONCATENATE($A6,\" : \",Z$2))","v":0},{"$f":"COUNTIF(OFFICIAL!$AG$4:$AR$111,CONCATENATE(AA$2,\" : \",$A6))+COUNTIF(OFFICIAL!$AG$4:$AR$111,CONCATENATE($A6,\" : \",AA$2))","v":0},{"$f":"COUNTIF(OFFICIAL!$AG$4:$AR$111,CONCATENATE(AB$2,\" : \",$A6))+COUNTIF(OFFICIAL!$AG$4:$AR$111,CONCATENATE($A6,\" : \",AB$2))","v":0},{"$f":"COUNTIF(OFFICIAL!$AG$4:$AR$111,CONCATENATE(AC$2,\" : \",$A6))+COUNTIF(OFFICIAL!$AG$4:$AR$111,CONCATENATE($A6,\" : \",AC$2))","v":0},{"$f":"COUNTIF(OFFICIAL!$AG$4:$AR$111,CONCATENATE(AD$2,\" : \",$A6))+COUNTIF(OFFICIAL!$AG$4:$AR$111,CONCATENATE($A6,\" : \",AD$2))","v":0},{"$f":"COUNTIF(OFFICIAL!$AG$4:$AR$111,CONCATENATE(AE$2,\" : \",$A6))+COUNTIF(OFFICIAL!$AG$4:$AR$111,CONCATENATE($A6,\" : \",AE$2))","v":0}]
[{"$f":"IF(DATA!$F8=\"\",\" \",DATA!$F8)","v":" "},{"$f":"COUNTIF(OFFICIAL!$AG$4:$AR$111,CONCATENATE(B$2,\" : \",$A7))+COUNTIF(OFFICIAL!$AG$4:$AR$111,CONCATENATE($A7,\" : \",B$2))","v":0},{"$f":"COUNTIF(OFFICIAL!$AG$4:$AR$111,CONCATENATE(C$2,\" : \",$A7))+COUNTIF(OFFICIAL!$AG$4:$AR$111,CONCATENATE($A7,\" : \",C$2))","v":0},{"$f":"COUNTIF(OFFICIAL!$AG$4:$AR$111,CONCATENATE(D$2,\" : \",$A7))+COUNTIF(OFFICIAL!$AG$4:$AR$111,CONCATENATE($A7,\" : \",D$2))","v":0},{"$f":"COUNTIF(OFFICIAL!$AG$4:$AR$111,CONCATENATE(E$2,\" : \",$A7))+COUNTIF(OFFICIAL!$AG$4:$AR$111,CONCATENATE($A7,\" : \",E$2))","v":0},{"$f":"COUNTIF(OFFICIAL!$AG$4:$AR$111,CONCATENATE(F$2,\" : \",$A7))+COUNTIF(OFFICIAL!$AG$4:$AR$111,CONCATENATE($A7,\" : \",F$2))","v":0},{"$f":"COUNTIF(OFFICIAL!$AG$4:$AR$111,CONCATENATE(G$2,\" : \",$A7))+COUNTIF(OFFICIAL!$AG$4:$AR$111,CONCATENATE($A7,\" : \",G$2))","v":0},{"$f":"COUNTIF(OFFICIAL!$AG$4:$AR$111,CONCATENATE(H$2,\" : \",$A7))+COUNTIF(OFFICIAL!$AG$4:$AR$111,CONCATENATE($A7,\" : \",H$2))","v":0},{"$f":"COUNTIF(OFFICIAL!$AG$4:$AR$111,CONCATENATE(I$2,\" : \",$A7))+COUNTIF(OFFICIAL!$AG$4:$AR$111,CONCATENATE($A7,\" : \",I$2))","v":0},{"$f":"COUNTIF(OFFICIAL!$AG$4:$AR$111,CONCATENATE(J$2,\" : \",$A7))+COUNTIF(OFFICIAL!$AG$4:$AR$111,CONCATENATE($A7,\" : \",J$2))","v":0},{"$f":"COUNTIF(OFFICIAL!$AG$4:$AR$111,CONCATENATE(K$2,\" : \",$A7))+COUNTIF(OFFICIAL!$AG$4:$AR$111,CONCATENATE($A7,\" : \",K$2))","v":0},{"$f":"COUNTIF(OFFICIAL!$AG$4:$AR$111,CONCATENATE(L$2,\" : \",$A7))+COUNTIF(OFFICIAL!$AG$4:$AR$111,CONCATENATE($A7,\" : \",L$2))","v":0},{"$f":"COUNTIF(OFFICIAL!$AG$4:$AR$111,CONCATENATE(M$2,\" : \",$A7))+COUNTIF(OFFICIAL!$AG$4:$AR$111,CONCATENATE($A7,\" : \",M$2))","v":0},{"$f":"COUNTIF(OFFICIAL!$AG$4:$AR$111,CONCATENATE(N$2,\" : \",$A7))+COUNTIF(OFFICIAL!$AG$4:$AR$111,CONCATENATE($A7,\" : \",N$2))","v":0},{"$f":"COUNTIF(OFFICIAL!$AG$4:$AR$111,CONCATENATE(O$2,\" : \",$A7))+COUNTIF(OFFICIAL!$AG$4:$AR$111,CONCATENATE($A7,\" : \",O$2))","v":0},{"$f":"COUNTIF(OFFICIAL!$AG$4:$AR$111,CONCATENATE(P$2,\" : \",$A7))+COUNTIF(OFFICIAL!$AG$4:$AR$111,CONCATENATE($A7,\" : \",P$2))","v":0},{"$f":"COUNTIF(OFFICIAL!$AG$4:$AR$111,CONCATENATE(Q$2,\" : \",$A7))+COUNTIF(OFFICIAL!$AG$4:$AR$111,CONCATENATE($A7,\" : \",Q$2))","v":0},{"$f":"COUNTIF(OFFICIAL!$AG$4:$AR$111,CONCATENATE(R$2,\" : \",$A7))+COUNTIF(OFFICIAL!$AG$4:$AR$111,CONCATENATE($A7,\" : \",R$2))","v":0},{"$f":"COUNTIF(OFFICIAL!$AG$4:$AR$111,CONCATENATE(S$2,\" : \",$A7))+COUNTIF(OFFICIAL!$AG$4:$AR$111,CONCATENATE($A7,\" : \",S$2))","v":0},{"$f":"COUNTIF(OFFICIAL!$AG$4:$AR$111,CONCATENATE(T$2,\" : \",$A7))+COUNTIF(OFFICIAL!$AG$4:$AR$111,CONCATENATE($A7,\" : \",T$2))","v":0},{"$f":"COUNTIF(OFFICIAL!$AG$4:$AR$111,CONCATENATE(U$2,\" : \",$A7))+COUNTIF(OFFICIAL!$AG$4:$AR$111,CONCATENATE($A7,\" : \",U$2))","v":0},{"$f":"COUNTIF(OFFICIAL!$AG$4:$AR$111,CONCATENATE(V$2,\" : \",$A7))+COUNTIF(OFFICIAL!$AG$4:$AR$111,CONCATENATE($A7,\" : \",V$2))","v":0},{"$f":"COUNTIF(OFFICIAL!$AG$4:$AR$111,CONCATENATE(W$2,\" : \",$A7))+COUNTIF(OFFICIAL!$AG$4:$AR$111,CONCATENATE($A7,\" : \",W$2))","v":0},{"$f":"COUNTIF(OFFICIAL!$AG$4:$AR$111,CONCATENATE(X$2,\" : \",$A7))+COUNTIF(OFFICIAL!$AG$4:$AR$111,CONCATENATE($A7,\" : \",X$2))","v":0},{"$f":"COUNTIF(OFFICIAL!$AG$4:$AR$111,CONCATENATE(Y$2,\" : \",$A7))+COUNTIF(OFFICIAL!$AG$4:$AR$111,CONCATENATE($A7,\" : \",Y$2))","v":0},{"$f":"COUNTIF(OFFICIAL!$AG$4:$AR$111,CONCATENATE(Z$2,\" : \",$A7))+COUNTIF(OFFICIAL!$AG$4:$AR$111,CONCATENATE($A7,\" : \",Z$2))","v":0},{"$f":"COUNTIF(OFFICIAL!$AG$4:$AR$111,CONCATENATE(AA$2,\" : \",$A7))+COUNTIF(OFFICIAL!$AG$4:$AR$111,CONCATENATE($A7,\" : \",AA$2))","v":0},{"$f":"COUNTIF(OFFICIAL!$AG$4:$AR$111,CONCATENATE(AB$2,\" : \",$A7))+COUNTIF(OFFICIAL!$AG$4:$AR$111,CONCATENATE($A7,\" : \",AB$2))","v":0},{"$f":"COUNTIF(OFFICIAL!$AG$4:$AR$111,CONCATENATE(AC$2,\" : \",$A7))+COUNTIF(OFFICIAL!$AG$4:$AR$111,CONCATENATE($A7,\" : \",AC$2))","v":0},{"$f":"COUNTIF(OFFICIAL!$AG$4:$AR$111,CONCATENATE(AD$2,\" : \",$A7))+COUNTIF(OFFICIAL!$AG$4:$AR$111,CONCATENATE($A7,\" : \",AD$2))","v":0},{"$f":"COUNTIF(OFFICIAL!$AG$4:$AR$111,CONCATENATE(AE$2,\" : \",$A7))+COUNTIF(OFFICIAL!$AG$4:$AR$111,CONCATENATE($A7,\" : \",AE$2))","v":0}]
[{"$f":"IF(DATA!$F9=\"\",\" \",DATA!$F9)","v":" "},{"$f":"COUNTIF(OFFICIAL!$AG$4:$AR$111,CONCATENATE(B$2,\" : \",$A8))+COUNTIF(OFFICIAL!$AG$4:$AR$111,CONCATENATE($A8,\" : \",B$2))","v":0},{"$f":"COUNTIF(OFFICIAL!$AG$4:$AR$111,CONCATENATE(C$2,\" : \",$A8))+COUNTIF(OFFICIAL!$AG$4:$AR$111,CONCATENATE($A8,\" : \",C$2))","v":0},{"$f":"COUNTIF(OFFICIAL!$AG$4:$AR$111,CONCATENATE(D$2,\" : \",$A8))+COUNTIF(OFFICIAL!$AG$4:$AR$111,CONCATENATE($A8,\" : \",D$2))","v":0},{"$f":"COUNTIF(OFFICIAL!$AG$4:$AR$111,CONCATENATE(E$2,\" : \",$A8))+COUNTIF(OFFICIAL!$AG$4:$AR$111,CONCATENATE($A8,\" : \",E$2))","v":0},{"$f":"COUNTIF(OFFICIAL!$AG$4:$AR$111,CONCATENATE(F$2,\" : \",$A8))+COUNTIF(OFFICIAL!$AG$4:$AR$111,CONCATENATE($A8,\" : \",F$2))","v":0},{"$f":"COUNTIF(OFFICIAL!$AG$4:$AR$111,CONCATENATE(G$2,\" : \",$A8))+COUNTIF(OFFICIAL!$AG$4:$AR$111,CONCATENATE($A8,\" : \",G$2))","v":0},{"$f":"COUNTIF(OFFICIAL!$AG$4:$AR$111,CONCATENATE(H$2,\" : \",$A8))+COUNTIF(OFFICIAL!$AG$4:$AR$111,CONCATENATE($A8,\" : \",H$2))","v":0},{"$f":"COUNTIF(OFFICIAL!$AG$4:$AR$111,CONCATENATE(I$2,\" : \",$A8))+COUNTIF(OFFICIAL!$AG$4:$AR$111,CONCATENATE($A8,\" : \",I$2))","v":0},{"$f":"COUNTIF(OFFICIAL!$AG$4:$AR$111,CONCATENATE(J$2,\" : \",$A8))+COUNTIF(OFFICIAL!$AG$4:$AR$111,CONCATENATE($A8,\" : \",J$2))","v":0},{"$f":"COUNTIF(OFFICIAL!$AG$4:$AR$111,CONCATENATE(K$2,\" : \",$A8))+COUNTIF(OFFICIAL!$AG$4:$AR$111,CONCATENATE($A8,\" : \",K$2))","v":0},{"$f":"COUNTIF(OFFICIAL!$AG$4:$AR$111,CONCATENATE(L$2,\" : \",$A8))+COUNTIF(OFFICIAL!$AG$4:$AR$111,CONCATENATE($A8,\" : \",L$2))","v":0},{"$f":"COUNTIF(OFFICIAL!$AG$4:$AR$111,CONCATENATE(M$2,\" : \",$A8))+COUNTIF(OFFICIAL!$AG$4:$AR$111,CONCATENATE($A8,\" : \",M$2))","v":0},{"$f":"COUNTIF(OFFICIAL!$AG$4:$AR$111,CONCATENATE(N$2,\" : \",$A8))+COUNTIF(OFFICIAL!$AG$4:$AR$111,CONCATENATE($A8,\" : \",N$2))","v":0},{"$f":"COUNTIF(OFFICIAL!$AG$4:$AR$111,CONCATENATE(O$2,\" : \",$A8))+COUNTIF(OFFICIAL!$AG$4:$AR$111,CONCATENATE($A8,\" : \",O$2))","v":0},{"$f":"COUNTIF(OFFICIAL!$AG$4:$AR$111,CONCATENATE(P$2,\" : \",$A8))+COUNTIF(OFFICIAL!$AG$4:$AR$111,CONCATENATE($A8,\" : \",P$2))","v":0},{"$f":"COUNTIF(OFFICIAL!$AG$4:$AR$111,CONCATENATE(Q$2,\" : \",$A8))+COUNTIF(OFFICIAL!$AG$4:$AR$111,CONCATENATE($A8,\" : \",Q$2))","v":0},{"$f":"COUNTIF(OFFICIAL!$AG$4:$AR$111,CONCATENATE(R$2,\" : \",$A8))+COUNTIF(OFFICIAL!$AG$4:$AR$111,CONCATENATE($A8,\" : \",R$2))","v":0},{"$f":"COUNTIF(OFFICIAL!$AG$4:$AR$111,CONCATENATE(S$2,\" : \",$A8))+COUNTIF(OFFICIAL!$AG$4:$AR$111,CONCATENATE($A8,\" : \",S$2))","v":0},{"$f":"COUNTIF(OFFICIAL!$AG$4:$AR$111,CONCATENATE(T$2,\" : \",$A8))+COUNTIF(OFFICIAL!$AG$4:$AR$111,CONCATENATE($A8,\" : \",T$2))","v":0},{"$f":"COUNTIF(OFFICIAL!$AG$4:$AR$111,CONCATENATE(U$2,\" : \",$A8))+COUNTIF(OFFICIAL!$AG$4:$AR$111,CONCATENATE($A8,\" : \",U$2))","v":0},{"$f":"COUNTIF(OFFICIAL!$AG$4:$AR$111,CONCATENATE(V$2,\" : \",$A8))+COUNTIF(OFFICIAL!$AG$4:$AR$111,CONCATENATE($A8,\" : \",V$2))","v":0},{"$f":"COUNTIF(OFFICIAL!$AG$4:$AR$111,CONCATENATE(W$2,\" : \",$A8))+COUNTIF(OFFICIAL!$AG$4:$AR$111,CONCATENATE($A8,\" : \",W$2))","v":0},{"$f":"COUNTIF(OFFICIAL!$AG$4:$AR$111,CONCATENATE(X$2,\" : \",$A8))+COUNTIF(OFFICIAL!$AG$4:$AR$111,CONCATENATE($A8,\" : \",X$2))","v":0},{"$f":"COUNTIF(OFFICIAL!$AG$4:$AR$111,CONCATENATE(Y$2,\" : \",$A8))+COUNTIF(OFFICIAL!$AG$4:$AR$111,CONCATENATE($A8,\" : \",Y$2))","v":0},{"$f":"COUNTIF(OFFICIAL!$AG$4:$AR$111,CONCATENATE(Z$2,\" : \",$A8))+COUNTIF(OFFICIAL!$AG$4:$AR$111,CONCATENATE($A8,\" : \",Z$2))","v":0},{"$f":"COUNTIF(OFFICIAL!$AG$4:$AR$111,CONCATENATE(AA$2,\" : \",$A8))+COUNTIF(OFFICIAL!$AG$4:$AR$111,CONCATENATE($A8,\" : \",AA$2))","v":0},{"$f":"COUNTIF(OFFICIAL!$AG$4:$AR$111,CONCATENATE(AB$2,\" : \",$A8))+COUNTIF(OFFICIAL!$AG$4:$AR$111,CONCATENATE($A8,\" : \",AB$2))","v":0},{"$f":"COUNTIF(OFFICIAL!$AG$4:$AR$111,CONCATENATE(AC$2,\" : \",$A8))+COUNTIF(OFFICIAL!$AG$4:$AR$111,CONCATENATE($A8,\" : \",AC$2))","v":0},{"$f":"COUNTIF(OFFICIAL!$AG$4:$AR$111,CONCATENATE(AD$2,\" : \",$A8))+COUNTIF(OFFICIAL!$AG$4:$AR$111,CONCATENATE($A8,\" : \",AD$2))","v":0},{"$f":"COUNTIF(OFFICIAL!$AG$4:$AR$111,CONCATENATE(AE$2,\" : \",$A8))+COUNTIF(OFFICIAL!$AG$4:$AR$111,CONCATENATE($A8,\" : \",AE$2))","v":0}]
[{"$f":"IF(DATA!$F10=\"\",\" \",DATA!$F10)","v":" "},{"$f":"COUNTIF(OFFICIAL!$AG$4:$AR$111,CONCATENATE(B$2,\" : \",$A9))+COUNTIF(OFFICIAL!$AG$4:$AR$111,CONCATENATE($A9,\" : \",B$2))","v":0},{"$f":"COUNTIF(OFFICIAL!$AG$4:$AR$111,CONCATENATE(C$2,\" : \",$A9))+COUNTIF(OFFICIAL!$AG$4:$AR$111,CONCATENATE($A9,\" : \",C$2))","v":0},{"$f":"COUNTIF(OFFICIAL!$AG$4:$AR$111,CONCATENATE(D$2,\" : \",$A9))+COUNTIF(OFFICIAL!$AG$4:$AR$111,CONCATENATE($A9,\" : \",D$2))","v":0},{"$f":"COUNTIF(OFFICIAL!$AG$4:$AR$111,CONCATENATE(E$2,\" : \",$A9))+COUNTIF(OFFICIAL!$AG$4:$AR$111,CONCATENATE($A9,\" : \",E$2))","v":0},{"$f":"COUNTIF(OFFICIAL!$AG$4:$AR$111,CONCATENATE(F$2,\" : \",$A9))+COUNTIF(OFFICIAL!$AG$4:$AR$111,CONCATENATE($A9,\" : \",F$2))","v":0},{"$f":"COUNTIF(OFFICIAL!$AG$4:$AR$111,CONCATENATE(G$2,\" : \",$A9))+COUNTIF(OFFICIAL!$AG$4:$AR$111,CONCATENATE($A9,\" : \",G$2))","v":0},{"$f":"COUNTIF(OFFICIAL!$AG$4:$AR$111,CONCATENATE(H$2,\" : \",$A9))+COUNTIF(OFFICIAL!$AG$4:$AR$111,CONCATENATE($A9,\" : \",H$2))","v":0},{"$f":"COUNTIF(OFFICIAL!$AG$4:$AR$111,CONCATENATE(I$2,\" : \",$A9))+COUNTIF(OFFICIAL!$AG$4:$AR$111,CONCATENATE($A9,\" : \",I$2))","v":0},{"$f":"COUNTIF(OFFICIAL!$AG$4:$AR$111,CONCATENATE(J$2,\" : \",$A9))+COUNTIF(OFFICIAL!$AG$4:$AR$111,CONCATENATE($A9,\" : \",J$2))","v":0},{"$f":"COUNTIF(OFFICIAL!$AG$4:$AR$111,CONCATENATE(K$2,\" : \",$A9))+COUNTIF(OFFICIAL!$AG$4:$AR$111,CONCATENATE($A9,\" : \",K$2))","v":0},{"$f":"COUNTIF(OFFICIAL!$AG$4:$AR$111,CONCATENATE(L$2,\" : \",$A9))+COUNTIF(OFFICIAL!$AG$4:$AR$111,CONCATENATE($A9,\" : \",L$2))","v":0},{"$f":"COUNTIF(OFFICIAL!$AG$4:$AR$111,CONCATENATE(M$2,\" : \",$A9))+COUNTIF(OFFICIAL!$AG$4:$AR$111,CONCATENATE($A9,\" : \",M$2))","v":0},{"$f":"COUNTIF(OFFICIAL!$AG$4:$AR$111,CONCATENATE(N$2,\" : \",$A9))+COUNTIF(OFFICIAL!$AG$4:$AR$111,CONCATENATE($A9,\" : \",N$2))","v":0},{"$f":"COUNTIF(OFFICIAL!$AG$4:$AR$111,CONCATENATE(O$2,\" : \",$A9))+COUNTIF(OFFICIAL!$AG$4:$AR$111,CONCATENATE($A9,\" : \",O$2))","v":0},{"$f":"COUNTIF(OFFICIAL!$AG$4:$AR$111,CONCATENATE(P$2,\" : \",$A9))+COUNTIF(OFFICIAL!$AG$4:$AR$111,CONCATENATE($A9,\" : \",P$2))","v":0},{"$f":"COUNTIF(OFFICIAL!$AG$4:$AR$111,CONCATENATE(Q$2,\" : \",$A9))+COUNTIF(OFFICIAL!$AG$4:$AR$111,CONCATENATE($A9,\" : \",Q$2))","v":0},{"$f":"COUNTIF(OFFICIAL!$AG$4:$AR$111,CONCATENATE(R$2,\" : \",$A9))+COUNTIF(OFFICIAL!$AG$4:$AR$111,CONCATENATE($A9,\" : \",R$2))","v":0},{"$f":"COUNTIF(OFFICIAL!$AG$4:$AR$111,CONCATENATE(S$2,\" : \",$A9))+COUNTIF(OFFICIAL!$AG$4:$AR$111,CONCATENATE($A9,\" : \",S$2))","v":0},{"$f":"COUNTIF(OFFICIAL!$AG$4:$AR$111,CONCATENATE(T$2,\" : \",$A9))+COUNTIF(OFFICIAL!$AG$4:$AR$111,CONCATENATE($A9,\" : \",T$2))","v":0},{"$f":"COUNTIF(OFFICIAL!$AG$4:$AR$111,CONCATENATE(U$2,\" : \",$A9))+COUNTIF(OFFICIAL!$AG$4:$AR$111,CONCATENATE($A9,\" : \",U$2))","v":0},{"$f":"COUNTIF(OFFICIAL!$AG$4:$AR$111,CONCATENATE(V$2,\" : \",$A9))+COUNTIF(OFFICIAL!$AG$4:$AR$111,CONCATENATE($A9,\" : \",V$2))","v":0},{"$f":"COUNTIF(OFFICIAL!$AG$4:$AR$111,CONCATENATE(W$2,\" : \",$A9))+COUNTIF(OFFICIAL!$AG$4:$AR$111,CONCATENATE($A9,\" : \",W$2))","v":0},{"$f":"COUNTIF(OFFICIAL!$AG$4:$AR$111,CONCATENATE(X$2,\" : \",$A9))+COUNTIF(OFFICIAL!$AG$4:$AR$111,CONCATENATE($A9,\" : \",X$2))","v":0},{"$f":"COUNTIF(OFFICIAL!$AG$4:$AR$111,CONCATENATE(Y$2,\" : \",$A9))+COUNTIF(OFFICIAL!$AG$4:$AR$111,CONCATENATE($A9,\" : \",Y$2))","v":0},{"$f":"COUNTIF(OFFICIAL!$AG$4:$AR$111,CONCATENATE(Z$2,\" : \",$A9))+COUNTIF(OFFICIAL!$AG$4:$AR$111,CONCATENATE($A9,\" : \",Z$2))","v":0},{"$f":"COUNTIF(OFFICIAL!$AG$4:$AR$111,CONCATENATE(AA$2,\" : \",$A9))+COUNTIF(OFFICIAL!$AG$4:$AR$111,CONCATENATE($A9,\" : \",AA$2))","v":0},{"$f":"COUNTIF(OFFICIAL!$AG$4:$AR$111,CONCATENATE(AB$2,\" : \",$A9))+COUNTIF(OFFICIAL!$AG$4:$AR$111,CONCATENATE($A9,\" : \",AB$2))","v":0},{"$f":"COUNTIF(OFFICIAL!$AG$4:$AR$111,CONCATENATE(AC$2,\" : \",$A9))+COUNTIF(OFFICIAL!$AG$4:$AR$111,CONCATENATE($A9,\" : \",AC$2))","v":0},{"$f":"COUNTIF(OFFICIAL!$AG$4:$AR$111,CONCATENATE(AD$2,\" : \",$A9))+COUNTIF(OFFICIAL!$AG$4:$AR$111,CONCATENATE($A9,\" : \",AD$2))","v":0},{"$f":"COUNTIF(OFFICIAL!$AG$4:$AR$111,CONCATENATE(AE$2,\" : \",$A9))+COUNTIF(OFFICIAL!$AG$4:$AR$111,CONCATENATE($A9,\" : \",AE$2))","v":0}]
[{"$f":"IF(DATA!$F11=\"\",\" \",DATA!$F11)","v":" "},{"$f":"COUNTIF(OFFICIAL!$AG$4:$AR$111,CONCATENATE(B$2,\" : \",$A10))+COUNTIF(OFFICIAL!$AG$4:$AR$111,CONCATENATE($A10,\" : \",B$2))","v":0},{"$f":"COUNTIF(OFFICIAL!$AG$4:$AR$111,CONCATENATE(C$2,\" : \",$A10))+COUNTIF(OFFICIAL!$AG$4:$AR$111,CONCATENATE($A10,\" : \",C$2))","v":0},{"$f":"COUNTIF(OFFICIAL!$AG$4:$AR$111,CONCATENATE(D$2,\" : \",$A10))+COUNTIF(OFFICIAL!$AG$4:$AR$111,CONCATENATE($A10,\" : \",D$2))","v":0},{"$f":"COUNTIF(OFFICIAL!$AG$4:$AR$111,CONCATENATE(E$2,\" : \",$A10))+COUNTIF(OFFICIAL!$AG$4:$AR$111,CONCATENATE($A10,\" : \",E$2))","v":0},{"$f":"COUNTIF(OFFICIAL!$AG$4:$AR$111,CONCATENATE(F$2,\" : \",$A10))+COUNTIF(OFFICIAL!$AG$4:$AR$111,CONCATENATE($A10,\" : \",F$2))","v":0},{"$f":"COUNTIF(OFFICIAL!$AG$4:$AR$111,CONCATENATE(G$2,\" : \",$A10))+COUNTIF(OFFICIAL!$AG$4:$AR$111,CONCATENATE($A10,\" : \",G$2))","v":0},{"$f":"COUNTIF(OFFICIAL!$AG$4:$AR$111,CONCATENATE(H$2,\" : \",$A10))+COUNTIF(OFFICIAL!$AG$4:$AR$111,CONCATENATE($A10,\" : \",H$2))","v":0},{"$f":"COUNTIF(OFFICIAL!$AG$4:$AR$111,CONCATENATE(I$2,\" : \",$A10))+COUNTIF(OFFICIAL!$AG$4:$AR$111,CONCATENATE($A10,\" : \",I$2))","v":0},{"$f":"COUNTIF(OFFICIAL!$AG$4:$AR$111,CONCATENATE(J$2,\" : \",$A10))+COUNTIF(OFFICIAL!$AG$4:$AR$111,CONCATENATE($A10,\" : \",J$2))","v":0},{"$f":"COUNTIF(OFFICIAL!$AG$4:$AR$111,CONCATENATE(K$2,\" : \",$A10))+COUNTIF(OFFICIAL!$AG$4:$AR$111,CONCATENATE($A10,\" : \",K$2))","v":0},{"$f":"COUNTIF(OFFICIAL!$AG$4:$AR$111,CONCATENATE(L$2,\" : \",$A10))+COUNTIF(OFFICIAL!$AG$4:$AR$111,CONCATENATE($A10,\" : \",L$2))","v":0},{"$f":"COUNTIF(OFFICIAL!$AG$4:$AR$111,CONCATENATE(M$2,\" : \",$A10))+COUNTIF(OFFICIAL!$AG$4:$AR$111,CONCATENATE($A10,\" : \",M$2))","v":0},{"$f":"COUNTIF(OFFICIAL!$AG$4:$AR$111,CONCATENATE(N$2,\" : \",$A10))+COUNTIF(OFFICIAL!$AG$4:$AR$111,CONCATENATE($A10,\" : \",N$2))","v":0},{"$f":"COUNTIF(OFFICIAL!$AG$4:$AR$111,CONCATENATE(O$2,\" : \",$A10))+COUNTIF(OFFICIAL!$AG$4:$AR$111,CONCATENATE($A10,\" : \",O$2))","v":0},{"$f":"COUNTIF(OFFICIAL!$AG$4:$AR$111,CONCATENATE(P$2,\" : \",$A10))+COUNTIF(OFFICIAL!$AG$4:$AR$111,CONCATENATE($A10,\" : \",P$2))","v":0},{"$f":"COUNTIF(OFFICIAL!$AG$4:$AR$111,CONCATENATE(Q$2,\" : \",$A10))+COUNTIF(OFFICIAL!$AG$4:$AR$111,CONCATENATE($A10,\" : \",Q$2))","v":0},{"$f":"COUNTIF(OFFICIAL!$AG$4:$AR$111,CONCATENATE(R$2,\" : \",$A10))+COUNTIF(OFFICIAL!$AG$4:$AR$111,CONCATENATE($A10,\" : \",R$2))","v":0},{"$f":"COUNTIF(OFFICIAL!$AG$4:$AR$111,CONCATENATE(S$2,\" : \",$A10))+COUNTIF(OFFICIAL!$AG$4:$AR$111,CONCATENATE($A10,\" : \",S$2))","v":0},{"$f":"COUNTIF(OFFICIAL!$AG$4:$AR$111,CONCATENATE(T$2,\" : \",$A10))+COUNTIF(OFFICIAL!$AG$4:$AR$111,CONCATENATE($A10,\" : \",T$2))","v":0},{"$f":"COUNTIF(OFFICIAL!$AG$4:$AR$111,CONCATENATE(U$2,\" : \",$A10))+COUNTIF(OFFICIAL!$AG$4:$AR$111,CONCATENATE($A10,\" : \",U$2))","v":0},{"$f":"COUNTIF(OFFICIAL!$AG$4:$AR$111,CONCATENATE(V$2,\" : \",$A10))+COUNTIF(OFFICIAL!$AG$4:$AR$111,CONCATENATE($A10,\" : \",V$2))","v":0},{"$f":"COUNTIF(OFFICIAL!$AG$4:$AR$111,CONCATENATE(W$2,\" : \",$A10))+COUNTIF(OFFICIAL!$AG$4:$AR$111,CONCATENATE($A10,\" : \",W$2))","v":0},{"$f":"COUNTIF(OFFICIAL!$AG$4:$AR$111,CONCATENATE(X$2,\" : \",$A10))+COUNTIF(OFFICIAL!$AG$4:$AR$111,CONCATENATE($A10,\" : \",X$2))","v":0},{"$f":"COUNTIF(OFFICIAL!$AG$4:$AR$111,CONCATENATE(Y$2,\" : \",$A10))+COUNTIF(OFFICIAL!$AG$4:$AR$111,CONCATENATE($A10,\" : \",Y$2))","v":0},{"$f":"COUNTIF(OFFICIAL!$AG$4:$AR$111,CONCATENATE(Z$2,\" : \",$A10))+COUNTIF(OFFICIAL!$AG$4:$AR$111,CONCATENATE($A10,\" : \",Z$2))","v":0},{"$f":"COUNTIF(OFFICIAL!$AG$4:$AR$111,CONCATENATE(AA$2,\" : \",$A10))+COUNTIF(OFFICIAL!$AG$4:$AR$111,CONCATENATE($A10,\" : \",AA$2))","v":0},{"$f":"COUNTIF(OFFICIAL!$AG$4:$AR$111,CONCATENATE(AB$2,\" : \",$A10))+COUNTIF(OFFICIAL!$AG$4:$AR$111,CONCATENATE($A10,\" : \",AB$2))","v":0},{"$f":"COUNTIF(OFFICIAL!$AG$4:$AR$111,CONCATENATE(AC$2,\" : \",$A10))+COUNTIF(OFFICIAL!$AG$4:$AR$111,CONCATENATE($A10,\" : \",AC$2))","v":0},{"$f":"COUNTIF(OFFICIAL!$AG$4:$AR$111,CONCATENATE(AD$2,\" : \",$A10))+COUNTIF(OFFICIAL!$AG$4:$AR$111,CONCATENATE($A10,\" : \",AD$2))","v":0},{"$f":"COUNTIF(OFFICIAL!$AG$4:$AR$111,CONCATENATE(AE$2,\" : \",$A10))+COUNTIF(OFFICIAL!$AG$4:$AR$111,CONCATENATE($A10,\" : \",AE$2))","v":0}]
[{"$f":"IF(DATA!$F12=\"\",\" \",DATA!$F12)","v":" "},{"$f":"COUNTIF(OFFICIAL!$AG$4:$AR$111,CONCATENATE(B$2,\" : \",$A11))+COUNTIF(OFFICIAL!$AG$4:$AR$111,CONCATENATE($A11,\" : \",B$2))","v":0},{"$f":"COUNTIF(OFFICIAL!$AG$4:$AR$111,CONCATENATE(C$2,\" : \",$A11))+COUNTIF(OFFICIAL!$AG$4:$AR$111,CONCATENATE($A11,\" : \",C$2))","v":0},{"$f":"COUNTIF(OFFICIAL!$AG$4:$AR$111,CONCATENATE(D$2,\" : \",$A11))+COUNTIF(OFFICIAL!$AG$4:$AR$111,CONCATENATE($A11,\" : \",D$2))","v":0},{"$f":"COUNTIF(OFFICIAL!$AG$4:$AR$111,CONCATENATE(E$2,\" : \",$A11))+COUNTIF(OFFICIAL!$AG$4:$AR$111,CONCATENATE($A11,\" : \",E$2))","v":0},{"$f":"COUNTIF(OFFICIAL!$AG$4:$AR$111,CONCATENATE(F$2,\" : \",$A11))+COUNTIF(OFFICIAL!$AG$4:$AR$111,CONCATENATE($A11,\" : \",F$2))","v":0},{"$f":"COUNTIF(OFFICIAL!$AG$4:$AR$111,CONCATENATE(G$2,\" : \",$A11))+COUNTIF(OFFICIAL!$AG$4:$AR$111,CONCATENATE($A11,\" : \",G$2))","v":0},{"$f":"COUNTIF(OFFICIAL!$AG$4:$AR$111,CONCATENATE(H$2,\" : \",$A11))+COUNTIF(OFFICIAL!$AG$4:$AR$111,CONCATENATE($A11,\" : \",H$2))","v":0},{"$f":"COUNTIF(OFFICIAL!$AG$4:$AR$111,CONCATENATE(I$2,\" : \",$A11))+COUNTIF(OFFICIAL!$AG$4:$AR$111,CONCATENATE($A11,\" : \",I$2))","v":0},{"$f":"COUNTIF(OFFICIAL!$AG$4:$AR$111,CONCATENATE(J$2,\" : \",$A11))+COUNTIF(OFFICIAL!$AG$4:$AR$111,CONCATENATE($A11,\" : \",J$2))","v":0},{"$f":"COUNTIF(OFFICIAL!$AG$4:$AR$111,CONCATENATE(K$2,\" : \",$A11))+COUNTIF(OFFICIAL!$AG$4:$AR$111,CONCATENATE($A11,\" : \",K$2))","v":0},{"$f":"COUNTIF(OFFICIAL!$AG$4:$AR$111,CONCATENATE(L$2,\" : \",$A11))+COUNTIF(OFFICIAL!$AG$4:$AR$111,CONCATENATE($A11,\" : \",L$2))","v":0},{"$f":"COUNTIF(OFFICIAL!$AG$4:$AR$111,CONCATENATE(M$2,\" : \",$A11))+COUNTIF(OFFICIAL!$AG$4:$AR$111,CONCATENATE($A11,\" : \",M$2))","v":0},{"$f":"COUNTIF(OFFICIAL!$AG$4:$AR$111,CONCATENATE(N$2,\" : \",$A11))+COUNTIF(OFFICIAL!$AG$4:$AR$111,CONCATENATE($A11,\" : \",N$2))","v":0},{"$f":"COUNTIF(OFFICIAL!$AG$4:$AR$111,CONCATENATE(O$2,\" : \",$A11))+COUNTIF(OFFICIAL!$AG$4:$AR$111,CONCATENATE($A11,\" : \",O$2))","v":0},{"$f":"COUNTIF(OFFICIAL!$AG$4:$AR$111,CONCATENATE(P$2,\" : \",$A11))+COUNTIF(OFFICIAL!$AG$4:$AR$111,CONCATENATE($A11,\" : \",P$2))","v":0},{"$f":"COUNTIF(OFFICIAL!$AG$4:$AR$111,CONCATENATE(Q$2,\" : \",$A11))+COUNTIF(OFFICIAL!$AG$4:$AR$111,CONCATENATE($A11,\" : \",Q$2))","v":0},{"$f":"COUNTIF(OFFICIAL!$AG$4:$AR$111,CONCATENATE(R$2,\" : \",$A11))+COUNTIF(OFFICIAL!$AG$4:$AR$111,CONCATENATE($A11,\" : \",R$2))","v":0},{"$f":"COUNTIF(OFFICIAL!$AG$4:$AR$111,CONCATENATE(S$2,\" : \",$A11))+COUNTIF(OFFICIAL!$AG$4:$AR$111,CONCATENATE($A11,\" : \",S$2))","v":0},{"$f":"COUNTIF(OFFICIAL!$AG$4:$AR$111,CONCATENATE(T$2,\" : \",$A11))+COUNTIF(OFFICIAL!$AG$4:$AR$111,CONCATENATE($A11,\" : \",T$2))","v":0},{"$f":"COUNTIF(OFFICIAL!$AG$4:$AR$111,CONCATENATE(U$2,\" : \",$A11))+COUNTIF(OFFICIAL!$AG$4:$AR$111,CONCATENATE($A11,\" : \",U$2))","v":0},{"$f":"COUNTIF(OFFICIAL!$AG$4:$AR$111,CONCATENATE(V$2,\" : \",$A11))+COUNTIF(OFFICIAL!$AG$4:$AR$111,CONCATENATE($A11,\" : \",V$2))","v":0},{"$f":"COUNTIF(OFFICIAL!$AG$4:$AR$111,CONCATENATE(W$2,\" : \",$A11))+COUNTIF(OFFICIAL!$AG$4:$AR$111,CONCATENATE($A11,\" : \",W$2))","v":0},{"$f":"COUNTIF(OFFICIAL!$AG$4:$AR$111,CONCATENATE(X$2,\" : \",$A11))+COUNTIF(OFFICIAL!$AG$4:$AR$111,CONCATENATE($A11,\" : \",X$2))","v":0},{"$f":"COUNTIF(OFFICIAL!$AG$4:$AR$111,CONCATENATE(Y$2,\" : \",$A11))+COUNTIF(OFFICIAL!$AG$4:$AR$111,CONCATENATE($A11,\" : \",Y$2))","v":0},{"$f":"COUNTIF(OFFICIAL!$AG$4:$AR$111,CONCATENATE(Z$2,\" : \",$A11))+COUNTIF(OFFICIAL!$AG$4:$AR$111,CONCATENATE($A11,\" : \",Z$2))","v":0},{"$f":"COUNTIF(OFFICIAL!$AG$4:$AR$111,CONCATENATE(AA$2,\" : \",$A11))+COUNTIF(OFFICIAL!$AG$4:$AR$111,CONCATENATE($A11,\" : \",AA$2))","v":0},{"$f":"COUNTIF(OFFICIAL!$AG$4:$AR$111,CONCATENATE(AB$2,\" : \",$A11))+COUNTIF(OFFICIAL!$AG$4:$AR$111,CONCATENATE($A11,\" : \",AB$2))","v":0},{"$f":"COUNTIF(OFFICIAL!$AG$4:$AR$111,CONCATENATE(AC$2,\" : \",$A11))+COUNTIF(OFFICIAL!$AG$4:$AR$111,CONCATENATE($A11,\" : \",AC$2))","v":0},{"$f":"COUNTIF(OFFICIAL!$AG$4:$AR$111,CONCATENATE(AD$2,\" : \",$A11))+COUNTIF(OFFICIAL!$AG$4:$AR$111,CONCATENATE($A11,\" : \",AD$2))","v":0},{"$f":"COUNTIF(OFFICIAL!$AG$4:$AR$111,CONCATENATE(AE$2,\" : \",$A11))+COUNTIF(OFFICIAL!$AG$4:$AR$111,CONCATENATE($A11,\" : \",AE$2))","v":0}]
[{"$f":"IF(DATA!$F13=\"\",\" \",DATA!$F13)","v":" "},{"$f":"COUNTIF(OFFICIAL!$AG$4:$AR$111,CONCATENATE(B$2,\" : \",$A12))+COUNTIF(OFFICIAL!$AG$4:$AR$111,CONCATENATE($A12,\" : \",B$2))","v":0},{"$f":"COUNTIF(OFFICIAL!$AG$4:$AR$111,CONCATENATE(C$2,\" : \",$A12))+COUNTIF(OFFICIAL!$AG$4:$AR$111,CONCATENATE($A12,\" : \",C$2))","v":0},{"$f":"COUNTIF(OFFICIAL!$AG$4:$AR$111,CONCATENATE(D$2,\" : \",$A12))+COUNTIF(OFFICIAL!$AG$4:$AR$111,CONCATENATE($A12,\" : \",D$2))","v":0},{"$f":"COUNTIF(OFFICIAL!$AG$4:$AR$111,CONCATENATE(E$2,\" : \",$A12))+COUNTIF(OFFICIAL!$AG$4:$AR$111,CONCATENATE($A12,\" : \",E$2))","v":0},{"$f":"COUNTIF(OFFICIAL!$AG$4:$AR$111,CONCATENATE(F$2,\" : \",$A12))+COUNTIF(OFFICIAL!$AG$4:$AR$111,CONCATENATE($A12,\" : \",F$2))","v":0},{"$f":"COUNTIF(OFFICIAL!$AG$4:$AR$111,CONCATENATE(G$2,\" : \",$A12))+COUNTIF(OFFICIAL!$AG$4:$AR$111,CONCATENATE($A12,\" : \",G$2))","v":0},{"$f":"COUNTIF(OFFICIAL!$AG$4:$AR$111,CONCATENATE(H$2,\" : \",$A12))+COUNTIF(OFFICIAL!$AG$4:$AR$111,CONCATENATE($A12,\" : \",H$2))","v":0},{"$f":"COUNTIF(OFFICIAL!$AG$4:$AR$111,CONCATENATE(I$2,\" : \",$A12))+COUNTIF(OFFICIAL!$AG$4:$AR$111,CONCATENATE($A12,\" : \",I$2))","v":0},{"$f":"COUNTIF(OFFICIAL!$AG$4:$AR$111,CONCATENATE(J$2,\" : \",$A12))+COUNTIF(OFFICIAL!$AG$4:$AR$111,CONCATENATE($A12,\" : \",J$2))","v":0},{"$f":"COUNTIF(OFFICIAL!$AG$4:$AR$111,CONCATENATE(K$2,\" : \",$A12))+COUNTIF(OFFICIAL!$AG$4:$AR$111,CONCATENATE($A12,\" : \",K$2))","v":0},{"$f":"COUNTIF(OFFICIAL!$AG$4:$AR$111,CONCATENATE(L$2,\" : \",$A12))+COUNTIF(OFFICIAL!$AG$4:$AR$111,CONCATENATE($A12,\" : \",L$2))","v":0},{"$f":"COUNTIF(OFFICIAL!$AG$4:$AR$111,CONCATENATE(M$2,\" : \",$A12))+COUNTIF(OFFICIAL!$AG$4:$AR$111,CONCATENATE($A12,\" : \",M$2))","v":0},{"$f":"COUNTIF(OFFICIAL!$AG$4:$AR$111,CONCATENATE(N$2,\" : \",$A12))+COUNTIF(OFFICIAL!$AG$4:$AR$111,CONCATENATE($A12,\" : \",N$2))","v":0},{"$f":"COUNTIF(OFFICIAL!$AG$4:$AR$111,CONCATENATE(O$2,\" : \",$A12))+COUNTIF(OFFICIAL!$AG$4:$AR$111,CONCATENATE($A12,\" : \",O$2))","v":0},{"$f":"COUNTIF(OFFICIAL!$AG$4:$AR$111,CONCATENATE(P$2,\" : \",$A12))+COUNTIF(OFFICIAL!$AG$4:$AR$111,CONCATENATE($A12,\" : \",P$2))","v":0},{"$f":"COUNTIF(OFFICIAL!$AG$4:$AR$111,CONCATENATE(Q$2,\" : \",$A12))+COUNTIF(OFFICIAL!$AG$4:$AR$111,CONCATENATE($A12,\" : \",Q$2))","v":0},{"$f":"COUNTIF(OFFICIAL!$AG$4:$AR$111,CONCATENATE(R$2,\" : \",$A12))+COUNTIF(OFFICIAL!$AG$4:$AR$111,CONCATENATE($A12,\" : \",R$2))","v":0},{"$f":"COUNTIF(OFFICIAL!$AG$4:$AR$111,CONCATENATE(S$2,\" : \",$A12))+COUNTIF(OFFICIAL!$AG$4:$AR$111,CONCATENATE($A12,\" : \",S$2))","v":0},{"$f":"COUNTIF(OFFICIAL!$AG$4:$AR$111,CONCATENATE(T$2,\" : \",$A12))+COUNTIF(OFFICIAL!$AG$4:$AR$111,CONCATENATE($A12,\" : \",T$2))","v":0},{"$f":"COUNTIF(OFFICIAL!$AG$4:$AR$111,CONCATENATE(U$2,\" : \",$A12))+COUNTIF(OFFICIAL!$AG$4:$AR$111,CONCATENATE($A12,\" : \",U$2))","v":0},{"$f":"COUNTIF(OFFICIAL!$AG$4:$AR$111,CONCATENATE(V$2,\" : \",$A12))+COUNTIF(OFFICIAL!$AG$4:$AR$111,CONCATENATE($A12,\" : \",V$2))","v":0},{"$f":"COUNTIF(OFFICIAL!$AG$4:$AR$111,CONCATENATE(W$2,\" : \",$A12))+COUNTIF(OFFICIAL!$AG$4:$AR$111,CONCATENATE($A12,\" : \",W$2))","v":0},{"$f":"COUNTIF(OFFICIAL!$AG$4:$AR$111,CONCATENATE(X$2,\" : \",$A12))+COUNTIF(OFFICIAL!$AG$4:$AR$111,CONCATENATE($A12,\" : \",X$2))","v":0},{"$f":"COUNTIF(OFFICIAL!$AG$4:$AR$111,CONCATENATE(Y$2,\" : \",$A12))+COUNTIF(OFFICIAL!$AG$4:$AR$111,CONCATENATE($A12,\" : \",Y$2))","v":0},{"$f":"COUNTIF(OFFICIAL!$AG$4:$AR$111,CONCATENATE(Z$2,\" : \",$A12))+COUNTIF(OFFICIAL!$AG$4:$AR$111,CONCATENATE($A12,\" : \",Z$2))","v":0},{"$f":"COUNTIF(OFFICIAL!$AG$4:$AR$111,CONCATENATE(AA$2,\" : \",$A12))+COUNTIF(OFFICIAL!$AG$4:$AR$111,CONCATENATE($A12,\" : \",AA$2))","v":0},{"$f":"COUNTIF(OFFICIAL!$AG$4:$AR$111,CONCATENATE(AB$2,\" : \",$A12))+COUNTIF(OFFICIAL!$AG$4:$AR$111,CONCATENATE($A12,\" : \",AB$2))","v":0},{"$f":"COUNTIF(OFFICIAL!$AG$4:$AR$111,CONCATENATE(AC$2,\" : \",$A12))+COUNTIF(OFFICIAL!$AG$4:$AR$111,CONCATENATE($A12,\" : \",AC$2))","v":0},{"$f":"COUNTIF(OFFICIAL!$AG$4:$AR$111,CONCATENATE(AD$2,\" : \",$A12))+COUNTIF(OFFICIAL!$AG$4:$AR$111,CONCATENATE($A12,\" : \",AD$2))","v":0},{"$f":"COUNTIF(OFFICIAL!$AG$4:$AR$111,CONCATENATE(AE$2,\" : \",$A12))+COUNTIF(OFFICIAL!$AG$4:$AR$111,CONCATENATE($A12,\" : \",AE$2))","v":0}]
[{"$f":"IF(DATA!$F14=\"\",\" \",DATA!$F14)","v":" "},{"$f":"COUNTIF(OFFICIAL!$AG$4:$AR$111,CONCATENATE(B$2,\" : \",$A13))+COUNTIF(OFFICIAL!$AG$4:$AR$111,CONCATENATE($A13,\" : \",B$2))","v":0},{"$f":"COUNTIF(OFFICIAL!$AG$4:$AR$111,CONCATENATE(C$2,\" : \",$A13))+COUNTIF(OFFICIAL!$AG$4:$AR$111,CONCATENATE($A13,\" : \",C$2))","v":0},{"$f":"COUNTIF(OFFICIAL!$AG$4:$AR$111,CONCATENATE(D$2,\" : \",$A13))+COUNTIF(OFFICIAL!$AG$4:$AR$111,CONCATENATE($A13,\" : \",D$2))","v":0},{"$f":"COUNTIF(OFFICIAL!$AG$4:$AR$111,CONCATENATE(E$2,\" : \",$A13))+COUNTIF(OFFICIAL!$AG$4:$AR$111,CONCATENATE($A13,\" : \",E$2))","v":0},{"$f":"COUNTIF(OFFICIAL!$AG$4:$AR$111,CONCATENATE(F$2,\" : \",$A13))+COUNTIF(OFFICIAL!$AG$4:$AR$111,CONCATENATE($A13,\" : \",F$2))","v":0},{"$f":"COUNTIF(OFFICIAL!$AG$4:$AR$111,CONCATENATE(G$2,\" : \",$A13))+COUNTIF(OFFICIAL!$AG$4:$AR$111,CONCATENATE($A13,\" : \",G$2))","v":0},{"$f":"COUNTIF(OFFICIAL!$AG$4:$AR$111,CONCATENATE(H$2,\" : \",$A13))+COUNTIF(OFFICIAL!$AG$4:$AR$111,CONCATENATE($A13,\" : \",H$2))","v":0},{"$f":"COUNTIF(OFFICIAL!$AG$4:$AR$111,CONCATENATE(I$2,\" : \",$A13))+COUNTIF(OFFICIAL!$AG$4:$AR$111,CONCATENATE($A13,\" : \",I$2))","v":0},{"$f":"COUNTIF(OFFICIAL!$AG$4:$AR$111,CONCATENATE(J$2,\" : \",$A13))+COUNTIF(OFFICIAL!$AG$4:$AR$111,CONCATENATE($A13,\" : \",J$2))","v":0},{"$f":"COUNTIF(OFFICIAL!$AG$4:$AR$111,CONCATENATE(K$2,\" : \",$A13))+COUNTIF(OFFICIAL!$AG$4:$AR$111,CONCATENATE($A13,\" : \",K$2))","v":0},{"$f":"COUNTIF(OFFICIAL!$AG$4:$AR$111,CONCATENATE(L$2,\" : \",$A13))+COUNTIF(OFFICIAL!$AG$4:$AR$111,CONCATENATE($A13,\" : \",L$2))","v":0},{"$f":"COUNTIF(OFFICIAL!$AG$4:$AR$111,CONCATENATE(M$2,\" : \",$A13))+COUNTIF(OFFICIAL!$AG$4:$AR$111,CONCATENATE($A13,\" : \",M$2))","v":0},{"$f":"COUNTIF(OFFICIAL!$AG$4:$AR$111,CONCATENATE(N$2,\" : \",$A13))+COUNTIF(OFFICIAL!$AG$4:$AR$111,CONCATENATE($A13,\" : \",N$2))","v":0},{"$f":"COUNTIF(OFFICIAL!$AG$4:$AR$111,CONCATENATE(O$2,\" : \",$A13))+COUNTIF(OFFICIAL!$AG$4:$AR$111,CONCATENATE($A13,\" : \",O$2))","v":0},{"$f":"COUNTIF(OFFICIAL!$AG$4:$AR$111,CONCATENATE(P$2,\" : \",$A13))+COUNTIF(OFFICIAL!$AG$4:$AR$111,CONCATENATE($A13,\" : \",P$2))","v":0},{"$f":"COUNTIF(OFFICIAL!$AG$4:$AR$111,CONCATENATE(Q$2,\" : \",$A13))+COUNTIF(OFFICIAL!$AG$4:$AR$111,CONCATENATE($A13,\" : \",Q$2))","v":0},{"$f":"COUNTIF(OFFICIAL!$AG$4:$AR$111,CONCATENATE(R$2,\" : \",$A13))+COUNTIF(OFFICIAL!$AG$4:$AR$111,CONCATENATE($A13,\" : \",R$2))","v":0},{"$f":"COUNTIF(OFFICIAL!$AG$4:$AR$111,CONCATENATE(S$2,\" : \",$A13))+COUNTIF(OFFICIAL!$AG$4:$AR$111,CONCATENATE($A13,\" : \",S$2))","v":0},{"$f":"COUNTIF(OFFICIAL!$AG$4:$AR$111,CONCATENATE(T$2,\" : \",$A13))+COUNTIF(OFFICIAL!$AG$4:$AR$111,CONCATENATE($A13,\" : \",T$2))","v":0},{"$f":"COUNTIF(OFFICIAL!$AG$4:$AR$111,CONCATENATE(U$2,\" : \",$A13))+COUNTIF(OFFICIAL!$AG$4:$AR$111,CONCATENATE($A13,\" : \",U$2))","v":0},{"$f":"COUNTIF(OFFICIAL!$AG$4:$AR$111,CONCATENATE(V$2,\" : \",$A13))+COUNTIF(OFFICIAL!$AG$4:$AR$111,CONCATENATE($A13,\" : \",V$2))","v":0},{"$f":"COUNTIF(OFFICIAL!$AG$4:$AR$111,CONCATENATE(W$2,\" : \",$A13))+COUNTIF(OFFICIAL!$AG$4:$AR$111,CONCATENATE($A13,\" : \",W$2))","v":0},{"$f":"COUNTIF(OFFICIAL!$AG$4:$AR$111,CONCATENATE(X$2,\" : \",$A13))+COUNTIF(OFFICIAL!$AG$4:$AR$111,CONCATENATE($A13,\" : \",X$2))","v":0},{"$f":"COUNTIF(OFFICIAL!$AG$4:$AR$111,CONCATENATE(Y$2,\" : \",$A13))+COUNTIF(OFFICIAL!$AG$4:$AR$111,CONCATENATE($A13,\" : \",Y$2))","v":0},{"$f":"COUNTIF(OFFICIAL!$AG$4:$AR$111,CONCATENATE(Z$2,\" : \",$A13))+COUNTIF(OFFICIAL!$AG$4:$AR$111,CONCATENATE($A13,\" : \",Z$2))","v":0},{"$f":"COUNTIF(OFFICIAL!$AG$4:$AR$111,CONCATENATE(AA$2,\" : \",$A13))+COUNTIF(OFFICIAL!$AG$4:$AR$111,CONCATENATE($A13,\" : \",AA$2))","v":0},{"$f":"COUNTIF(OFFICIAL!$AG$4:$AR$111,CONCATENATE(AB$2,\" : \",$A13))+COUNTIF(OFFICIAL!$AG$4:$AR$111,CONCATENATE($A13,\" : \",AB$2))","v":0},{"$f":"COUNTIF(OFFICIAL!$AG$4:$AR$111,CONCATENATE(AC$2,\" : \",$A13))+COUNTIF(OFFICIAL!$AG$4:$AR$111,CONCATENATE($A13,\" : \",AC$2))","v":0},{"$f":"COUNTIF(OFFICIAL!$AG$4:$AR$111,CONCATENATE(AD$2,\" : \",$A13))+COUNTIF(OFFICIAL!$AG$4:$AR$111,CONCATENATE($A13,\" : \",AD$2))","v":0},{"$f":"COUNTIF(OFFICIAL!$AG$4:$AR$111,CONCATENATE(AE$2,\" : \",$A13))+COUNTIF(OFFICIAL!$AG$4:$AR$111,CONCATENATE($A13,\" : \",AE$2))","v":0}]
[{"$f":"IF(DATA!$F15=\"\",\" \",DATA!$F15)","v":" "},{"$f":"COUNTIF(OFFICIAL!$AG$4:$AR$111,CONCATENATE(B$2,\" : \",$A14))+COUNTIF(OFFICIAL!$AG$4:$AR$111,CONCATENATE($A14,\" : \",B$2))","v":0},{"$f":"COUNTIF(OFFICIAL!$AG$4:$AR$111,CONCATENATE(C$2,\" : \",$A14))+COUNTIF(OFFICIAL!$AG$4:$AR$111,CONCATENATE($A14,\" : \",C$2))","v":0},{"$f":"COUNTIF(OFFICIAL!$AG$4:$AR$111,CONCATENATE(D$2,\" : \",$A14))+COUNTIF(OFFICIAL!$AG$4:$AR$111,CONCATENATE($A14,\" : \",D$2))","v":0},{"$f":"COUNTIF(OFFICIAL!$AG$4:$AR$111,CONCATENATE(E$2,\" : \",$A14))+COUNTIF(OFFICIAL!$AG$4:$AR$111,CONCATENATE($A14,\" : \",E$2))","v":0},{"$f":"COUNTIF(OFFICIAL!$AG$4:$AR$111,CONCATENATE(F$2,\" : \",$A14))+COUNTIF(OFFICIAL!$AG$4:$AR$111,CONCATENATE($A14,\" : \",F$2))","v":0},{"$f":"COUNTIF(OFFICIAL!$AG$4:$AR$111,CONCATENATE(G$2,\" : \",$A14))+COUNTIF(OFFICIAL!$AG$4:$AR$111,CONCATENATE($A14,\" : \",G$2))","v":0},{"$f":"COUNTIF(OFFICIAL!$AG$4:$AR$111,CONCATENATE(H$2,\" : \",$A14))+COUNTIF(OFFICIAL!$AG$4:$AR$111,CONCATENATE($A14,\" : \",H$2))","v":0},{"$f":"COUNTIF(OFFICIAL!$AG$4:$AR$111,CONCATENATE(I$2,\" : \",$A14))+COUNTIF(OFFICIAL!$AG$4:$AR$111,CONCATENATE($A14,\" : \",I$2))","v":0},{"$f":"COUNTIF(OFFICIAL!$AG$4:$AR$111,CONCATENATE(J$2,\" : \",$A14))+COUNTIF(OFFICIAL!$AG$4:$AR$111,CONCATENATE($A14,\" : \",J$2))","v":0},{"$f":"COUNTIF(OFFICIAL!$AG$4:$AR$111,CONCATENATE(K$2,\" : \",$A14))+COUNTIF(OFFICIAL!$AG$4:$AR$111,CONCATENATE($A14,\" : \",K$2))","v":0},{"$f":"COUNTIF(OFFICIAL!$AG$4:$AR$111,CONCATENATE(L$2,\" : \",$A14))+COUNTIF(OFFICIAL!$AG$4:$AR$111,CONCATENATE($A14,\" : \",L$2))","v":0},{"$f":"COUNTIF(OFFICIAL!$AG$4:$AR$111,CONCATENATE(M$2,\" : \",$A14))+COUNTIF(OFFICIAL!$AG$4:$AR$111,CONCATENATE($A14,\" : \",M$2))","v":0},{"$f":"COUNTIF(OFFICIAL!$AG$4:$AR$111,CONCATENATE(N$2,\" : \",$A14))+COUNTIF(OFFICIAL!$AG$4:$AR$111,CONCATENATE($A14,\" : \",N$2))","v":0},{"$f":"COUNTIF(OFFICIAL!$AG$4:$AR$111,CONCATENATE(O$2,\" : \",$A14))+COUNTIF(OFFICIAL!$AG$4:$AR$111,CONCATENATE($A14,\" : \",O$2))","v":0},{"$f":"COUNTIF(OFFICIAL!$AG$4:$AR$111,CONCATENATE(P$2,\" : \",$A14))+COUNTIF(OFFICIAL!$AG$4:$AR$111,CONCATENATE($A14,\" : \",P$2))","v":0},{"$f":"COUNTIF(OFFICIAL!$AG$4:$AR$111,CONCATENATE(Q$2,\" : \",$A14))+COUNTIF(OFFICIAL!$AG$4:$AR$111,CONCATENATE($A14,\" : \",Q$2))","v":0},{"$f":"COUNTIF(OFFICIAL!$AG$4:$AR$111,CONCATENATE(R$2,\" : \",$A14))+COUNTIF(OFFICIAL!$AG$4:$AR$111,CONCATENATE($A14,\" : \",R$2))","v":0},{"$f":"COUNTIF(OFFICIAL!$AG$4:$AR$111,CONCATENATE(S$2,\" : \",$A14))+COUNTIF(OFFICIAL!$AG$4:$AR$111,CONCATENATE($A14,\" : \",S$2))","v":0},{"$f":"COUNTIF(OFFICIAL!$AG$4:$AR$111,CONCATENATE(T$2,\" : \",$A14))+COUNTIF(OFFICIAL!$AG$4:$AR$111,CONCATENATE($A14,\" : \",T$2))","v":0},{"$f":"COUNTIF(OFFICIAL!$AG$4:$AR$111,CONCATENATE(U$2,\" : \",$A14))+COUNTIF(OFFICIAL!$AG$4:$AR$111,CONCATENATE($A14,\" : \",U$2))","v":0},{"$f":"COUNTIF(OFFICIAL!$AG$4:$AR$111,CONCATENATE(V$2,\" : \",$A14))+COUNTIF(OFFICIAL!$AG$4:$AR$111,CONCATENATE($A14,\" : \",V$2))","v":0},{"$f":"COUNTIF(OFFICIAL!$AG$4:$AR$111,CONCATENATE(W$2,\" : \",$A14))+COUNTIF(OFFICIAL!$AG$4:$AR$111,CONCATENATE($A14,\" : \",W$2))","v":0},{"$f":"COUNTIF(OFFICIAL!$AG$4:$AR$111,CONCATENATE(X$2,\" : \",$A14))+COUNTIF(OFFICIAL!$AG$4:$AR$111,CONCATENATE($A14,\" : \",X$2))","v":0},{"$f":"COUNTIF(OFFICIAL!$AG$4:$AR$111,CONCATENATE(Y$2,\" : \",$A14))+COUNTIF(OFFICIAL!$AG$4:$AR$111,CONCATENATE($A14,\" : \",Y$2))","v":0},{"$f":"COUNTIF(OFFICIAL!$AG$4:$AR$111,CONCATENATE(Z$2,\" : \",$A14))+COUNTIF(OFFICIAL!$AG$4:$AR$111,CONCATENATE($A14,\" : \",Z$2))","v":0},{"$f":"COUNTIF(OFFICIAL!$AG$4:$AR$111,CONCATENATE(AA$2,\" : \",$A14))+COUNTIF(OFFICIAL!$AG$4:$AR$111,CONCATENATE($A14,\" : \",AA$2))","v":0},{"$f":"COUNTIF(OFFICIAL!$AG$4:$AR$111,CONCATENATE(AB$2,\" : \",$A14))+COUNTIF(OFFICIAL!$AG$4:$AR$111,CONCATENATE($A14,\" : \",AB$2))","v":0},{"$f":"COUNTIF(OFFICIAL!$AG$4:$AR$111,CONCATENATE(AC$2,\" : \",$A14))+COUNTIF(OFFICIAL!$AG$4:$AR$111,CONCATENATE($A14,\" : \",AC$2))","v":0},{"$f":"COUNTIF(OFFICIAL!$AG$4:$AR$111,CONCATENATE(AD$2,\" : \",$A14))+COUNTIF(OFFICIAL!$AG$4:$AR$111,CONCATENATE($A14,\" : \",AD$2))","v":0},{"$f":"COUNTIF(OFFICIAL!$AG$4:$AR$111,CONCATENATE(AE$2,\" : \",$A14))+COUNTIF(OFFICIAL!$AG$4:$AR$111,CONCATENATE($A14,\" : \",AE$2))","v":0}]
[{"$f":"IF(DATA!$F16=\"\",\" \",DATA!$F16)","v":" "},{"$f":"COUNTIF(OFFICIAL!$AG$4:$AR$111,CONCATENATE(B$2,\" : \",$A15))+COUNTIF(OFFICIAL!$AG$4:$AR$111,CONCATENATE($A15,\" : \",B$2))","v":0},{"$f":"COUNTIF(OFFICIAL!$AG$4:$AR$111,CONCATENATE(C$2,\" : \",$A15))+COUNTIF(OFFICIAL!$AG$4:$AR$111,CONCATENATE($A15,\" : \",C$2))","v":0},{"$f":"COUNTIF(OFFICIAL!$AG$4:$AR$111,CONCATENATE(D$2,\" : \",$A15))+COUNTIF(OFFICIAL!$AG$4:$AR$111,CONCATENATE($A15,\" : \",D$2))","v":0},{"$f":"COUNTIF(OFFICIAL!$AG$4:$AR$111,CONCATENATE(E$2,\" : \",$A15))+COUNTIF(OFFICIAL!$AG$4:$AR$111,CONCATENATE($A15,\" : \",E$2))","v":0},{"$f":"COUNTIF(OFFICIAL!$AG$4:$AR$111,CONCATENATE(F$2,\" : \",$A15))+COUNTIF(OFFICIAL!$AG$4:$AR$111,CONCATENATE($A15,\" : \",F$2))","v":0},{"$f":"COUNTIF(OFFICIAL!$AG$4:$AR$111,CONCATENATE(G$2,\" : \",$A15))+COUNTIF(OFFICIAL!$AG$4:$AR$111,CONCATENATE($A15,\" : \",G$2))","v":0},{"$f":"COUNTIF(OFFICIAL!$AG$4:$AR$111,CONCATENATE(H$2,\" : \",$A15))+COUNTIF(OFFICIAL!$AG$4:$AR$111,CONCATENATE($A15,\" : \",H$2))","v":0},{"$f":"COUNTIF(OFFICIAL!$AG$4:$AR$111,CONCATENATE(I$2,\" : \",$A15))+COUNTIF(OFFICIAL!$AG$4:$AR$111,CONCATENATE($A15,\" : \",I$2))","v":0},{"$f":"COUNTIF(OFFICIAL!$AG$4:$AR$111,CONCATENATE(J$2,\" : \",$A15))+COUNTIF(OFFICIAL!$AG$4:$AR$111,CONCATENATE($A15,\" : \",J$2))","v":0},{"$f":"COUNTIF(OFFICIAL!$AG$4:$AR$111,CONCATENATE(K$2,\" : \",$A15))+COUNTIF(OFFICIAL!$AG$4:$AR$111,CONCATENATE($A15,\" : \",K$2))","v":0},{"$f":"COUNTIF(OFFICIAL!$AG$4:$AR$111,CONCATENATE(L$2,\" : \",$A15))+COUNTIF(OFFICIAL!$AG$4:$AR$111,CONCATENATE($A15,\" : \",L$2))","v":0},{"$f":"COUNTIF(OFFICIAL!$AG$4:$AR$111,CONCATENATE(M$2,\" : \",$A15))+COUNTIF(OFFICIAL!$AG$4:$AR$111,CONCATENATE($A15,\" : \",M$2))","v":0},{"$f":"COUNTIF(OFFICIAL!$AG$4:$AR$111,CONCATENATE(N$2,\" : \",$A15))+COUNTIF(OFFICIAL!$AG$4:$AR$111,CONCATENATE($A15,\" : \",N$2))","v":0},{"$f":"COUNTIF(OFFICIAL!$AG$4:$AR$111,CONCATENATE(O$2,\" : \",$A15))+COUNTIF(OFFICIAL!$AG$4:$AR$111,CONCATENATE($A15,\" : \",O$2))","v":0},{"$f":"COUNTIF(OFFICIAL!$AG$4:$AR$111,CONCATENATE(P$2,\" : \",$A15))+COUNTIF(OFFICIAL!$AG$4:$AR$111,CONCATENATE($A15,\" : \",P$2))","v":0},{"$f":"COUNTIF(OFFICIAL!$AG$4:$AR$111,CONCATENATE(Q$2,\" : \",$A15))+COUNTIF(OFFICIAL!$AG$4:$AR$111,CONCATENATE($A15,\" : \",Q$2))","v":0},{"$f":"COUNTIF(OFFICIAL!$AG$4:$AR$111,CONCATENATE(R$2,\" : \",$A15))+COUNTIF(OFFICIAL!$AG$4:$AR$111,CONCATENATE($A15,\" : \",R$2))","v":0},{"$f":"COUNTIF(OFFICIAL!$AG$4:$AR$111,CONCATENATE(S$2,\" : \",$A15))+COUNTIF(OFFICIAL!$AG$4:$AR$111,CONCATENATE($A15,\" : \",S$2))","v":0},{"$f":"COUNTIF(OFFICIAL!$AG$4:$AR$111,CONCATENATE(T$2,\" : \",$A15))+COUNTIF(OFFICIAL!$AG$4:$AR$111,CONCATENATE($A15,\" : \",T$2))","v":0},{"$f":"COUNTIF(OFFICIAL!$AG$4:$AR$111,CONCATENATE(U$2,\" : \",$A15))+COUNTIF(OFFICIAL!$AG$4:$AR$111,CONCATENATE($A15,\" : \",U$2))","v":0},{"$f":"COUNTIF(OFFICIAL!$AG$4:$AR$111,CONCATENATE(V$2,\" : \",$A15))+COUNTIF(OFFICIAL!$AG$4:$AR$111,CONCATENATE($A15,\" : \",V$2))","v":0},{"$f":"COUNTIF(OFFICIAL!$AG$4:$AR$111,CONCATENATE(W$2,\" : \",$A15))+COUNTIF(OFFICIAL!$AG$4:$AR$111,CONCATENATE($A15,\" : \",W$2))","v":0},{"$f":"COUNTIF(OFFICIAL!$AG$4:$AR$111,CONCATENATE(X$2,\" : \",$A15))+COUNTIF(OFFICIAL!$AG$4:$AR$111,CONCATENATE($A15,\" : \",X$2))","v":0},{"$f":"COUNTIF(OFFICIAL!$AG$4:$AR$111,CONCATENATE(Y$2,\" : \",$A15))+COUNTIF(OFFICIAL!$AG$4:$AR$111,CONCATENATE($A15,\" : \",Y$2))","v":0},{"$f":"COUNTIF(OFFICIAL!$AG$4:$AR$111,CONCATENATE(Z$2,\" : \",$A15))+COUNTIF(OFFICIAL!$AG$4:$AR$111,CONCATENATE($A15,\" : \",Z$2))","v":0},{"$f":"COUNTIF(OFFICIAL!$AG$4:$AR$111,CONCATENATE(AA$2,\" : \",$A15))+COUNTIF(OFFICIAL!$AG$4:$AR$111,CONCATENATE($A15,\" : \",AA$2))","v":0},{"$f":"COUNTIF(OFFICIAL!$AG$4:$AR$111,CONCATENATE(AB$2,\" : \",$A15))+COUNTIF(OFFICIAL!$AG$4:$AR$111,CONCATENATE($A15,\" : \",AB$2))","v":0},{"$f":"COUNTIF(OFFICIAL!$AG$4:$AR$111,CONCATENATE(AC$2,\" : \",$A15))+COUNTIF(OFFICIAL!$AG$4:$AR$111,CONCATENATE($A15,\" : \",AC$2))","v":0},{"$f":"COUNTIF(OFFICIAL!$AG$4:$AR$111,CONCATENATE(AD$2,\" : \",$A15))+COUNTIF(OFFICIAL!$AG$4:$AR$111,CONCATENATE($A15,\" : \",AD$2))","v":0},{"$f":"COUNTIF(OFFICIAL!$AG$4:$AR$111,CONCATENATE(AE$2,\" : \",$A15))+COUNTIF(OFFICIAL!$AG$4:$AR$111,CONCATENATE($A15,\" : \",AE$2))","v":0}]
[{"$f":"IF(DATA!$F17=\"\",\" \",DATA!$F17)","v":" "},{"$f":"COUNTIF(OFFICIAL!$AG$4:$AR$111,CONCATENATE(B$2,\" : \",$A16))+COUNTIF(OFFICIAL!$AG$4:$AR$111,CONCATENATE($A16,\" : \",B$2))","v":0},{"$f":"COUNTIF(OFFICIAL!$AG$4:$AR$111,CONCATENATE(C$2,\" : \",$A16))+COUNTIF(OFFICIAL!$AG$4:$AR$111,CONCATENATE($A16,\" : \",C$2))","v":0},{"$f":"COUNTIF(OFFICIAL!$AG$4:$AR$111,CONCATENATE(D$2,\" : \",$A16))+COUNTIF(OFFICIAL!$AG$4:$AR$111,CONCATENATE($A16,\" : \",D$2))","v":0},{"$f":"COUNTIF(OFFICIAL!$AG$4:$AR$111,CONCATENATE(E$2,\" : \",$A16))+COUNTIF(OFFICIAL!$AG$4:$AR$111,CONCATENATE($A16,\" : \",E$2))","v":0},{"$f":"COUNTIF(OFFICIAL!$AG$4:$AR$111,CONCATENATE(F$2,\" : \",$A16))+COUNTIF(OFFICIAL!$AG$4:$AR$111,CONCATENATE($A16,\" : \",F$2))","v":0},{"$f":"COUNTIF(OFFICIAL!$AG$4:$AR$111,CONCATENATE(G$2,\" : \",$A16))+COUNTIF(OFFICIAL!$AG$4:$AR$111,CONCATENATE($A16,\" : \",G$2))","v":0},{"$f":"COUNTIF(OFFICIAL!$AG$4:$AR$111,CONCATENATE(H$2,\" : \",$A16))+COUNTIF(OFFICIAL!$AG$4:$AR$111,CONCATENATE($A16,\" : \",H$2))","v":0},{"$f":"COUNTIF(OFFICIAL!$AG$4:$AR$111,CONCATENATE(I$2,\" : \",$A16))+COUNTIF(OFFICIAL!$AG$4:$AR$111,CONCATENATE($A16,\" : \",I$2))","v":0},{"$f":"COUNTIF(OFFICIAL!$AG$4:$AR$111,CONCATENATE(J$2,\" : \",$A16))+COUNTIF(OFFICIAL!$AG$4:$AR$111,CONCATENATE($A16,\" : \",J$2))","v":0},{"$f":"COUNTIF(OFFICIAL!$AG$4:$AR$111,CONCATENATE(K$2,\" : \",$A16))+COUNTIF(OFFICIAL!$AG$4:$AR$111,CONCATENATE($A16,\" : \",K$2))","v":0},{"$f":"COUNTIF(OFFICIAL!$AG$4:$AR$111,CONCATENATE(L$2,\" : \",$A16))+COUNTIF(OFFICIAL!$AG$4:$AR$111,CONCATENATE($A16,\" : \",L$2))","v":0},{"$f":"COUNTIF(OFFICIAL!$AG$4:$AR$111,CONCATENATE(M$2,\" : \",$A16))+COUNTIF(OFFICIAL!$AG$4:$AR$111,CONCATENATE($A16,\" : \",M$2))","v":0},{"$f":"COUNTIF(OFFICIAL!$AG$4:$AR$111,CONCATENATE(N$2,\" : \",$A16))+COUNTIF(OFFICIAL!$AG$4:$AR$111,CONCATENATE($A16,\" : \",N$2))","v":0},{"$f":"COUNTIF(OFFICIAL!$AG$4:$AR$111,CONCATENATE(O$2,\" : \",$A16))+COUNTIF(OFFICIAL!$AG$4:$AR$111,CONCATENATE($A16,\" : \",O$2))","v":0},{"$f":"COUNTIF(OFFICIAL!$AG$4:$AR$111,CONCATENATE(P$2,\" : \",$A16))+COUNTIF(OFFICIAL!$AG$4:$AR$111,CONCATENATE($A16,\" : \",P$2))","v":0},{"$f":"COUNTIF(OFFICIAL!$AG$4:$AR$111,CONCATENATE(Q$2,\" : \",$A16))+COUNTIF(OFFICIAL!$AG$4:$AR$111,CONCATENATE($A16,\" : \",Q$2))","v":0},{"$f":"COUNTIF(OFFICIAL!$AG$4:$AR$111,CONCATENATE(R$2,\" : \",$A16))+COUNTIF(OFFICIAL!$AG$4:$AR$111,CONCATENATE($A16,\" : \",R$2))","v":0},{"$f":"COUNTIF(OFFICIAL!$AG$4:$AR$111,CONCATENATE(S$2,\" : \",$A16))+COUNTIF(OFFICIAL!$AG$4:$AR$111,CONCATENATE($A16,\" : \",S$2))","v":0},{"$f":"COUNTIF(OFFICIAL!$AG$4:$AR$111,CONCATENATE(T$2,\" : \",$A16))+COUNTIF(OFFICIAL!$AG$4:$AR$111,CONCATENATE($A16,\" : \",T$2))","v":0},{"$f":"COUNTIF(OFFICIAL!$AG$4:$AR$111,CONCATENATE(U$2,\" : \",$A16))+COUNTIF(OFFICIAL!$AG$4:$AR$111,CONCATENATE($A16,\" : \",U$2))","v":0},{"$f":"COUNTIF(OFFICIAL!$AG$4:$AR$111,CONCATENATE(V$2,\" : \",$A16))+COUNTIF(OFFICIAL!$AG$4:$AR$111,CONCATENATE($A16,\" : \",V$2))","v":0},{"$f":"COUNTIF(OFFICIAL!$AG$4:$AR$111,CONCATENATE(W$2,\" : \",$A16))+COUNTIF(OFFICIAL!$AG$4:$AR$111,CONCATENATE($A16,\" : \",W$2))","v":0},{"$f":"COUNTIF(OFFICIAL!$AG$4:$AR$111,CONCATENATE(X$2,\" : \",$A16))+COUNTIF(OFFICIAL!$AG$4:$AR$111,CONCATENATE($A16,\" : \",X$2))","v":0},{"$f":"COUNTIF(OFFICIAL!$AG$4:$AR$111,CONCATENATE(Y$2,\" : \",$A16))+COUNTIF(OFFICIAL!$AG$4:$AR$111,CONCATENATE($A16,\" : \",Y$2))","v":0},{"$f":"COUNTIF(OFFICIAL!$AG$4:$AR$111,CONCATENATE(Z$2,\" : \",$A16))+COUNTIF(OFFICIAL!$AG$4:$AR$111,CONCATENATE($A16,\" : \",Z$2))","v":0},{"$f":"COUNTIF(OFFICIAL!$AG$4:$AR$111,CONCATENATE(AA$2,\" : \",$A16))+COUNTIF(OFFICIAL!$AG$4:$AR$111,CONCATENATE($A16,\" : \",AA$2))","v":0},{"$f":"COUNTIF(OFFICIAL!$AG$4:$AR$111,CONCATENATE(AB$2,\" : \",$A16))+COUNTIF(OFFICIAL!$AG$4:$AR$111,CONCATENATE($A16,\" : \",AB$2))","v":0},{"$f":"COUNTIF(OFFICIAL!$AG$4:$AR$111,CONCATENATE(AC$2,\" : \",$A16))+COUNTIF(OFFICIAL!$AG$4:$AR$111,CONCATENATE($A16,\" : \",AC$2))","v":0},{"$f":"COUNTIF(OFFICIAL!$AG$4:$AR$111,CONCATENATE(AD$2,\" : \",$A16))+COUNTIF(OFFICIAL!$AG$4:$AR$111,CONCATENATE($A16,\" : \",AD$2))","v":0},{"$f":"COUNTIF(OFFICIAL!$AG$4:$AR$111,CONCATENATE(AE$2,\" : \",$A16))+COUNTIF(OFFICIAL!$AG$4:$AR$111,CONCATENATE($A16,\" : \",AE$2))","v":0}]
[{"$f":"IF(DATA!$F18=\"\",\" \",DATA!$F18)","v":" "},{"$f":"COUNTIF(OFFICIAL!$AG$4:$AR$111,CONCATENATE(B$2,\" : \",$A17))+COUNTIF(OFFICIAL!$AG$4:$AR$111,CONCATENATE($A17,\" : \",B$2))","v":0},{"$f":"COUNTIF(OFFICIAL!$AG$4:$AR$111,CONCATENATE(C$2,\" : \",$A17))+COUNTIF(OFFICIAL!$AG$4:$AR$111,CONCATENATE($A17,\" : \",C$2))","v":0},{"$f":"COUNTIF(OFFICIAL!$AG$4:$AR$111,CONCATENATE(D$2,\" : \",$A17))+COUNTIF(OFFICIAL!$AG$4:$AR$111,CONCATENATE($A17,\" : \",D$2))","v":0},{"$f":"COUNTIF(OFFICIAL!$AG$4:$AR$111,CONCATENATE(E$2,\" : \",$A17))+COUNTIF(OFFICIAL!$AG$4:$AR$111,CONCATENATE($A17,\" : \",E$2))","v":0},{"$f":"COUNTIF(OFFICIAL!$AG$4:$AR$111,CONCATENATE(F$2,\" : \",$A17))+COUNTIF(OFFICIAL!$AG$4:$AR$111,CONCATENATE($A17,\" : \",F$2))","v":0},{"$f":"COUNTIF(OFFICIAL!$AG$4:$AR$111,CONCATENATE(G$2,\" : \",$A17))+COUNTIF(OFFICIAL!$AG$4:$AR$111,CONCATENATE($A17,\" : \",G$2))","v":0},{"$f":"COUNTIF(OFFICIAL!$AG$4:$AR$111,CONCATENATE(H$2,\" : \",$A17))+COUNTIF(OFFICIAL!$AG$4:$AR$111,CONCATENATE($A17,\" : \",H$2))","v":0},{"$f":"COUNTIF(OFFICIAL!$AG$4:$AR$111,CONCATENATE(I$2,\" : \",$A17))+COUNTIF(OFFICIAL!$AG$4:$AR$111,CONCATENATE($A17,\" : \",I$2))","v":0},{"$f":"COUNTIF(OFFICIAL!$AG$4:$AR$111,CONCATENATE(J$2,\" : \",$A17))+COUNTIF(OFFICIAL!$AG$4:$AR$111,CONCATENATE($A17,\" : \",J$2))","v":0},{"$f":"COUNTIF(OFFICIAL!$AG$4:$AR$111,CONCATENATE(K$2,\" : \",$A17))+COUNTIF(OFFICIAL!$AG$4:$AR$111,CONCATENATE($A17,\" : \",K$2))","v":0},{"$f":"COUNTIF(OFFICIAL!$AG$4:$AR$111,CONCATENATE(L$2,\" : \",$A17))+COUNTIF(OFFICIAL!$AG$4:$AR$111,CONCATENATE($A17,\" : \",L$2))","v":0},{"$f":"COUNTIF(OFFICIAL!$AG$4:$AR$111,CONCATENATE(M$2,\" : \",$A17))+COUNTIF(OFFICIAL!$AG$4:$AR$111,CONCATENATE($A17,\" : \",M$2))","v":0},{"$f":"COUNTIF(OFFICIAL!$AG$4:$AR$111,CONCATENATE(N$2,\" : \",$A17))+COUNTIF(OFFICIAL!$AG$4:$AR$111,CONCATENATE($A17,\" : \",N$2))","v":0},{"$f":"COUNTIF(OFFICIAL!$AG$4:$AR$111,CONCATENATE(O$2,\" : \",$A17))+COUNTIF(OFFICIAL!$AG$4:$AR$111,CONCATENATE($A17,\" : \",O$2))","v":0},{"$f":"COUNTIF(OFFICIAL!$AG$4:$AR$111,CONCATENATE(P$2,\" : \",$A17))+COUNTIF(OFFICIAL!$AG$4:$AR$111,CONCATENATE($A17,\" : \",P$2))","v":0},{"$f":"COUNTIF(OFFICIAL!$AG$4:$AR$111,CONCATENATE(Q$2,\" : \",$A17))+COUNTIF(OFFICIAL!$AG$4:$AR$111,CONCATENATE($A17,\" : \",Q$2))","v":0},{"$f":"COUNTIF(OFFICIAL!$AG$4:$AR$111,CONCATENATE(R$2,\" : \",$A17))+COUNTIF(OFFICIAL!$AG$4:$AR$111,CONCATENATE($A17,\" : \",R$2))","v":0},{"$f":"COUNTIF(OFFICIAL!$AG$4:$AR$111,CONCATENATE(S$2,\" : \",$A17))+COUNTIF(OFFICIAL!$AG$4:$AR$111,CONCATENATE($A17,\" : \",S$2))","v":0},{"$f":"COUNTIF(OFFICIAL!$AG$4:$AR$111,CONCATENATE(T$2,\" : \",$A17))+COUNTIF(OFFICIAL!$AG$4:$AR$111,CONCATENATE($A17,\" : \",T$2))","v":0},{"$f":"COUNTIF(OFFICIAL!$AG$4:$AR$111,CONCATENATE(U$2,\" : \",$A17))+COUNTIF(OFFICIAL!$AG$4:$AR$111,CONCATENATE($A17,\" : \",U$2))","v":0},{"$f":"COUNTIF(OFFICIAL!$AG$4:$AR$111,CONCATENATE(V$2,\" : \",$A17))+COUNTIF(OFFICIAL!$AG$4:$AR$111,CONCATENATE($A17,\" : \",V$2))","v":0},{"$f":"COUNTIF(OFFICIAL!$AG$4:$AR$111,CONCATENATE(W$2,\" : \",$A17))+COUNTIF(OFFICIAL!$AG$4:$AR$111,CONCATENATE($A17,\" : \",W$2))","v":0},{"$f":"COUNTIF(OFFICIAL!$AG$4:$AR$111,CONCATENATE(X$2,\" : \",$A17))+COUNTIF(OFFICIAL!$AG$4:$AR$111,CONCATENATE($A17,\" : \",X$2))","v":0},{"$f":"COUNTIF(OFFICIAL!$AG$4:$AR$111,CONCATENATE(Y$2,\" : \",$A17))+COUNTIF(OFFICIAL!$AG$4:$AR$111,CONCATENATE($A17,\" : \",Y$2))","v":0},{"$f":"COUNTIF(OFFICIAL!$AG$4:$AR$111,CONCATENATE(Z$2,\" : \",$A17))+COUNTIF(OFFICIAL!$AG$4:$AR$111,CONCATENATE($A17,\" : \",Z$2))","v":0},{"$f":"COUNTIF(OFFICIAL!$AG$4:$AR$111,CONCATENATE(AA$2,\" : \",$A17))+COUNTIF(OFFICIAL!$AG$4:$AR$111,CONCATENATE($A17,\" : \",AA$2))","v":0},{"$f":"COUNTIF(OFFICIAL!$AG$4:$AR$111,CONCATENATE(AB$2,\" : \",$A17))+COUNTIF(OFFICIAL!$AG$4:$AR$111,CONCATENATE($A17,\" : \",AB$2))","v":0},{"$f":"COUNTIF(OFFICIAL!$AG$4:$AR$111,CONCATENATE(AC$2,\" : \",$A17))+COUNTIF(OFFICIAL!$AG$4:$AR$111,CONCATENATE($A17,\" : \",AC$2))","v":0},{"$f":"COUNTIF(OFFICIAL!$AG$4:$AR$111,CONCATENATE(AD$2,\" : \",$A17))+COUNTIF(OFFICIAL!$AG$4:$AR$111,CONCATENATE($A17,\" : \",AD$2))","v":0},{"$f":"COUNTIF(OFFICIAL!$AG$4:$AR$111,CONCATENATE(AE$2,\" : \",$A17))+COUNTIF(OFFICIAL!$AG$4:$AR$111,CONCATENATE($A17,\" : \",AE$2))","v":0}]
[{"$f":"IF(DATA!$F19=\"\",\" \",DATA!$F19)","v":" "},{"$f":"COUNTIF(OFFICIAL!$AG$4:$AR$111,CONCATENATE(B$2,\" : \",$A18))+COUNTIF(OFFICIAL!$AG$4:$AR$111,CONCATENATE($A18,\" : \",B$2))","v":0},{"$f":"COUNTIF(OFFICIAL!$AG$4:$AR$111,CONCATENATE(C$2,\" : \",$A18))+COUNTIF(OFFICIAL!$AG$4:$AR$111,CONCATENATE($A18,\" : \",C$2))","v":0},{"$f":"COUNTIF(OFFICIAL!$AG$4:$AR$111,CONCATENATE(D$2,\" : \",$A18))+COUNTIF(OFFICIAL!$AG$4:$AR$111,CONCATENATE($A18,\" : \",D$2))","v":0},{"$f":"COUNTIF(OFFICIAL!$AG$4:$AR$111,CONCATENATE(E$2,\" : \",$A18))+COUNTIF(OFFICIAL!$AG$4:$AR$111,CONCATENATE($A18,\" : \",E$2))","v":0},{"$f":"COUNTIF(OFFICIAL!$AG$4:$AR$111,CONCATENATE(F$2,\" : \",$A18))+COUNTIF(OFFICIAL!$AG$4:$AR$111,CONCATENATE($A18,\" : \",F$2))","v":0},{"$f":"COUNTIF(OFFICIAL!$AG$4:$AR$111,CONCATENATE(G$2,\" : \",$A18))+COUNTIF(OFFICIAL!$AG$4:$AR$111,CONCATENATE($A18,\" : \",G$2))","v":0},{"$f":"COUNTIF(OFFICIAL!$AG$4:$AR$111,CONCATENATE(H$2,\" : \",$A18))+COUNTIF(OFFICIAL!$AG$4:$AR$111,CONCATENATE($A18,\" : \",H$2))","v":0},{"$f":"COUNTIF(OFFICIAL!$AG$4:$AR$111,CONCATENATE(I$2,\" : \",$A18))+COUNTIF(OFFICIAL!$AG$4:$AR$111,CONCATENATE($A18,\" : \",I$2))","v":0},{"$f":"COUNTIF(OFFICIAL!$AG$4:$AR$111,CONCATENATE(J$2,\" : \",$A18))+COUNTIF(OFFICIAL!$AG$4:$AR$111,CONCATENATE($A18,\" : \",J$2))","v":0},{"$f":"COUNTIF(OFFICIAL!$AG$4:$AR$111,CONCATENATE(K$2,\" : \",$A18))+COUNTIF(OFFICIAL!$AG$4:$AR$111,CONCATENATE($A18,\" : \",K$2))","v":0},{"$f":"COUNTIF(OFFICIAL!$AG$4:$AR$111,CONCATENATE(L$2,\" : \",$A18))+COUNTIF(OFFICIAL!$AG$4:$AR$111,CONCATENATE($A18,\" : \",L$2))","v":0},{"$f":"COUNTIF(OFFICIAL!$AG$4:$AR$111,CONCATENATE(M$2,\" : \",$A18))+COUNTIF(OFFICIAL!$AG$4:$AR$111,CONCATENATE($A18,\" : \",M$2))","v":0},{"$f":"COUNTIF(OFFICIAL!$AG$4:$AR$111,CONCATENATE(N$2,\" : \",$A18))+COUNTIF(OFFICIAL!$AG$4:$AR$111,CONCATENATE($A18,\" : \",N$2))","v":0},{"$f":"COUNTIF(OFFICIAL!$AG$4:$AR$111,CONCATENATE(O$2,\" : \",$A18))+COUNTIF(OFFICIAL!$AG$4:$AR$111,CONCATENATE($A18,\" : \",O$2))","v":0},{"$f":"COUNTIF(OFFICIAL!$AG$4:$AR$111,CONCATENATE(P$2,\" : \",$A18))+COUNTIF(OFFICIAL!$AG$4:$AR$111,CONCATENATE($A18,\" : \",P$2))","v":0},{"$f":"COUNTIF(OFFICIAL!$AG$4:$AR$111,CONCATENATE(Q$2,\" : \",$A18))+COUNTIF(OFFICIAL!$AG$4:$AR$111,CONCATENATE($A18,\" : \",Q$2))","v":0},{"$f":"COUNTIF(OFFICIAL!$AG$4:$AR$111,CONCATENATE(R$2,\" : \",$A18))+COUNTIF(OFFICIAL!$AG$4:$AR$111,CONCATENATE($A18,\" : \",R$2))","v":0},{"$f":"COUNTIF(OFFICIAL!$AG$4:$AR$111,CONCATENATE(S$2,\" : \",$A18))+COUNTIF(OFFICIAL!$AG$4:$AR$111,CONCATENATE($A18,\" : \",S$2))","v":0},{"$f":"COUNTIF(OFFICIAL!$AG$4:$AR$111,CONCATENATE(T$2,\" : \",$A18))+COUNTIF(OFFICIAL!$AG$4:$AR$111,CONCATENATE($A18,\" : \",T$2))","v":0},{"$f":"COUNTIF(OFFICIAL!$AG$4:$AR$111,CONCATENATE(U$2,\" : \",$A18))+COUNTIF(OFFICIAL!$AG$4:$AR$111,CONCATENATE($A18,\" : \",U$2))","v":0},{"$f":"COUNTIF(OFFICIAL!$AG$4:$AR$111,CONCATENATE(V$2,\" : \",$A18))+COUNTIF(OFFICIAL!$AG$4:$AR$111,CONCATENATE($A18,\" : \",V$2))","v":0},{"$f":"COUNTIF(OFFICIAL!$AG$4:$AR$111,CONCATENATE(W$2,\" : \",$A18))+COUNTIF(OFFICIAL!$AG$4:$AR$111,CONCATENATE($A18,\" : \",W$2))","v":0},{"$f":"COUNTIF(OFFICIAL!$AG$4:$AR$111,CONCATENATE(X$2,\" : \",$A18))+COUNTIF(OFFICIAL!$AG$4:$AR$111,CONCATENATE($A18,\" : \",X$2))","v":0},{"$f":"COUNTIF(OFFICIAL!$AG$4:$AR$111,CONCATENATE(Y$2,\" : \",$A18))+COUNTIF(OFFICIAL!$AG$4:$AR$111,CONCATENATE($A18,\" : \",Y$2))","v":0},{"$f":"COUNTIF(OFFICIAL!$AG$4:$AR$111,CONCATENATE(Z$2,\" : \",$A18))+COUNTIF(OFFICIAL!$AG$4:$AR$111,CONCATENATE($A18,\" : \",Z$2))","v":0},{"$f":"COUNTIF(OFFICIAL!$AG$4:$AR$111,CONCATENATE(AA$2,\" : \",$A18))+COUNTIF(OFFICIAL!$AG$4:$AR$111,CONCATENATE($A18,\" : \",AA$2))","v":0},{"$f":"COUNTIF(OFFICIAL!$AG$4:$AR$111,CONCATENATE(AB$2,\" : \",$A18))+COUNTIF(OFFICIAL!$AG$4:$AR$111,CONCATENATE($A18,\" : \",AB$2))","v":0},{"$f":"COUNTIF(OFFICIAL!$AG$4:$AR$111,CONCATENATE(AC$2,\" : \",$A18))+COUNTIF(OFFICIAL!$AG$4:$AR$111,CONCATENATE($A18,\" : \",AC$2))","v":0},{"$f":"COUNTIF(OFFICIAL!$AG$4:$AR$111,CONCATENATE(AD$2,\" : \",$A18))+COUNTIF(OFFICIAL!$AG$4:$AR$111,CONCATENATE($A18,\" : \",AD$2))","v":0},{"$f":"COUNTIF(OFFICIAL!$AG$4:$AR$111,CONCATENATE(AE$2,\" : \",$A18))+COUNTIF(OFFICIAL!$AG$4:$AR$111,CONCATENATE($A18,\" : \",AE$2))","v":0}]
[{"$f":"IF(DATA!$F20=\"\",\" \",DATA!$F20)","v":" "},{"$f":"COUNTIF(OFFICIAL!$AG$4:$AR$111,CONCATENATE(B$2,\" : \",$A19))+COUNTIF(OFFICIAL!$AG$4:$AR$111,CONCATENATE($A19,\" : \",B$2))","v":0},{"$f":"COUNTIF(OFFICIAL!$AG$4:$AR$111,CONCATENATE(C$2,\" : \",$A19))+COUNTIF(OFFICIAL!$AG$4:$AR$111,CONCATENATE($A19,\" : \",C$2))","v":0},{"$f":"COUNTIF(OFFICIAL!$AG$4:$AR$111,CONCATENATE(D$2,\" : \",$A19))+COUNTIF(OFFICIAL!$AG$4:$AR$111,CONCATENATE($A19,\" : \",D$2))","v":0},{"$f":"COUNTIF(OFFICIAL!$AG$4:$AR$111,CONCATENATE(E$2,\" : \",$A19))+COUNTIF(OFFICIAL!$AG$4:$AR$111,CONCATENATE($A19,\" : \",E$2))","v":0},{"$f":"COUNTIF(OFFICIAL!$AG$4:$AR$111,CONCATENATE(F$2,\" : \",$A19))+COUNTIF(OFFICIAL!$AG$4:$AR$111,CONCATENATE($A19,\" : \",F$2))","v":0},{"$f":"COUNTIF(OFFICIAL!$AG$4:$AR$111,CONCATENATE(G$2,\" : \",$A19))+COUNTIF(OFFICIAL!$AG$4:$AR$111,CONCATENATE($A19,\" : \",G$2))","v":0},{"$f":"COUNTIF(OFFICIAL!$AG$4:$AR$111,CONCATENATE(H$2,\" : \",$A19))+COUNTIF(OFFICIAL!$AG$4:$AR$111,CONCATENATE($A19,\" : \",H$2))","v":0},{"$f":"COUNTIF(OFFICIAL!$AG$4:$AR$111,CONCATENATE(I$2,\" : \",$A19))+COUNTIF(OFFICIAL!$AG$4:$AR$111,CONCATENATE($A19,\" : \",I$2))","v":0},{"$f":"COUNTIF(OFFICIAL!$AG$4:$AR$111,CONCATENATE(J$2,\" : \",$A19))+COUNTIF(OFFICIAL!$AG$4:$AR$111,CONCATENATE($A19,\" : \",J$2))","v":0},{"$f":"COUNTIF(OFFICIAL!$AG$4:$AR$111,CONCATENATE(K$2,\" : \",$A19))+COUNTIF(OFFICIAL!$AG$4:$AR$111,CONCATENATE($A19,\" : \",K$2))","v":0},{"$f":"COUNTIF(OFFICIAL!$AG$4:$AR$111,CONCATENATE(L$2,\" : \",$A19))+COUNTIF(OFFICIAL!$AG$4:$AR$111,CONCATENATE($A19,\" : \",L$2))","v":0},{"$f":"COUNTIF(OFFICIAL!$AG$4:$AR$111,CONCATENATE(M$2,\" : \",$A19))+COUNTIF(OFFICIAL!$AG$4:$AR$111,CONCATENATE($A19,\" : \",M$2))","v":0},{"$f":"COUNTIF(OFFICIAL!$AG$4:$AR$111,CONCATENATE(N$2,\" : \",$A19))+COUNTIF(OFFICIAL!$AG$4:$AR$111,CONCATENATE($A19,\" : \",N$2))","v":0},{"$f":"COUNTIF(OFFICIAL!$AG$4:$AR$111,CONCATENATE(O$2,\" : \",$A19))+COUNTIF(OFFICIAL!$AG$4:$AR$111,CONCATENATE($A19,\" : \",O$2))","v":0},{"$f":"COUNTIF(OFFICIAL!$AG$4:$AR$111,CONCATENATE(P$2,\" : \",$A19))+COUNTIF(OFFICIAL!$AG$4:$AR$111,CONCATENATE($A19,\" : \",P$2))","v":0},{"$f":"COUNTIF(OFFICIAL!$AG$4:$AR$111,CONCATENATE(Q$2,\" : \",$A19))+COUNTIF(OFFICIAL!$AG$4:$AR$111,CONCATENATE($A19,\" : \",Q$2))","v":0},{"$f":"COUNTIF(OFFICIAL!$AG$4:$AR$111,CONCATENATE(R$2,\" : \",$A19))+COUNTIF(OFFICIAL!$AG$4:$AR$111,CONCATENATE($A19,\" : \",R$2))","v":0},{"$f":"COUNTIF(OFFICIAL!$AG$4:$AR$111,CONCATENATE(S$2,\" : \",$A19))+COUNTIF(OFFICIAL!$AG$4:$AR$111,CONCATENATE($A19,\" : \",S$2))","v":0},{"$f":"COUNTIF(OFFICIAL!$AG$4:$AR$111,CONCATENATE(T$2,\" : \",$A19))+COUNTIF(OFFICIAL!$AG$4:$AR$111,CONCATENATE($A19,\" : \",T$2))","v":0},{"$f":"COUNTIF(OFFICIAL!$AG$4:$AR$111,CONCATENATE(U$2,\" : \",$A19))+COUNTIF(OFFICIAL!$AG$4:$AR$111,CONCATENATE($A19,\" : \",U$2))","v":0},{"$f":"COUNTIF(OFFICIAL!$AG$4:$AR$111,CONCATENATE(V$2,\" : \",$A19))+COUNTIF(OFFICIAL!$AG$4:$AR$111,CONCATENATE($A19,\" : \",V$2))","v":0},{"$f":"COUNTIF(OFFICIAL!$AG$4:$AR$111,CONCATENATE(W$2,\" : \",$A19))+COUNTIF(OFFICIAL!$AG$4:$AR$111,CONCATENATE($A19,\" : \",W$2))","v":0},{"$f":"COUNTIF(OFFICIAL!$AG$4:$AR$111,CONCATENATE(X$2,\" : \",$A19))+COUNTIF(OFFICIAL!$AG$4:$AR$111,CONCATENATE($A19,\" : \",X$2))","v":0},{"$f":"COUNTIF(OFFICIAL!$AG$4:$AR$111,CONCATENATE(Y$2,\" : \",$A19))+COUNTIF(OFFICIAL!$AG$4:$AR$111,CONCATENATE($A19,\" : \",Y$2))","v":0},{"$f":"COUNTIF(OFFICIAL!$AG$4:$AR$111,CONCATENATE(Z$2,\" : \",$A19))+COUNTIF(OFFICIAL!$AG$4:$AR$111,CONCATENATE($A19,\" : \",Z$2))","v":0},{"$f":"COUNTIF(OFFICIAL!$AG$4:$AR$111,CONCATENATE(AA$2,\" : \",$A19))+COUNTIF(OFFICIAL!$AG$4:$AR$111,CONCATENATE($A19,\" : \",AA$2))","v":0},{"$f":"COUNTIF(OFFICIAL!$AG$4:$AR$111,CONCATENATE(AB$2,\" : \",$A19))+COUNTIF(OFFICIAL!$AG$4:$AR$111,CONCATENATE($A19,\" : \",AB$2))","v":0},{"$f":"COUNTIF(OFFICIAL!$AG$4:$AR$111,CONCATENATE(AC$2,\" : \",$A19))+COUNTIF(OFFICIAL!$AG$4:$AR$111,CONCATENATE($A19,\" : \",AC$2))","v":0},{"$f":"COUNTIF(OFFICIAL!$AG$4:$AR$111,CONCATENATE(AD$2,\" : \",$A19))+COUNTIF(OFFICIAL!$AG$4:$AR$111,CONCATENATE($A19,\" : \",AD$2))","v":0},{"$f":"COUNTIF(OFFICIAL!$AG$4:$AR$111,CONCATENATE(AE$2,\" : \",$A19))+COUNTIF(OFFICIAL!$AG$4:$AR$111,CONCATENATE($A19,\" : \",AE$2))","v":0}]
[{"$f":"IF(DATA!$F21=\"\",\" \",DATA!$F21)","v":" "},{"$f":"COUNTIF(OFFICIAL!$AG$4:$AR$111,CONCATENATE(B$2,\" : \",$A20))+COUNTIF(OFFICIAL!$AG$4:$AR$111,CONCATENATE($A20,\" : \",B$2))","v":0},{"$f":"COUNTIF(OFFICIAL!$AG$4:$AR$111,CONCATENATE(C$2,\" : \",$A20))+COUNTIF(OFFICIAL!$AG$4:$AR$111,CONCATENATE($A20,\" : \",C$2))","v":0},{"$f":"COUNTIF(OFFICIAL!$AG$4:$AR$111,CONCATENATE(D$2,\" : \",$A20))+COUNTIF(OFFICIAL!$AG$4:$AR$111,CONCATENATE($A20,\" : \",D$2))","v":0},{"$f":"COUNTIF(OFFICIAL!$AG$4:$AR$111,CONCATENATE(E$2,\" : \",$A20))+COUNTIF(OFFICIAL!$AG$4:$AR$111,CONCATENATE($A20,\" : \",E$2))","v":0},{"$f":"COUNTIF(OFFICIAL!$AG$4:$AR$111,CONCATENATE(F$2,\" : \",$A20))+COUNTIF(OFFICIAL!$AG$4:$AR$111,CONCATENATE($A20,\" : \",F$2))","v":0},{"$f":"COUNTIF(OFFICIAL!$AG$4:$AR$111,CONCATENATE(G$2,\" : \",$A20))+COUNTIF(OFFICIAL!$AG$4:$AR$111,CONCATENATE($A20,\" : \",G$2))","v":0},{"$f":"COUNTIF(OFFICIAL!$AG$4:$AR$111,CONCATENATE(H$2,\" : \",$A20))+COUNTIF(OFFICIAL!$AG$4:$AR$111,CONCATENATE($A20,\" : \",H$2))","v":0},{"$f":"COUNTIF(OFFICIAL!$AG$4:$AR$111,CONCATENATE(I$2,\" : \",$A20))+COUNTIF(OFFICIAL!$AG$4:$AR$111,CONCATENATE($A20,\" : \",I$2))","v":0},{"$f":"COUNTIF(OFFICIAL!$AG$4:$AR$111,CONCATENATE(J$2,\" : \",$A20))+COUNTIF(OFFICIAL!$AG$4:$AR$111,CONCATENATE($A20,\" : \",J$2))","v":0},{"$f":"COUNTIF(OFFICIAL!$AG$4:$AR$111,CONCATENATE(K$2,\" : \",$A20))+COUNTIF(OFFICIAL!$AG$4:$AR$111,CONCATENATE($A20,\" : \",K$2))","v":0},{"$f":"COUNTIF(OFFICIAL!$AG$4:$AR$111,CONCATENATE(L$2,\" : \",$A20))+COUNTIF(OFFICIAL!$AG$4:$AR$111,CONCATENATE($A20,\" : \",L$2))","v":0},{"$f":"COUNTIF(OFFICIAL!$AG$4:$AR$111,CONCATENATE(M$2,\" : \",$A20))+COUNTIF(OFFICIAL!$AG$4:$AR$111,CONCATENATE($A20,\" : \",M$2))","v":0},{"$f":"COUNTIF(OFFICIAL!$AG$4:$AR$111,CONCATENATE(N$2,\" : \",$A20))+COUNTIF(OFFICIAL!$AG$4:$AR$111,CONCATENATE($A20,\" : \",N$2))","v":0},{"$f":"COUNTIF(OFFICIAL!$AG$4:$AR$111,CONCATENATE(O$2,\" : \",$A20))+COUNTIF(OFFICIAL!$AG$4:$AR$111,CONCATENATE($A20,\" : \",O$2))","v":0},{"$f":"COUNTIF(OFFICIAL!$AG$4:$AR$111,CONCATENATE(P$2,\" : \",$A20))+COUNTIF(OFFICIAL!$AG$4:$AR$111,CONCATENATE($A20,\" : \",P$2))","v":0},{"$f":"COUNTIF(OFFICIAL!$AG$4:$AR$111,CONCATENATE(Q$2,\" : \",$A20))+COUNTIF(OFFICIAL!$AG$4:$AR$111,CONCATENATE($A20,\" : \",Q$2))","v":0},{"$f":"COUNTIF(OFFICIAL!$AG$4:$AR$111,CONCATENATE(R$2,\" : \",$A20))+COUNTIF(OFFICIAL!$AG$4:$AR$111,CONCATENATE($A20,\" : \",R$2))","v":0},{"$f":"COUNTIF(OFFICIAL!$AG$4:$AR$111,CONCATENATE(S$2,\" : \",$A20))+COUNTIF(OFFICIAL!$AG$4:$AR$111,CONCATENATE($A20,\" : \",S$2))","v":0},{"$f":"COUNTIF(OFFICIAL!$AG$4:$AR$111,CONCATENATE(T$2,\" : \",$A20))+COUNTIF(OFFICIAL!$AG$4:$AR$111,CONCATENATE($A20,\" : \",T$2))","v":0},{"$f":"COUNTIF(OFFICIAL!$AG$4:$AR$111,CONCATENATE(U$2,\" : \",$A20))+COUNTIF(OFFICIAL!$AG$4:$AR$111,CONCATENATE($A20,\" : \",U$2))","v":0},{"$f":"COUNTIF(OFFICIAL!$AG$4:$AR$111,CONCATENATE(V$2,\" : \",$A20))+COUNTIF(OFFICIAL!$AG$4:$AR$111,CONCATENATE($A20,\" : \",V$2))","v":0},{"$f":"COUNTIF(OFFICIAL!$AG$4:$AR$111,CONCATENATE(W$2,\" : \",$A20))+COUNTIF(OFFICIAL!$AG$4:$AR$111,CONCATENATE($A20,\" : \",W$2))","v":0},{"$f":"COUNTIF(OFFICIAL!$AG$4:$AR$111,CONCATENATE(X$2,\" : \",$A20))+COUNTIF(OFFICIAL!$AG$4:$AR$111,CONCATENATE($A20,\" : \",X$2))","v":0},{"$f":"COUNTIF(OFFICIAL!$AG$4:$AR$111,CONCATENATE(Y$2,\" : \",$A20))+COUNTIF(OFFICIAL!$AG$4:$AR$111,CONCATENATE($A20,\" : \",Y$2))","v":0},{"$f":"COUNTIF(OFFICIAL!$AG$4:$AR$111,CONCATENATE(Z$2,\" : \",$A20))+COUNTIF(OFFICIAL!$AG$4:$AR$111,CONCATENATE($A20,\" : \",Z$2))","v":0},{"$f":"COUNTIF(OFFICIAL!$AG$4:$AR$111,CONCATENATE(AA$2,\" : \",$A20))+COUNTIF(OFFICIAL!$AG$4:$AR$111,CONCATENATE($A20,\" : \",AA$2))","v":0},{"$f":"COUNTIF(OFFICIAL!$AG$4:$AR$111,CONCATENATE(AB$2,\" : \",$A20))+COUNTIF(OFFICIAL!$AG$4:$AR$111,CONCATENATE($A20,\" : \",AB$2))","v":0},{"$f":"COUNTIF(OFFICIAL!$AG$4:$AR$111,CONCATENATE(AC$2,\" : \",$A20))+COUNTIF(OFFICIAL!$AG$4:$AR$111,CONCATENATE($A20,\" : \",AC$2))","v":0},{"$f":"COUNTIF(OFFICIAL!$AG$4:$AR$111,CONCATENATE(AD$2,\" : \",$A20))+COUNTIF(OFFICIAL!$AG$4:$AR$111,CONCATENATE($A20,\" : \",AD$2))","v":0},{"$f":"COUNTIF(OFFICIAL!$AG$4:$AR$111,CONCATENATE(AE$2,\" : \",$A20))+COUNTIF(OFFICIAL!$AG$4:$AR$111,CONCATENATE($A20,\" : \",AE$2))","v":0}]
[{"$f":"IF(DATA!$F22=\"\",\" \",DATA!$F22)","v":" "},{"$f":"COUNTIF(OFFICIAL!$AG$4:$AR$111,CONCATENATE(B$2,\" : \",$A21))+COUNTIF(OFFICIAL!$AG$4:$AR$111,CONCATENATE($A21,\" : \",B$2))","v":0},{"$f":"COUNTIF(OFFICIAL!$AG$4:$AR$111,CONCATENATE(C$2,\" : \",$A21))+COUNTIF(OFFICIAL!$AG$4:$AR$111,CONCATENATE($A21,\" : \",C$2))","v":0},{"$f":"COUNTIF(OFFICIAL!$AG$4:$AR$111,CONCATENATE(D$2,\" : \",$A21))+COUNTIF(OFFICIAL!$AG$4:$AR$111,CONCATENATE($A21,\" : \",D$2))","v":0},{"$f":"COUNTIF(OFFICIAL!$AG$4:$AR$111,CONCATENATE(E$2,\" : \",$A21))+COUNTIF(OFFICIAL!$AG$4:$AR$111,CONCATENATE($A21,\" : \",E$2))","v":0},{"$f":"COUNTIF(OFFICIAL!$AG$4:$AR$111,CONCATENATE(F$2,\" : \",$A21))+COUNTIF(OFFICIAL!$AG$4:$AR$111,CONCATENATE($A21,\" : \",F$2))","v":0},{"$f":"COUNTIF(OFFICIAL!$AG$4:$AR$111,CONCATENATE(G$2,\" : \",$A21))+COUNTIF(OFFICIAL!$AG$4:$AR$111,CONCATENATE($A21,\" : \",G$2))","v":0},{"$f":"COUNTIF(OFFICIAL!$AG$4:$AR$111,CONCATENATE(H$2,\" : \",$A21))+COUNTIF(OFFICIAL!$AG$4:$AR$111,CONCATENATE($A21,\" : \",H$2))","v":0},{"$f":"COUNTIF(OFFICIAL!$AG$4:$AR$111,CONCATENATE(I$2,\" : \",$A21))+COUNTIF(OFFICIAL!$AG$4:$AR$111,CONCATENATE($A21,\" : \",I$2))","v":0},{"$f":"COUNTIF(OFFICIAL!$AG$4:$AR$111,CONCATENATE(J$2,\" : \",$A21))+COUNTIF(OFFICIAL!$AG$4:$AR$111,CONCATENATE($A21,\" : \",J$2))","v":0},{"$f":"COUNTIF(OFFICIAL!$AG$4:$AR$111,CONCATENATE(K$2,\" : \",$A21))+COUNTIF(OFFICIAL!$AG$4:$AR$111,CONCATENATE($A21,\" : \",K$2))","v":0},{"$f":"COUNTIF(OFFICIAL!$AG$4:$AR$111,CONCATENATE(L$2,\" : \",$A21))+COUNTIF(OFFICIAL!$AG$4:$AR$111,CONCATENATE($A21,\" : \",L$2))","v":0},{"$f":"COUNTIF(OFFICIAL!$AG$4:$AR$111,CONCATENATE(M$2,\" : \",$A21))+COUNTIF(OFFICIAL!$AG$4:$AR$111,CONCATENATE($A21,\" : \",M$2))","v":0},{"$f":"COUNTIF(OFFICIAL!$AG$4:$AR$111,CONCATENATE(N$2,\" : \",$A21))+COUNTIF(OFFICIAL!$AG$4:$AR$111,CONCATENATE($A21,\" : \",N$2))","v":0},{"$f":"COUNTIF(OFFICIAL!$AG$4:$AR$111,CONCATENATE(O$2,\" : \",$A21))+COUNTIF(OFFICIAL!$AG$4:$AR$111,CONCATENATE($A21,\" : \",O$2))","v":0},{"$f":"COUNTIF(OFFICIAL!$AG$4:$AR$111,CONCATENATE(P$2,\" : \",$A21))+COUNTIF(OFFICIAL!$AG$4:$AR$111,CONCATENATE($A21,\" : \",P$2))","v":0},{"$f":"COUNTIF(OFFICIAL!$AG$4:$AR$111,CONCATENATE(Q$2,\" : \",$A21))+COUNTIF(OFFICIAL!$AG$4:$AR$111,CONCATENATE($A21,\" : \",Q$2))","v":0},{"$f":"COUNTIF(OFFICIAL!$AG$4:$AR$111,CONCATENATE(R$2,\" : \",$A21))+COUNTIF(OFFICIAL!$AG$4:$AR$111,CONCATENATE($A21,\" : \",R$2))","v":0},{"$f":"COUNTIF(OFFICIAL!$AG$4:$AR$111,CONCATENATE(S$2,\" : \",$A21))+COUNTIF(OFFICIAL!$AG$4:$AR$111,CONCATENATE($A21,\" : \",S$2))","v":0},{"$f":"COUNTIF(OFFICIAL!$AG$4:$AR$111,CONCATENATE(T$2,\" : \",$A21))+COUNTIF(OFFICIAL!$AG$4:$AR$111,CONCATENATE($A21,\" : \",T$2))","v":0},{"$f":"COUNTIF(OFFICIAL!$AG$4:$AR$111,CONCATENATE(U$2,\" : \",$A21))+COUNTIF(OFFICIAL!$AG$4:$AR$111,CONCATENATE($A21,\" : \",U$2))","v":0},{"$f":"COUNTIF(OFFICIAL!$AG$4:$AR$111,CONCATENATE(V$2,\" : \",$A21))+COUNTIF(OFFICIAL!$AG$4:$AR$111,CONCATENATE($A21,\" : \",V$2))","v":0},{"$f":"COUNTIF(OFFICIAL!$AG$4:$AR$111,CONCATENATE(W$2,\" : \",$A21))+COUNTIF(OFFICIAL!$AG$4:$AR$111,CONCATENATE($A21,\" : \",W$2))","v":0},{"$f":"COUNTIF(OFFICIAL!$AG$4:$AR$111,CONCATENATE(X$2,\" : \",$A21))+COUNTIF(OFFICIAL!$AG$4:$AR$111,CONCATENATE($A21,\" : \",X$2))","v":0},{"$f":"COUNTIF(OFFICIAL!$AG$4:$AR$111,CONCATENATE(Y$2,\" : \",$A21))+COUNTIF(OFFICIAL!$AG$4:$AR$111,CONCATENATE($A21,\" : \",Y$2))","v":0},{"$f":"COUNTIF(OFFICIAL!$AG$4:$AR$111,CONCATENATE(Z$2,\" : \",$A21))+COUNTIF(OFFICIAL!$AG$4:$AR$111,CONCATENATE($A21,\" : \",Z$2))","v":0},{"$f":"COUNTIF(OFFICIAL!$AG$4:$AR$111,CONCATENATE(AA$2,\" : \",$A21))+COUNTIF(OFFICIAL!$AG$4:$AR$111,CONCATENATE($A21,\" : \",AA$2))","v":0},{"$f":"COUNTIF(OFFICIAL!$AG$4:$AR$111,CONCATENATE(AB$2,\" : \",$A21))+COUNTIF(OFFICIAL!$AG$4:$AR$111,CONCATENATE($A21,\" : \",AB$2))","v":0},{"$f":"COUNTIF(OFFICIAL!$AG$4:$AR$111,CONCATENATE(AC$2,\" : \",$A21))+COUNTIF(OFFICIAL!$AG$4:$AR$111,CONCATENATE($A21,\" : \",AC$2))","v":0},{"$f":"COUNTIF(OFFICIAL!$AG$4:$AR$111,CONCATENATE(AD$2,\" : \",$A21))+COUNTIF(OFFICIAL!$AG$4:$AR$111,CONCATENATE($A21,\" : \",AD$2))","v":0},{"$f":"COUNTIF(OFFICIAL!$AG$4:$AR$111,CONCATENATE(AE$2,\" : \",$A21))+COUNTIF(OFFICIAL!$AG$4:$AR$111,CONCATENATE($A21,\" : \",AE$2))","v":0}]
[{"$f":"IF(DATA!$F23=\"\",\" \",DATA!$F23)","v":" "},{"$f":"COUNTIF(OFFICIAL!$AG$4:$AR$111,CONCATENATE(B$2,\" : \",$A22))+COUNTIF(OFFICIAL!$AG$4:$AR$111,CONCATENATE($A22,\" : \",B$2))","v":0},{"$f":"COUNTIF(OFFICIAL!$AG$4:$AR$111,CONCATENATE(C$2,\" : \",$A22))+COUNTIF(OFFICIAL!$AG$4:$AR$111,CONCATENATE($A22,\" : \",C$2))","v":0},{"$f":"COUNTIF(OFFICIAL!$AG$4:$AR$111,CONCATENATE(D$2,\" : \",$A22))+COUNTIF(OFFICIAL!$AG$4:$AR$111,CONCATENATE($A22,\" : \",D$2))","v":0},{"$f":"COUNTIF(OFFICIAL!$AG$4:$AR$111,CONCATENATE(E$2,\" : \",$A22))+COUNTIF(OFFICIAL!$AG$4:$AR$111,CONCATENATE($A22,\" : \",E$2))","v":0},{"$f":"COUNTIF(OFFICIAL!$AG$4:$AR$111,CONCATENATE(F$2,\" : \",$A22))+COUNTIF(OFFICIAL!$AG$4:$AR$111,CONCATENATE($A22,\" : \",F$2))","v":0},{"$f":"COUNTIF(OFFICIAL!$AG$4:$AR$111,CONCATENATE(G$2,\" : \",$A22))+COUNTIF(OFFICIAL!$AG$4:$AR$111,CONCATENATE($A22,\" : \",G$2))","v":0},{"$f":"COUNTIF(OFFICIAL!$AG$4:$AR$111,CONCATENATE(H$2,\" : \",$A22))+COUNTIF(OFFICIAL!$AG$4:$AR$111,CONCATENATE($A22,\" : \",H$2))","v":0},{"$f":"COUNTIF(OFFICIAL!$AG$4:$AR$111,CONCATENATE(I$2,\" : \",$A22))+COUNTIF(OFFICIAL!$AG$4:$AR$111,CONCATENATE($A22,\" : \",I$2))","v":0},{"$f":"COUNTIF(OFFICIAL!$AG$4:$AR$111,CONCATENATE(J$2,\" : \",$A22))+COUNTIF(OFFICIAL!$AG$4:$AR$111,CONCATENATE($A22,\" : \",J$2))","v":0},{"$f":"COUNTIF(OFFICIAL!$AG$4:$AR$111,CONCATENATE(K$2,\" : \",$A22))+COUNTIF(OFFICIAL!$AG$4:$AR$111,CONCATENATE($A22,\" : \",K$2))","v":0},{"$f":"COUNTIF(OFFICIAL!$AG$4:$AR$111,CONCATENATE(L$2,\" : \",$A22))+COUNTIF(OFFICIAL!$AG$4:$AR$111,CONCATENATE($A22,\" : \",L$2))","v":0},{"$f":"COUNTIF(OFFICIAL!$AG$4:$AR$111,CONCATENATE(M$2,\" : \",$A22))+COUNTIF(OFFICIAL!$AG$4:$AR$111,CONCATENATE($A22,\" : \",M$2))","v":0},{"$f":"COUNTIF(OFFICIAL!$AG$4:$AR$111,CONCATENATE(N$2,\" : \",$A22))+COUNTIF(OFFICIAL!$AG$4:$AR$111,CONCATENATE($A22,\" : \",N$2))","v":0},{"$f":"COUNTIF(OFFICIAL!$AG$4:$AR$111,CONCATENATE(O$2,\" : \",$A22))+COUNTIF(OFFICIAL!$AG$4:$AR$111,CONCATENATE($A22,\" : \",O$2))","v":0},{"$f":"COUNTIF(OFFICIAL!$AG$4:$AR$111,CONCATENATE(P$2,\" : \",$A22))+COUNTIF(OFFICIAL!$AG$4:$AR$111,CONCATENATE($A22,\" : \",P$2))","v":0},{"$f":"COUNTIF(OFFICIAL!$AG$4:$AR$111,CONCATENATE(Q$2,\" : \",$A22))+COUNTIF(OFFICIAL!$AG$4:$AR$111,CONCATENATE($A22,\" : \",Q$2))","v":0},{"$f":"COUNTIF(OFFICIAL!$AG$4:$AR$111,CONCATENATE(R$2,\" : \",$A22))+COUNTIF(OFFICIAL!$AG$4:$AR$111,CONCATENATE($A22,\" : \",R$2))","v":0},{"$f":"COUNTIF(OFFICIAL!$AG$4:$AR$111,CONCATENATE(S$2,\" : \",$A22))+COUNTIF(OFFICIAL!$AG$4:$AR$111,CONCATENATE($A22,\" : \",S$2))","v":0},{"$f":"COUNTIF(OFFICIAL!$AG$4:$AR$111,CONCATENATE(T$2,\" : \",$A22))+COUNTIF(OFFICIAL!$AG$4:$AR$111,CONCATENATE($A22,\" : \",T$2))","v":0},{"$f":"COUNTIF(OFFICIAL!$AG$4:$AR$111,CONCATENATE(U$2,\" : \",$A22))+COUNTIF(OFFICIAL!$AG$4:$AR$111,CONCATENATE($A22,\" : \",U$2))","v":0},{"$f":"COUNTIF(OFFICIAL!$AG$4:$AR$111,CONCATENATE(V$2,\" : \",$A22))+COUNTIF(OFFICIAL!$AG$4:$AR$111,CONCATENATE($A22,\" : \",V$2))","v":0},{"$f":"COUNTIF(OFFICIAL!$AG$4:$AR$111,CONCATENATE(W$2,\" : \",$A22))+COUNTIF(OFFICIAL!$AG$4:$AR$111,CONCATENATE($A22,\" : \",W$2))","v":0},{"$f":"COUNTIF(OFFICIAL!$AG$4:$AR$111,CONCATENATE(X$2,\" : \",$A22))+COUNTIF(OFFICIAL!$AG$4:$AR$111,CONCATENATE($A22,\" : \",X$2))","v":0},{"$f":"COUNTIF(OFFICIAL!$AG$4:$AR$111,CONCATENATE(Y$2,\" : \",$A22))+COUNTIF(OFFICIAL!$AG$4:$AR$111,CONCATENATE($A22,\" : \",Y$2))","v":0},{"$f":"COUNTIF(OFFICIAL!$AG$4:$AR$111,CONCATENATE(Z$2,\" : \",$A22))+COUNTIF(OFFICIAL!$AG$4:$AR$111,CONCATENATE($A22,\" : \",Z$2))","v":0},{"$f":"COUNTIF(OFFICIAL!$AG$4:$AR$111,CONCATENATE(AA$2,\" : \",$A22))+COUNTIF(OFFICIAL!$AG$4:$AR$111,CONCATENATE($A22,\" : \",AA$2))","v":0},{"$f":"COUNTIF(OFFICIAL!$AG$4:$AR$111,CONCATENATE(AB$2,\" : \",$A22))+COUNTIF(OFFICIAL!$AG$4:$AR$111,CONCATENATE($A22,\" : \",AB$2))","v":0},{"$f":"COUNTIF(OFFICIAL!$AG$4:$AR$111,CONCATENATE(AC$2,\" : \",$A22))+COUNTIF(OFFICIAL!$AG$4:$AR$111,CONCATENATE($A22,\" : \",AC$2))","v":0},{"$f":"COUNTIF(OFFICIAL!$AG$4:$AR$111,CONCATENATE(AD$2,\" : \",$A22))+COUNTIF(OFFICIAL!$AG$4:$AR$111,CONCATENATE($A22,\" : \",AD$2))","v":0},{"$f":"COUNTIF(OFFICIAL!$AG$4:$AR$111,CONCATENATE(AE$2,\" : \",$A22))+COUNTIF(OFFICIAL!$AG$4:$AR$111,CONCATENATE($A22,\" : \",AE$2))","v":0}]
[{"$f":"IF(DATA!$F24=\"\",\" \",DATA!$F24)","v":" "},{"$f":"COUNTIF(OFFICIAL!$AG$4:$AR$111,CONCATENATE(B$2,\" : \",$A23))+COUNTIF(OFFICIAL!$AG$4:$AR$111,CONCATENATE($A23,\" : \",B$2))","v":0},{"$f":"COUNTIF(OFFICIAL!$AG$4:$AR$111,CONCATENATE(C$2,\" : \",$A23))+COUNTIF(OFFICIAL!$AG$4:$AR$111,CONCATENATE($A23,\" : \",C$2))","v":0},{"$f":"COUNTIF(OFFICIAL!$AG$4:$AR$111,CONCATENATE(D$2,\" : \",$A23))+COUNTIF(OFFICIAL!$AG$4:$AR$111,CONCATENATE($A23,\" : \",D$2))","v":0},{"$f":"COUNTIF(OFFICIAL!$AG$4:$AR$111,CONCATENATE(E$2,\" : \",$A23))+COUNTIF(OFFICIAL!$AG$4:$AR$111,CONCATENATE($A23,\" : \",E$2))","v":0},{"$f":"COUNTIF(OFFICIAL!$AG$4:$AR$111,CONCATENATE(F$2,\" : \",$A23))+COUNTIF(OFFICIAL!$AG$4:$AR$111,CONCATENATE($A23,\" : \",F$2))","v":0},{"$f":"COUNTIF(OFFICIAL!$AG$4:$AR$111,CONCATENATE(G$2,\" : \",$A23))+COUNTIF(OFFICIAL!$AG$4:$AR$111,CONCATENATE($A23,\" : \",G$2))","v":0},{"$f":"COUNTIF(OFFICIAL!$AG$4:$AR$111,CONCATENATE(H$2,\" : \",$A23))+COUNTIF(OFFICIAL!$AG$4:$AR$111,CONCATENATE($A23,\" : \",H$2))","v":0},{"$f":"COUNTIF(OFFICIAL!$AG$4:$AR$111,CONCATENATE(I$2,\" : \",$A23))+COUNTIF(OFFICIAL!$AG$4:$AR$111,CONCATENATE($A23,\" : \",I$2))","v":0},{"$f":"COUNTIF(OFFICIAL!$AG$4:$AR$111,CONCATENATE(J$2,\" : \",$A23))+COUNTIF(OFFICIAL!$AG$4:$AR$111,CONCATENATE($A23,\" : \",J$2))","v":0},{"$f":"COUNTIF(OFFICIAL!$AG$4:$AR$111,CONCATENATE(K$2,\" : \",$A23))+COUNTIF(OFFICIAL!$AG$4:$AR$111,CONCATENATE($A23,\" : \",K$2))","v":0},{"$f":"COUNTIF(OFFICIAL!$AG$4:$AR$111,CONCATENATE(L$2,\" : \",$A23))+COUNTIF(OFFICIAL!$AG$4:$AR$111,CONCATENATE($A23,\" : \",L$2))","v":0},{"$f":"COUNTIF(OFFICIAL!$AG$4:$AR$111,CONCATENATE(M$2,\" : \",$A23))+COUNTIF(OFFICIAL!$AG$4:$AR$111,CONCATENATE($A23,\" : \",M$2))","v":0},{"$f":"COUNTIF(OFFICIAL!$AG$4:$AR$111,CONCATENATE(N$2,\" : \",$A23))+COUNTIF(OFFICIAL!$AG$4:$AR$111,CONCATENATE($A23,\" : \",N$2))","v":0},{"$f":"COUNTIF(OFFICIAL!$AG$4:$AR$111,CONCATENATE(O$2,\" : \",$A23))+COUNTIF(OFFICIAL!$AG$4:$AR$111,CONCATENATE($A23,\" : \",O$2))","v":0},{"$f":"COUNTIF(OFFICIAL!$AG$4:$AR$111,CONCATENATE(P$2,\" : \",$A23))+COUNTIF(OFFICIAL!$AG$4:$AR$111,CONCATENATE($A23,\" : \",P$2))","v":0},{"$f":"COUNTIF(OFFICIAL!$AG$4:$AR$111,CONCATENATE(Q$2,\" : \",$A23))+COUNTIF(OFFICIAL!$AG$4:$AR$111,CONCATENATE($A23,\" : \",Q$2))","v":0},{"$f":"COUNTIF(OFFICIAL!$AG$4:$AR$111,CONCATENATE(R$2,\" : \",$A23))+COUNTIF(OFFICIAL!$AG$4:$AR$111,CONCATENATE($A23,\" : \",R$2))","v":0},{"$f":"COUNTIF(OFFICIAL!$AG$4:$AR$111,CONCATENATE(S$2,\" : \",$A23))+COUNTIF(OFFICIAL!$AG$4:$AR$111,CONCATENATE($A23,\" : \",S$2))","v":0},{"$f":"COUNTIF(OFFICIAL!$AG$4:$AR$111,CONCATENATE(T$2,\" : \",$A23))+COUNTIF(OFFICIAL!$AG$4:$AR$111,CONCATENATE($A23,\" : \",T$2))","v":0},{"$f":"COUNTIF(OFFICIAL!$AG$4:$AR$111,CONCATENATE(U$2,\" : \",$A23))+COUNTIF(OFFICIAL!$AG$4:$AR$111,CONCATENATE($A23,\" : \",U$2))","v":0},{"$f":"COUNTIF(OFFICIAL!$AG$4:$AR$111,CONCATENATE(V$2,\" : \",$A23))+COUNTIF(OFFICIAL!$AG$4:$AR$111,CONCATENATE($A23,\" : \",V$2))","v":0},{"$f":"COUNTIF(OFFICIAL!$AG$4:$AR$111,CONCATENATE(W$2,\" : \",$A23))+COUNTIF(OFFICIAL!$AG$4:$AR$111,CONCATENATE($A23,\" : \",W$2))","v":0},{"$f":"COUNTIF(OFFICIAL!$AG$4:$AR$111,CONCATENATE(X$2,\" : \",$A23))+COUNTIF(OFFICIAL!$AG$4:$AR$111,CONCATENATE($A23,\" : \",X$2))","v":0},{"$f":"COUNTIF(OFFICIAL!$AG$4:$AR$111,CONCATENATE(Y$2,\" : \",$A23))+COUNTIF(OFFICIAL!$AG$4:$AR$111,CONCATENATE($A23,\" : \",Y$2))","v":0},{"$f":"COUNTIF(OFFICIAL!$AG$4:$AR$111,CONCATENATE(Z$2,\" : \",$A23))+COUNTIF(OFFICIAL!$AG$4:$AR$111,CONCATENATE($A23,\" : \",Z$2))","v":0},{"$f":"COUNTIF(OFFICIAL!$AG$4:$AR$111,CONCATENATE(AA$2,\" : \",$A23))+COUNTIF(OFFICIAL!$AG$4:$AR$111,CONCATENATE($A23,\" : \",AA$2))","v":0},{"$f":"COUNTIF(OFFICIAL!$AG$4:$AR$111,CONCATENATE(AB$2,\" : \",$A23))+COUNTIF(OFFICIAL!$AG$4:$AR$111,CONCATENATE($A23,\" : \",AB$2))","v":0},{"$f":"COUNTIF(OFFICIAL!$AG$4:$AR$111,CONCATENATE(AC$2,\" : \",$A23))+COUNTIF(OFFICIAL!$AG$4:$AR$111,CONCATENATE($A23,\" : \",AC$2))","v":0},{"$f":"COUNTIF(OFFICIAL!$AG$4:$AR$111,CONCATENATE(AD$2,\" : \",$A23))+COUNTIF(OFFICIAL!$AG$4:$AR$111,CONCATENATE($A23,\" : \",AD$2))","v":0},{"$f":"COUNTIF(OFFICIAL!$AG$4:$AR$111,CONCATENATE(AE$2,\" : \",$A23))+COUNTIF(OFFICIAL!$AG$4:$AR$111,CONCATENATE($A23,\" : \",AE$2))","v":0}]
[{"$f":"IF(DATA!$F25=\"\",\" \",DATA!$F25)","v":" "},{"$f":"COUNTIF(OFFICIAL!$AG$4:$AR$111,CONCATENATE(B$2,\" : \",$A24))+COUNTIF(OFFICIAL!$AG$4:$AR$111,CONCATENATE($A24,\" : \",B$2))","v":0},{"$f":"COUNTIF(OFFICIAL!$AG$4:$AR$111,CONCATENATE(C$2,\" : \",$A24))+COUNTIF(OFFICIAL!$AG$4:$AR$111,CONCATENATE($A24,\" : \",C$2))","v":0},{"$f":"COUNTIF(OFFICIAL!$AG$4:$AR$111,CONCATENATE(D$2,\" : \",$A24))+COUNTIF(OFFICIAL!$AG$4:$AR$111,CONCATENATE($A24,\" : \",D$2))","v":0},{"$f":"COUNTIF(OFFICIAL!$AG$4:$AR$111,CONCATENATE(E$2,\" : \",$A24))+COUNTIF(OFFICIAL!$AG$4:$AR$111,CONCATENATE($A24,\" : \",E$2))","v":0},{"$f":"COUNTIF(OFFICIAL!$AG$4:$AR$111,CONCATENATE(F$2,\" : \",$A24))+COUNTIF(OFFICIAL!$AG$4:$AR$111,CONCATENATE($A24,\" : \",F$2))","v":0},{"$f":"COUNTIF(OFFICIAL!$AG$4:$AR$111,CONCATENATE(G$2,\" : \",$A24))+COUNTIF(OFFICIAL!$AG$4:$AR$111,CONCATENATE($A24,\" : \",G$2))","v":0},{"$f":"COUNTIF(OFFICIAL!$AG$4:$AR$111,CONCATENATE(H$2,\" : \",$A24))+COUNTIF(OFFICIAL!$AG$4:$AR$111,CONCATENATE($A24,\" : \",H$2))","v":0},{"$f":"COUNTIF(OFFICIAL!$AG$4:$AR$111,CONCATENATE(I$2,\" : \",$A24))+COUNTIF(OFFICIAL!$AG$4:$AR$111,CONCATENATE($A24,\" : \",I$2))","v":0},{"$f":"COUNTIF(OFFICIAL!$AG$4:$AR$111,CONCATENATE(J$2,\" : \",$A24))+COUNTIF(OFFICIAL!$AG$4:$AR$111,CONCATENATE($A24,\" : \",J$2))","v":0},{"$f":"COUNTIF(OFFICIAL!$AG$4:$AR$111,CONCATENATE(K$2,\" : \",$A24))+COUNTIF(OFFICIAL!$AG$4:$AR$111,CONCATENATE($A24,\" : \",K$2))","v":0},{"$f":"COUNTIF(OFFICIAL!$AG$4:$AR$111,CONCATENATE(L$2,\" : \",$A24))+COUNTIF(OFFICIAL!$AG$4:$AR$111,CONCATENATE($A24,\" : \",L$2))","v":0},{"$f":"COUNTIF(OFFICIAL!$AG$4:$AR$111,CONCATENATE(M$2,\" : \",$A24))+COUNTIF(OFFICIAL!$AG$4:$AR$111,CONCATENATE($A24,\" : \",M$2))","v":0},{"$f":"COUNTIF(OFFICIAL!$AG$4:$AR$111,CONCATENATE(N$2,\" : \",$A24))+COUNTIF(OFFICIAL!$AG$4:$AR$111,CONCATENATE($A24,\" : \",N$2))","v":0},{"$f":"COUNTIF(OFFICIAL!$AG$4:$AR$111,CONCATENATE(O$2,\" : \",$A24))+COUNTIF(OFFICIAL!$AG$4:$AR$111,CONCATENATE($A24,\" : \",O$2))","v":0},{"$f":"COUNTIF(OFFICIAL!$AG$4:$AR$111,CONCATENATE(P$2,\" : \",$A24))+COUNTIF(OFFICIAL!$AG$4:$AR$111,CONCATENATE($A24,\" : \",P$2))","v":0},{"$f":"COUNTIF(OFFICIAL!$AG$4:$AR$111,CONCATENATE(Q$2,\" : \",$A24))+COUNTIF(OFFICIAL!$AG$4:$AR$111,CONCATENATE($A24,\" : \",Q$2))","v":0},{"$f":"COUNTIF(OFFICIAL!$AG$4:$AR$111,CONCATENATE(R$2,\" : \",$A24))+COUNTIF(OFFICIAL!$AG$4:$AR$111,CONCATENATE($A24,\" : \",R$2))","v":0},{"$f":"COUNTIF(OFFICIAL!$AG$4:$AR$111,CONCATENATE(S$2,\" : \",$A24))+COUNTIF(OFFICIAL!$AG$4:$AR$111,CONCATENATE($A24,\" : \",S$2))","v":0},{"$f":"COUNTIF(OFFICIAL!$AG$4:$AR$111,CONCATENATE(T$2,\" : \",$A24))+COUNTIF(OFFICIAL!$AG$4:$AR$111,CONCATENATE($A24,\" : \",T$2))","v":0},{"$f":"COUNTIF(OFFICIAL!$AG$4:$AR$111,CONCATENATE(U$2,\" : \",$A24))+COUNTIF(OFFICIAL!$AG$4:$AR$111,CONCATENATE($A24,\" : \",U$2))","v":0},{"$f":"COUNTIF(OFFICIAL!$AG$4:$AR$111,CONCATENATE(V$2,\" : \",$A24))+COUNTIF(OFFICIAL!$AG$4:$AR$111,CONCATENATE($A24,\" : \",V$2))","v":0},{"$f":"COUNTIF(OFFICIAL!$AG$4:$AR$111,CONCATENATE(W$2,\" : \",$A24))+COUNTIF(OFFICIAL!$AG$4:$AR$111,CONCATENATE($A24,\" : \",W$2))","v":0},{"$f":"COUNTIF(OFFICIAL!$AG$4:$AR$111,CONCATENATE(X$2,\" : \",$A24))+COUNTIF(OFFICIAL!$AG$4:$AR$111,CONCATENATE($A24,\" : \",X$2))","v":0},{"$f":"COUNTIF(OFFICIAL!$AG$4:$AR$111,CONCATENATE(Y$2,\" : \",$A24))+COUNTIF(OFFICIAL!$AG$4:$AR$111,CONCATENATE($A24,\" : \",Y$2))","v":0},{"$f":"COUNTIF(OFFICIAL!$AG$4:$AR$111,CONCATENATE(Z$2,\" : \",$A24))+COUNTIF(OFFICIAL!$AG$4:$AR$111,CONCATENATE($A24,\" : \",Z$2))","v":0},{"$f":"COUNTIF(OFFICIAL!$AG$4:$AR$111,CONCATENATE(AA$2,\" : \",$A24))+COUNTIF(OFFICIAL!$AG$4:$AR$111,CONCATENATE($A24,\" : \",AA$2))","v":0},{"$f":"COUNTIF(OFFICIAL!$AG$4:$AR$111,CONCATENATE(AB$2,\" : \",$A24))+COUNTIF(OFFICIAL!$AG$4:$AR$111,CONCATENATE($A24,\" : \",AB$2))","v":0},{"$f":"COUNTIF(OFFICIAL!$AG$4:$AR$111,CONCATENATE(AC$2,\" : \",$A24))+COUNTIF(OFFICIAL!$AG$4:$AR$111,CONCATENATE($A24,\" : \",AC$2))","v":0},{"$f":"COUNTIF(OFFICIAL!$AG$4:$AR$111,CONCATENATE(AD$2,\" : \",$A24))+COUNTIF(OFFICIAL!$AG$4:$AR$111,CONCATENATE($A24,\" : \",AD$2))","v":0},{"$f":"COUNTIF(OFFICIAL!$AG$4:$AR$111,CONCATENATE(AE$2,\" : \",$A24))+COUNTIF(OFFICIAL!$AG$4:$AR$111,CONCATENATE($A24,\" : \",AE$2))","v":0}]
[{"$f":"IF(DATA!$F26=\"\",\" \",DATA!$F26)","v":" "},{"$f":"COUNTIF(OFFICIAL!$AG$4:$AR$111,CONCATENATE(B$2,\" : \",$A25))+COUNTIF(OFFICIAL!$AG$4:$AR$111,CONCATENATE($A25,\" : \",B$2))","v":0},{"$f":"COUNTIF(OFFICIAL!$AG$4:$AR$111,CONCATENATE(C$2,\" : \",$A25))+COUNTIF(OFFICIAL!$AG$4:$AR$111,CONCATENATE($A25,\" : \",C$2))","v":0},{"$f":"COUNTIF(OFFICIAL!$AG$4:$AR$111,CONCATENATE(D$2,\" : \",$A25))+COUNTIF(OFFICIAL!$AG$4:$AR$111,CONCATENATE($A25,\" : \",D$2))","v":0},{"$f":"COUNTIF(OFFICIAL!$AG$4:$AR$111,CONCATENATE(E$2,\" : \",$A25))+COUNTIF(OFFICIAL!$AG$4:$AR$111,CONCATENATE($A25,\" : \",E$2))","v":0},{"$f":"COUNTIF(OFFICIAL!$AG$4:$AR$111,CONCATENATE(F$2,\" : \",$A25))+COUNTIF(OFFICIAL!$AG$4:$AR$111,CONCATENATE($A25,\" : \",F$2))","v":0},{"$f":"COUNTIF(OFFICIAL!$AG$4:$AR$111,CONCATENATE(G$2,\" : \",$A25))+COUNTIF(OFFICIAL!$AG$4:$AR$111,CONCATENATE($A25,\" : \",G$2))","v":0},{"$f":"COUNTIF(OFFICIAL!$AG$4:$AR$111,CONCATENATE(H$2,\" : \",$A25))+COUNTIF(OFFICIAL!$AG$4:$AR$111,CONCATENATE($A25,\" : \",H$2))","v":0},{"$f":"COUNTIF(OFFICIAL!$AG$4:$AR$111,CONCATENATE(I$2,\" : \",$A25))+COUNTIF(OFFICIAL!$AG$4:$AR$111,CONCATENATE($A25,\" : \",I$2))","v":0},{"$f":"COUNTIF(OFFICIAL!$AG$4:$AR$111,CONCATENATE(J$2,\" : \",$A25))+COUNTIF(OFFICIAL!$AG$4:$AR$111,CONCATENATE($A25,\" : \",J$2))","v":0},{"$f":"COUNTIF(OFFICIAL!$AG$4:$AR$111,CONCATENATE(K$2,\" : \",$A25))+COUNTIF(OFFICIAL!$AG$4:$AR$111,CONCATENATE($A25,\" : \",K$2))","v":0},{"$f":"COUNTIF(OFFICIAL!$AG$4:$AR$111,CONCATENATE(L$2,\" : \",$A25))+COUNTIF(OFFICIAL!$AG$4:$AR$111,CONCATENATE($A25,\" : \",L$2))","v":0},{"$f":"COUNTIF(OFFICIAL!$AG$4:$AR$111,CONCATENATE(M$2,\" : \",$A25))+COUNTIF(OFFICIAL!$AG$4:$AR$111,CONCATENATE($A25,\" : \",M$2))","v":0},{"$f":"COUNTIF(OFFICIAL!$AG$4:$AR$111,CONCATENATE(N$2,\" : \",$A25))+COUNTIF(OFFICIAL!$AG$4:$AR$111,CONCATENATE($A25,\" : \",N$2))","v":0},{"$f":"COUNTIF(OFFICIAL!$AG$4:$AR$111,CONCATENATE(O$2,\" : \",$A25))+COUNTIF(OFFICIAL!$AG$4:$AR$111,CONCATENATE($A25,\" : \",O$2))","v":0},{"$f":"COUNTIF(OFFICIAL!$AG$4:$AR$111,CONCATENATE(P$2,\" : \",$A25))+COUNTIF(OFFICIAL!$AG$4:$AR$111,CONCATENATE($A25,\" : \",P$2))","v":0},{"$f":"COUNTIF(OFFICIAL!$AG$4:$AR$111,CONCATENATE(Q$2,\" : \",$A25))+COUNTIF(OFFICIAL!$AG$4:$AR$111,CONCATENATE($A25,\" : \",Q$2))","v":0},{"$f":"COUNTIF(OFFICIAL!$AG$4:$AR$111,CONCATENATE(R$2,\" : \",$A25))+COUNTIF(OFFICIAL!$AG$4:$AR$111,CONCATENATE($A25,\" : \",R$2))","v":0},{"$f":"COUNTIF(OFFICIAL!$AG$4:$AR$111,CONCATENATE(S$2,\" : \",$A25))+COUNTIF(OFFICIAL!$AG$4:$AR$111,CONCATENATE($A25,\" : \",S$2))","v":0},{"$f":"COUNTIF(OFFICIAL!$AG$4:$AR$111,CONCATENATE(T$2,\" : \",$A25))+COUNTIF(OFFICIAL!$AG$4:$AR$111,CONCATENATE($A25,\" : \",T$2))","v":0},{"$f":"COUNTIF(OFFICIAL!$AG$4:$AR$111,CONCATENATE(U$2,\" : \",$A25))+COUNTIF(OFFICIAL!$AG$4:$AR$111,CONCATENATE($A25,\" : \",U$2))","v":0},{"$f":"COUNTIF(OFFICIAL!$AG$4:$AR$111,CONCATENATE(V$2,\" : \",$A25))+COUNTIF(OFFICIAL!$AG$4:$AR$111,CONCATENATE($A25,\" : \",V$2))","v":0},{"$f":"COUNTIF(OFFICIAL!$AG$4:$AR$111,CONCATENATE(W$2,\" : \",$A25))+COUNTIF(OFFICIAL!$AG$4:$AR$111,CONCATENATE($A25,\" : \",W$2))","v":0},{"$f":"COUNTIF(OFFICIAL!$AG$4:$AR$111,CONCATENATE(X$2,\" : \",$A25))+COUNTIF(OFFICIAL!$AG$4:$AR$111,CONCATENATE($A25,\" : \",X$2))","v":0},{"$f":"COUNTIF(OFFICIAL!$AG$4:$AR$111,CONCATENATE(Y$2,\" : \",$A25))+COUNTIF(OFFICIAL!$AG$4:$AR$111,CONCATENATE($A25,\" : \",Y$2))","v":0},{"$f":"COUNTIF(OFFICIAL!$AG$4:$AR$111,CONCATENATE(Z$2,\" : \",$A25))+COUNTIF(OFFICIAL!$AG$4:$AR$111,CONCATENATE($A25,\" : \",Z$2))","v":0},{"$f":"COUNTIF(OFFICIAL!$AG$4:$AR$111,CONCATENATE(AA$2,\" : \",$A25))+COUNTIF(OFFICIAL!$AG$4:$AR$111,CONCATENATE($A25,\" : \",AA$2))","v":0},{"$f":"COUNTIF(OFFICIAL!$AG$4:$AR$111,CONCATENATE(AB$2,\" : \",$A25))+COUNTIF(OFFICIAL!$AG$4:$AR$111,CONCATENATE($A25,\" : \",AB$2))","v":0},{"$f":"COUNTIF(OFFICIAL!$AG$4:$AR$111,CONCATENATE(AC$2,\" : \",$A25))+COUNTIF(OFFICIAL!$AG$4:$AR$111,CONCATENATE($A25,\" : \",AC$2))","v":0},{"$f":"COUNTIF(OFFICIAL!$AG$4:$AR$111,CONCATENATE(AD$2,\" : \",$A25))+COUNTIF(OFFICIAL!$AG$4:$AR$111,CONCATENATE($A25,\" : \",AD$2))","v":0},{"$f":"COUNTIF(OFFICIAL!$AG$4:$AR$111,CONCATENATE(AE$2,\" : \",$A25))+COUNTIF(OFFICIAL!$AG$4:$AR$111,CONCATENATE($A25,\" : \",AE$2))","v":0}]
[{"$f":"IF(DATA!$F27=\"\",\" \",DATA!$F27)","v":" "},{"$f":"COUNTIF(OFFICIAL!$AG$4:$AR$111,CONCATENATE(B$2,\" : \",$A26))+COUNTIF(OFFICIAL!$AG$4:$AR$111,CONCATENATE($A26,\" : \",B$2))","v":0},{"$f":"COUNTIF(OFFICIAL!$AG$4:$AR$111,CONCATENATE(C$2,\" : \",$A26))+COUNTIF(OFFICIAL!$AG$4:$AR$111,CONCATENATE($A26,\" : \",C$2))","v":0},{"$f":"COUNTIF(OFFICIAL!$AG$4:$AR$111,CONCATENATE(D$2,\" : \",$A26))+COUNTIF(OFFICIAL!$AG$4:$AR$111,CONCATENATE($A26,\" : \",D$2))","v":0},{"$f":"COUNTIF(OFFICIAL!$AG$4:$AR$111,CONCATENATE(E$2,\" : \",$A26))+COUNTIF(OFFICIAL!$AG$4:$AR$111,CONCATENATE($A26,\" : \",E$2))","v":0},{"$f":"COUNTIF(OFFICIAL!$AG$4:$AR$111,CONCATENATE(F$2,\" : \",$A26))+COUNTIF(OFFICIAL!$AG$4:$AR$111,CONCATENATE($A26,\" : \",F$2))","v":0},{"$f":"COUNTIF(OFFICIAL!$AG$4:$AR$111,CONCATENATE(G$2,\" : \",$A26))+COUNTIF(OFFICIAL!$AG$4:$AR$111,CONCATENATE($A26,\" : \",G$2))","v":0},{"$f":"COUNTIF(OFFICIAL!$AG$4:$AR$111,CONCATENATE(H$2,\" : \",$A26))+COUNTIF(OFFICIAL!$AG$4:$AR$111,CONCATENATE($A26,\" : \",H$2))","v":0},{"$f":"COUNTIF(OFFICIAL!$AG$4:$AR$111,CONCATENATE(I$2,\" : \",$A26))+COUNTIF(OFFICIAL!$AG$4:$AR$111,CONCATENATE($A26,\" : \",I$2))","v":0},{"$f":"COUNTIF(OFFICIAL!$AG$4:$AR$111,CONCATENATE(J$2,\" : \",$A26))+COUNTIF(OFFICIAL!$AG$4:$AR$111,CONCATENATE($A26,\" : \",J$2))","v":0},{"$f":"COUNTIF(OFFICIAL!$AG$4:$AR$111,CONCATENATE(K$2,\" : \",$A26))+COUNTIF(OFFICIAL!$AG$4:$AR$111,CONCATENATE($A26,\" : \",K$2))","v":0},{"$f":"COUNTIF(OFFICIAL!$AG$4:$AR$111,CONCATENATE(L$2,\" : \",$A26))+COUNTIF(OFFICIAL!$AG$4:$AR$111,CONCATENATE($A26,\" : \",L$2))","v":0},{"$f":"COUNTIF(OFFICIAL!$AG$4:$AR$111,CONCATENATE(M$2,\" : \",$A26))+COUNTIF(OFFICIAL!$AG$4:$AR$111,CONCATENATE($A26,\" : \",M$2))","v":0},{"$f":"COUNTIF(OFFICIAL!$AG$4:$AR$111,CONCATENATE(N$2,\" : \",$A26))+COUNTIF(OFFICIAL!$AG$4:$AR$111,CONCATENATE($A26,\" : \",N$2))","v":0},{"$f":"COUNTIF(OFFICIAL!$AG$4:$AR$111,CONCATENATE(O$2,\" : \",$A26))+COUNTIF(OFFICIAL!$AG$4:$AR$111,CONCATENATE($A26,\" : \",O$2))","v":0},{"$f":"COUNTIF(OFFICIAL!$AG$4:$AR$111,CONCATENATE(P$2,\" : \",$A26))+COUNTIF(OFFICIAL!$AG$4:$AR$111,CONCATENATE($A26,\" : \",P$2))","v":0},{"$f":"COUNTIF(OFFICIAL!$AG$4:$AR$111,CONCATENATE(Q$2,\" : \",$A26))+COUNTIF(OFFICIAL!$AG$4:$AR$111,CONCATENATE($A26,\" : \",Q$2))","v":0},{"$f":"COUNTIF(OFFICIAL!$AG$4:$AR$111,CONCATENATE(R$2,\" : \",$A26))+COUNTIF(OFFICIAL!$AG$4:$AR$111,CONCATENATE($A26,\" : \",R$2))","v":0},{"$f":"COUNTIF(OFFICIAL!$AG$4:$AR$111,CONCATENATE(S$2,\" : \",$A26))+COUNTIF(OFFICIAL!$AG$4:$AR$111,CONCATENATE($A26,\" : \",S$2))","v":0},{"$f":"COUNTIF(OFFICIAL!$AG$4:$AR$111,CONCATENATE(T$2,\" : \",$A26))+COUNTIF(OFFICIAL!$AG$4:$AR$111,CONCATENATE($A26,\" : \",T$2))","v":0},{"$f":"COUNTIF(OFFICIAL!$AG$4:$AR$111,CONCATENATE(U$2,\" : \",$A26))+COUNTIF(OFFICIAL!$AG$4:$AR$111,CONCATENATE($A26,\" : \",U$2))","v":0},{"$f":"COUNTIF(OFFICIAL!$AG$4:$AR$111,CONCATENATE(V$2,\" : \",$A26))+COUNTIF(OFFICIAL!$AG$4:$AR$111,CONCATENATE($A26,\" : \",V$2))","v":0},{"$f":"COUNTIF(OFFICIAL!$AG$4:$AR$111,CONCATENATE(W$2,\" : \",$A26))+COUNTIF(OFFICIAL!$AG$4:$AR$111,CONCATENATE($A26,\" : \",W$2))","v":0},{"$f":"COUNTIF(OFFICIAL!$AG$4:$AR$111,CONCATENATE(X$2,\" : \",$A26))+COUNTIF(OFFICIAL!$AG$4:$AR$111,CONCATENATE($A26,\" : \",X$2))","v":0},{"$f":"COUNTIF(OFFICIAL!$AG$4:$AR$111,CONCATENATE(Y$2,\" : \",$A26))+COUNTIF(OFFICIAL!$AG$4:$AR$111,CONCATENATE($A26,\" : \",Y$2))","v":0},{"$f":"COUNTIF(OFFICIAL!$AG$4:$AR$111,CONCATENATE(Z$2,\" : \",$A26))+COUNTIF(OFFICIAL!$AG$4:$AR$111,CONCATENATE($A26,\" : \",Z$2))","v":0},{"$f":"COUNTIF(OFFICIAL!$AG$4:$AR$111,CONCATENATE(AA$2,\" : \",$A26))+COUNTIF(OFFICIAL!$AG$4:$AR$111,CONCATENATE($A26,\" : \",AA$2))","v":0},{"$f":"COUNTIF(OFFICIAL!$AG$4:$AR$111,CONCATENATE(AB$2,\" : \",$A26))+COUNTIF(OFFICIAL!$AG$4:$AR$111,CONCATENATE($A26,\" : \",AB$2))","v":0},{"$f":"COUNTIF(OFFICIAL!$AG$4:$AR$111,CONCATENATE(AC$2,\" : \",$A26))+COUNTIF(OFFICIAL!$AG$4:$AR$111,CONCATENATE($A26,\" : \",AC$2))","v":0},{"$f":"COUNTIF(OFFICIAL!$AG$4:$AR$111,CONCATENATE(AD$2,\" : \",$A26))+COUNTIF(OFFICIAL!$AG$4:$AR$111,CONCATENATE($A26,\" : \",AD$2))","v":0},{"$f":"COUNTIF(OFFICIAL!$AG$4:$AR$111,CONCATENATE(AE$2,\" : \",$A26))+COUNTIF(OFFICIAL!$AG$4:$AR$111,CONCATENATE($A26,\" : \",AE$2))","v":0}]
[{"$f":"IF(DATA!$F28=\"\",\" \",DATA!$F28)","v":" "},{"$f":"COUNTIF(OFFICIAL!$AG$4:$AR$111,CONCATENATE(B$2,\" : \",$A27))+COUNTIF(OFFICIAL!$AG$4:$AR$111,CONCATENATE($A27,\" : \",B$2))","v":0},{"$f":"COUNTIF(OFFICIAL!$AG$4:$AR$111,CONCATENATE(C$2,\" : \",$A27))+COUNTIF(OFFICIAL!$AG$4:$AR$111,CONCATENATE($A27,\" : \",C$2))","v":0},{"$f":"COUNTIF(OFFICIAL!$AG$4:$AR$111,CONCATENATE(D$2,\" : \",$A27))+COUNTIF(OFFICIAL!$AG$4:$AR$111,CONCATENATE($A27,\" : \",D$2))","v":0},{"$f":"COUNTIF(OFFICIAL!$AG$4:$AR$111,CONCATENATE(E$2,\" : \",$A27))+COUNTIF(OFFICIAL!$AG$4:$AR$111,CONCATENATE($A27,\" : \",E$2))","v":0},{"$f":"COUNTIF(OFFICIAL!$AG$4:$AR$111,CONCATENATE(F$2,\" : \",$A27))+COUNTIF(OFFICIAL!$AG$4:$AR$111,CONCATENATE($A27,\" : \",F$2))","v":0},{"$f":"COUNTIF(OFFICIAL!$AG$4:$AR$111,CONCATENATE(G$2,\" : \",$A27))+COUNTIF(OFFICIAL!$AG$4:$AR$111,CONCATENATE($A27,\" : \",G$2))","v":0},{"$f":"COUNTIF(OFFICIAL!$AG$4:$AR$111,CONCATENATE(H$2,\" : \",$A27))+COUNTIF(OFFICIAL!$AG$4:$AR$111,CONCATENATE($A27,\" : \",H$2))","v":0},{"$f":"COUNTIF(OFFICIAL!$AG$4:$AR$111,CONCATENATE(I$2,\" : \",$A27))+COUNTIF(OFFICIAL!$AG$4:$AR$111,CONCATENATE($A27,\" : \",I$2))","v":0},{"$f":"COUNTIF(OFFICIAL!$AG$4:$AR$111,CONCATENATE(J$2,\" : \",$A27))+COUNTIF(OFFICIAL!$AG$4:$AR$111,CONCATENATE($A27,\" : \",J$2))","v":0},{"$f":"COUNTIF(OFFICIAL!$AG$4:$AR$111,CONCATENATE(K$2,\" : \",$A27))+COUNTIF(OFFICIAL!$AG$4:$AR$111,CONCATENATE($A27,\" : \",K$2))","v":0},{"$f":"COUNTIF(OFFICIAL!$AG$4:$AR$111,CONCATENATE(L$2,\" : \",$A27))+COUNTIF(OFFICIAL!$AG$4:$AR$111,CONCATENATE($A27,\" : \",L$2))","v":0},{"$f":"COUNTIF(OFFICIAL!$AG$4:$AR$111,CONCATENATE(M$2,\" : \",$A27))+COUNTIF(OFFICIAL!$AG$4:$AR$111,CONCATENATE($A27,\" : \",M$2))","v":0},{"$f":"COUNTIF(OFFICIAL!$AG$4:$AR$111,CONCATENATE(N$2,\" : \",$A27))+COUNTIF(OFFICIAL!$AG$4:$AR$111,CONCATENATE($A27,\" : \",N$2))","v":0},{"$f":"COUNTIF(OFFICIAL!$AG$4:$AR$111,CONCATENATE(O$2,\" : \",$A27))+COUNTIF(OFFICIAL!$AG$4:$AR$111,CONCATENATE($A27,\" : \",O$2))","v":0},{"$f":"COUNTIF(OFFICIAL!$AG$4:$AR$111,CONCATENATE(P$2,\" : \",$A27))+COUNTIF(OFFICIAL!$AG$4:$AR$111,CONCATENATE($A27,\" : \",P$2))","v":0},{"$f":"COUNTIF(OFFICIAL!$AG$4:$AR$111,CONCATENATE(Q$2,\" : \",$A27))+COUNTIF(OFFICIAL!$AG$4:$AR$111,CONCATENATE($A27,\" : \",Q$2))","v":0},{"$f":"COUNTIF(OFFICIAL!$AG$4:$AR$111,CONCATENATE(R$2,\" : \",$A27))+COUNTIF(OFFICIAL!$AG$4:$AR$111,CONCATENATE($A27,\" : \",R$2))","v":0},{"$f":"COUNTIF(OFFICIAL!$AG$4:$AR$111,CONCATENATE(S$2,\" : \",$A27))+COUNTIF(OFFICIAL!$AG$4:$AR$111,CONCATENATE($A27,\" : \",S$2))","v":0},{"$f":"COUNTIF(OFFICIAL!$AG$4:$AR$111,CONCATENATE(T$2,\" : \",$A27))+COUNTIF(OFFICIAL!$AG$4:$AR$111,CONCATENATE($A27,\" : \",T$2))","v":0},{"$f":"COUNTIF(OFFICIAL!$AG$4:$AR$111,CONCATENATE(U$2,\" : \",$A27))+COUNTIF(OFFICIAL!$AG$4:$AR$111,CONCATENATE($A27,\" : \",U$2))","v":0},{"$f":"COUNTIF(OFFICIAL!$AG$4:$AR$111,CONCATENATE(V$2,\" : \",$A27))+COUNTIF(OFFICIAL!$AG$4:$AR$111,CONCATENATE($A27,\" : \",V$2))","v":0},{"$f":"COUNTIF(OFFICIAL!$AG$4:$AR$111,CONCATENATE(W$2,\" : \",$A27))+COUNTIF(OFFICIAL!$AG$4:$AR$111,CONCATENATE($A27,\" : \",W$2))","v":0},{"$f":"COUNTIF(OFFICIAL!$AG$4:$AR$111,CONCATENATE(X$2,\" : \",$A27))+COUNTIF(OFFICIAL!$AG$4:$AR$111,CONCATENATE($A27,\" : \",X$2))","v":0},{"$f":"COUNTIF(OFFICIAL!$AG$4:$AR$111,CONCATENATE(Y$2,\" : \",$A27))+COUNTIF(OFFICIAL!$AG$4:$AR$111,CONCATENATE($A27,\" : \",Y$2))","v":0},{"$f":"COUNTIF(OFFICIAL!$AG$4:$AR$111,CONCATENATE(Z$2,\" : \",$A27))+COUNTIF(OFFICIAL!$AG$4:$AR$111,CONCATENATE($A27,\" : \",Z$2))","v":0},{"$f":"COUNTIF(OFFICIAL!$AG$4:$AR$111,CONCATENATE(AA$2,\" : \",$A27))+COUNTIF(OFFICIAL!$AG$4:$AR$111,CONCATENATE($A27,\" : \",AA$2))","v":0},{"$f":"COUNTIF(OFFICIAL!$AG$4:$AR$111,CONCATENATE(AB$2,\" : \",$A27))+COUNTIF(OFFICIAL!$AG$4:$AR$111,CONCATENATE($A27,\" : \",AB$2))","v":0},{"$f":"COUNTIF(OFFICIAL!$AG$4:$AR$111,CONCATENATE(AC$2,\" : \",$A27))+COUNTIF(OFFICIAL!$AG$4:$AR$111,CONCATENATE($A27,\" : \",AC$2))","v":0},{"$f":"COUNTIF(OFFICIAL!$AG$4:$AR$111,CONCATENATE(AD$2,\" : \",$A27))+COUNTIF(OFFICIAL!$AG$4:$AR$111,CONCATENATE($A27,\" : \",AD$2))","v":0},{"$f":"COUNTIF(OFFICIAL!$AG$4:$AR$111,CONCATENATE(AE$2,\" : \",$A27))+COUNTIF(OFFICIAL!$AG$4:$AR$111,CONCATENATE($A27,\" : \",AE$2))","v":0}]
[{"$f":"IF(DATA!$F29=\"\",\" \",DATA!$F29)","v":" "},{"$f":"COUNTIF(OFFICIAL!$AG$4:$AR$111,CONCATENATE(B$2,\" : \",$A28))+COUNTIF(OFFICIAL!$AG$4:$AR$111,CONCATENATE($A28,\" : \",B$2))","v":0},{"$f":"COUNTIF(OFFICIAL!$AG$4:$AR$111,CONCATENATE(C$2,\" : \",$A28))+COUNTIF(OFFICIAL!$AG$4:$AR$111,CONCATENATE($A28,\" : \",C$2))","v":0},{"$f":"COUNTIF(OFFICIAL!$AG$4:$AR$111,CONCATENATE(D$2,\" : \",$A28))+COUNTIF(OFFICIAL!$AG$4:$AR$111,CONCATENATE($A28,\" : \",D$2))","v":0},{"$f":"COUNTIF(OFFICIAL!$AG$4:$AR$111,CONCATENATE(E$2,\" : \",$A28))+COUNTIF(OFFICIAL!$AG$4:$AR$111,CONCATENATE($A28,\" : \",E$2))","v":0},{"$f":"COUNTIF(OFFICIAL!$AG$4:$AR$111,CONCATENATE(F$2,\" : \",$A28))+COUNTIF(OFFICIAL!$AG$4:$AR$111,CONCATENATE($A28,\" : \",F$2))","v":0},{"$f":"COUNTIF(OFFICIAL!$AG$4:$AR$111,CONCATENATE(G$2,\" : \",$A28))+COUNTIF(OFFICIAL!$AG$4:$AR$111,CONCATENATE($A28,\" : \",G$2))","v":0},{"$f":"COUNTIF(OFFICIAL!$AG$4:$AR$111,CONCATENATE(H$2,\" : \",$A28))+COUNTIF(OFFICIAL!$AG$4:$AR$111,CONCATENATE($A28,\" : \",H$2))","v":0},{"$f":"COUNTIF(OFFICIAL!$AG$4:$AR$111,CONCATENATE(I$2,\" : \",$A28))+COUNTIF(OFFICIAL!$AG$4:$AR$111,CONCATENATE($A28,\" : \",I$2))","v":0},{"$f":"COUNTIF(OFFICIAL!$AG$4:$AR$111,CONCATENATE(J$2,\" : \",$A28))+COUNTIF(OFFICIAL!$AG$4:$AR$111,CONCATENATE($A28,\" : \",J$2))","v":0},{"$f":"COUNTIF(OFFICIAL!$AG$4:$AR$111,CONCATENATE(K$2,\" : \",$A28))+COUNTIF(OFFICIAL!$AG$4:$AR$111,CONCATENATE($A28,\" : \",K$2))","v":0},{"$f":"COUNTIF(OFFICIAL!$AG$4:$AR$111,CONCATENATE(L$2,\" : \",$A28))+COUNTIF(OFFICIAL!$AG$4:$AR$111,CONCATENATE($A28,\" : \",L$2))","v":0},{"$f":"COUNTIF(OFFICIAL!$AG$4:$AR$111,CONCATENATE(M$2,\" : \",$A28))+COUNTIF(OFFICIAL!$AG$4:$AR$111,CONCATENATE($A28,\" : \",M$2))","v":0},{"$f":"COUNTIF(OFFICIAL!$AG$4:$AR$111,CONCATENATE(N$2,\" : \",$A28))+COUNTIF(OFFICIAL!$AG$4:$AR$111,CONCATENATE($A28,\" : \",N$2))","v":0},{"$f":"COUNTIF(OFFICIAL!$AG$4:$AR$111,CONCATENATE(O$2,\" : \",$A28))+COUNTIF(OFFICIAL!$AG$4:$AR$111,CONCATENATE($A28,\" : \",O$2))","v":0},{"$f":"COUNTIF(OFFICIAL!$AG$4:$AR$111,CONCATENATE(P$2,\" : \",$A28))+COUNTIF(OFFICIAL!$AG$4:$AR$111,CONCATENATE($A28,\" : \",P$2))","v":0},{"$f":"COUNTIF(OFFICIAL!$AG$4:$AR$111,CONCATENATE(Q$2,\" : \",$A28))+COUNTIF(OFFICIAL!$AG$4:$AR$111,CONCATENATE($A28,\" : \",Q$2))","v":0},{"$f":"COUNTIF(OFFICIAL!$AG$4:$AR$111,CONCATENATE(R$2,\" : \",$A28))+COUNTIF(OFFICIAL!$AG$4:$AR$111,CONCATENATE($A28,\" : \",R$2))","v":0},{"$f":"COUNTIF(OFFICIAL!$AG$4:$AR$111,CONCATENATE(S$2,\" : \",$A28))+COUNTIF(OFFICIAL!$AG$4:$AR$111,CONCATENATE($A28,\" : \",S$2))","v":0},{"$f":"COUNTIF(OFFICIAL!$AG$4:$AR$111,CONCATENATE(T$2,\" : \",$A28))+COUNTIF(OFFICIAL!$AG$4:$AR$111,CONCATENATE($A28,\" : \",T$2))","v":0},{"$f":"COUNTIF(OFFICIAL!$AG$4:$AR$111,CONCATENATE(U$2,\" : \",$A28))+COUNTIF(OFFICIAL!$AG$4:$AR$111,CONCATENATE($A28,\" : \",U$2))","v":0},{"$f":"COUNTIF(OFFICIAL!$AG$4:$AR$111,CONCATENATE(V$2,\" : \",$A28))+COUNTIF(OFFICIAL!$AG$4:$AR$111,CONCATENATE($A28,\" : \",V$2))","v":0},{"$f":"COUNTIF(OFFICIAL!$AG$4:$AR$111,CONCATENATE(W$2,\" : \",$A28))+COUNTIF(OFFICIAL!$AG$4:$AR$111,CONCATENATE($A28,\" : \",W$2))","v":0},{"$f":"COUNTIF(OFFICIAL!$AG$4:$AR$111,CONCATENATE(X$2,\" : \",$A28))+COUNTIF(OFFICIAL!$AG$4:$AR$111,CONCATENATE($A28,\" : \",X$2))","v":0},{"$f":"COUNTIF(OFFICIAL!$AG$4:$AR$111,CONCATENATE(Y$2,\" : \",$A28))+COUNTIF(OFFICIAL!$AG$4:$AR$111,CONCATENATE($A28,\" : \",Y$2))","v":0},{"$f":"COUNTIF(OFFICIAL!$AG$4:$AR$111,CONCATENATE(Z$2,\" : \",$A28))+COUNTIF(OFFICIAL!$AG$4:$AR$111,CONCATENATE($A28,\" : \",Z$2))","v":0},{"$f":"COUNTIF(OFFICIAL!$AG$4:$AR$111,CONCATENATE(AA$2,\" : \",$A28))+COUNTIF(OFFICIAL!$AG$4:$AR$111,CONCATENATE($A28,\" : \",AA$2))","v":0},{"$f":"COUNTIF(OFFICIAL!$AG$4:$AR$111,CONCATENATE(AB$2,\" : \",$A28))+COUNTIF(OFFICIAL!$AG$4:$AR$111,CONCATENATE($A28,\" : \",AB$2))","v":0},{"$f":"COUNTIF(OFFICIAL!$AG$4:$AR$111,CONCATENATE(AC$2,\" : \",$A28))+COUNTIF(OFFICIAL!$AG$4:$AR$111,CONCATENATE($A28,\" : \",AC$2))","v":0},{"$f":"COUNTIF(OFFICIAL!$AG$4:$AR$111,CONCATENATE(AD$2,\" : \",$A28))+COUNTIF(OFFICIAL!$AG$4:$AR$111,CONCATENATE($A28,\" : \",AD$2))","v":0},{"$f":"COUNTIF(OFFICIAL!$AG$4:$AR$111,CONCATENATE(AE$2,\" : \",$A28))+COUNTIF(OFFICIAL!$AG$4:$AR$111,CONCATENATE($A28,\" : \",AE$2))","v":0}]
[{"$f":"IF(DATA!$F30=\"\",\" \",DATA!$F30)","v":" "},{"$f":"COUNTIF(OFFICIAL!$AG$4:$AR$111,CONCATENATE(B$2,\" : \",$A29))+COUNTIF(OFFICIAL!$AG$4:$AR$111,CONCATENATE($A29,\" : \",B$2))","v":0},{"$f":"COUNTIF(OFFICIAL!$AG$4:$AR$111,CONCATENATE(C$2,\" : \",$A29))+COUNTIF(OFFICIAL!$AG$4:$AR$111,CONCATENATE($A29,\" : \",C$2))","v":0},{"$f":"COUNTIF(OFFICIAL!$AG$4:$AR$111,CONCATENATE(D$2,\" : \",$A29))+COUNTIF(OFFICIAL!$AG$4:$AR$111,CONCATENATE($A29,\" : \",D$2))","v":0},{"$f":"COUNTIF(OFFICIAL!$AG$4:$AR$111,CONCATENATE(E$2,\" : \",$A29))+COUNTIF(OFFICIAL!$AG$4:$AR$111,CONCATENATE($A29,\" : \",E$2))","v":0},{"$f":"COUNTIF(OFFICIAL!$AG$4:$AR$111,CONCATENATE(F$2,\" : \",$A29))+COUNTIF(OFFICIAL!$AG$4:$AR$111,CONCATENATE($A29,\" : \",F$2))","v":0},{"$f":"COUNTIF(OFFICIAL!$AG$4:$AR$111,CONCATENATE(G$2,\" : \",$A29))+COUNTIF(OFFICIAL!$AG$4:$AR$111,CONCATENATE($A29,\" : \",G$2))","v":0},{"$f":"COUNTIF(OFFICIAL!$AG$4:$AR$111,CONCATENATE(H$2,\" : \",$A29))+COUNTIF(OFFICIAL!$AG$4:$AR$111,CONCATENATE($A29,\" : \",H$2))","v":0},{"$f":"COUNTIF(OFFICIAL!$AG$4:$AR$111,CONCATENATE(I$2,\" : \",$A29))+COUNTIF(OFFICIAL!$AG$4:$AR$111,CONCATENATE($A29,\" : \",I$2))","v":0},{"$f":"COUNTIF(OFFICIAL!$AG$4:$AR$111,CONCATENATE(J$2,\" : \",$A29))+COUNTIF(OFFICIAL!$AG$4:$AR$111,CONCATENATE($A29,\" : \",J$2))","v":0},{"$f":"COUNTIF(OFFICIAL!$AG$4:$AR$111,CONCATENATE(K$2,\" : \",$A29))+COUNTIF(OFFICIAL!$AG$4:$AR$111,CONCATENATE($A29,\" : \",K$2))","v":0},{"$f":"COUNTIF(OFFICIAL!$AG$4:$AR$111,CONCATENATE(L$2,\" : \",$A29))+COUNTIF(OFFICIAL!$AG$4:$AR$111,CONCATENATE($A29,\" : \",L$2))","v":0},{"$f":"COUNTIF(OFFICIAL!$AG$4:$AR$111,CONCATENATE(M$2,\" : \",$A29))+COUNTIF(OFFICIAL!$AG$4:$AR$111,CONCATENATE($A29,\" : \",M$2))","v":0},{"$f":"COUNTIF(OFFICIAL!$AG$4:$AR$111,CONCATENATE(N$2,\" : \",$A29))+COUNTIF(OFFICIAL!$AG$4:$AR$111,CONCATENATE($A29,\" : \",N$2))","v":0},{"$f":"COUNTIF(OFFICIAL!$AG$4:$AR$111,CONCATENATE(O$2,\" : \",$A29))+COUNTIF(OFFICIAL!$AG$4:$AR$111,CONCATENATE($A29,\" : \",O$2))","v":0},{"$f":"COUNTIF(OFFICIAL!$AG$4:$AR$111,CONCATENATE(P$2,\" : \",$A29))+COUNTIF(OFFICIAL!$AG$4:$AR$111,CONCATENATE($A29,\" : \",P$2))","v":0},{"$f":"COUNTIF(OFFICIAL!$AG$4:$AR$111,CONCATENATE(Q$2,\" : \",$A29))+COUNTIF(OFFICIAL!$AG$4:$AR$111,CONCATENATE($A29,\" : \",Q$2))","v":0},{"$f":"COUNTIF(OFFICIAL!$AG$4:$AR$111,CONCATENATE(R$2,\" : \",$A29))+COUNTIF(OFFICIAL!$AG$4:$AR$111,CONCATENATE($A29,\" : \",R$2))","v":0},{"$f":"COUNTIF(OFFICIAL!$AG$4:$AR$111,CONCATENATE(S$2,\" : \",$A29))+COUNTIF(OFFICIAL!$AG$4:$AR$111,CONCATENATE($A29,\" : \",S$2))","v":0},{"$f":"COUNTIF(OFFICIAL!$AG$4:$AR$111,CONCATENATE(T$2,\" : \",$A29))+COUNTIF(OFFICIAL!$AG$4:$AR$111,CONCATENATE($A29,\" : \",T$2))","v":0},{"$f":"COUNTIF(OFFICIAL!$AG$4:$AR$111,CONCATENATE(U$2,\" : \",$A29))+COUNTIF(OFFICIAL!$AG$4:$AR$111,CONCATENATE($A29,\" : \",U$2))","v":0},{"$f":"COUNTIF(OFFICIAL!$AG$4:$AR$111,CONCATENATE(V$2,\" : \",$A29))+COUNTIF(OFFICIAL!$AG$4:$AR$111,CONCATENATE($A29,\" : \",V$2))","v":0},{"$f":"COUNTIF(OFFICIAL!$AG$4:$AR$111,CONCATENATE(W$2,\" : \",$A29))+COUNTIF(OFFICIAL!$AG$4:$AR$111,CONCATENATE($A29,\" : \",W$2))","v":0},{"$f":"COUNTIF(OFFICIAL!$AG$4:$AR$111,CONCATENATE(X$2,\" : \",$A29))+COUNTIF(OFFICIAL!$AG$4:$AR$111,CONCATENATE($A29,\" : \",X$2))","v":0},{"$f":"COUNTIF(OFFICIAL!$AG$4:$AR$111,CONCATENATE(Y$2,\" : \",$A29))+COUNTIF(OFFICIAL!$AG$4:$AR$111,CONCATENATE($A29,\" : \",Y$2))","v":0},{"$f":"COUNTIF(OFFICIAL!$AG$4:$AR$111,CONCATENATE(Z$2,\" : \",$A29))+COUNTIF(OFFICIAL!$AG$4:$AR$111,CONCATENATE($A29,\" : \",Z$2))","v":0},{"$f":"COUNTIF(OFFICIAL!$AG$4:$AR$111,CONCATENATE(AA$2,\" : \",$A29))+COUNTIF(OFFICIAL!$AG$4:$AR$111,CONCATENATE($A29,\" : \",AA$2))","v":0},{"$f":"COUNTIF(OFFICIAL!$AG$4:$AR$111,CONCATENATE(AB$2,\" : \",$A29))+COUNTIF(OFFICIAL!$AG$4:$AR$111,CONCATENATE($A29,\" : \",AB$2))","v":0},{"$f":"COUNTIF(OFFICIAL!$AG$4:$AR$111,CONCATENATE(AC$2,\" : \",$A29))+COUNTIF(OFFICIAL!$AG$4:$AR$111,CONCATENATE($A29,\" : \",AC$2))","v":0},{"$f":"COUNTIF(OFFICIAL!$AG$4:$AR$111,CONCATENATE(AD$2,\" : \",$A29))+COUNTIF(OFFICIAL!$AG$4:$AR$111,CONCATENATE($A29,\" : \",AD$2))","v":0},{"$f":"COUNTIF(OFFICIAL!$AG$4:$AR$111,CONCATENATE(AE$2,\" : \",$A29))+COUNTIF(OFFICIAL!$AG$4:$AR$111,CONCATENATE($A29,\" : \",AE$2))","v":0}]
[{"$f":"IF(DATA!$F31=\"\",\" \",DATA!$F31)","v":" "},{"$f":"COUNTIF(OFFICIAL!$AG$4:$AR$111,CONCATENATE(B$2,\" : \",$A30))+COUNTIF(OFFICIAL!$AG$4:$AR$111,CONCATENATE($A30,\" : \",B$2))","v":0},{"$f":"COUNTIF(OFFICIAL!$AG$4:$AR$111,CONCATENATE(C$2,\" : \",$A30))+COUNTIF(OFFICIAL!$AG$4:$AR$111,CONCATENATE($A30,\" : \",C$2))","v":0},{"$f":"COUNTIF(OFFICIAL!$AG$4:$AR$111,CONCATENATE(D$2,\" : \",$A30))+COUNTIF(OFFICIAL!$AG$4:$AR$111,CONCATENATE($A30,\" : \",D$2))","v":0},{"$f":"COUNTIF(OFFICIAL!$AG$4:$AR$111,CONCATENATE(E$2,\" : \",$A30))+COUNTIF(OFFICIAL!$AG$4:$AR$111,CONCATENATE($A30,\" : \",E$2))","v":0},{"$f":"COUNTIF(OFFICIAL!$AG$4:$AR$111,CONCATENATE(F$2,\" : \",$A30))+COUNTIF(OFFICIAL!$AG$4:$AR$111,CONCATENATE($A30,\" : \",F$2))","v":0},{"$f":"COUNTIF(OFFICIAL!$AG$4:$AR$111,CONCATENATE(G$2,\" : \",$A30))+COUNTIF(OFFICIAL!$AG$4:$AR$111,CONCATENATE($A30,\" : \",G$2))","v":0},{"$f":"COUNTIF(OFFICIAL!$AG$4:$AR$111,CONCATENATE(H$2,\" : \",$A30))+COUNTIF(OFFICIAL!$AG$4:$AR$111,CONCATENATE($A30,\" : \",H$2))","v":0},{"$f":"COUNTIF(OFFICIAL!$AG$4:$AR$111,CONCATENATE(I$2,\" : \",$A30))+COUNTIF(OFFICIAL!$AG$4:$AR$111,CONCATENATE($A30,\" : \",I$2))","v":0},{"$f":"COUNTIF(OFFICIAL!$AG$4:$AR$111,CONCATENATE(J$2,\" : \",$A30))+COUNTIF(OFFICIAL!$AG$4:$AR$111,CONCATENATE($A30,\" : \",J$2))","v":0},{"$f":"COUNTIF(OFFICIAL!$AG$4:$AR$111,CONCATENATE(K$2,\" : \",$A30))+COUNTIF(OFFICIAL!$AG$4:$AR$111,CONCATENATE($A30,\" : \",K$2))","v":0},{"$f":"COUNTIF(OFFICIAL!$AG$4:$AR$111,CONCATENATE(L$2,\" : \",$A30))+COUNTIF(OFFICIAL!$AG$4:$AR$111,CONCATENATE($A30,\" : \",L$2))","v":0},{"$f":"COUNTIF(OFFICIAL!$AG$4:$AR$111,CONCATENATE(M$2,\" : \",$A30))+COUNTIF(OFFICIAL!$AG$4:$AR$111,CONCATENATE($A30,\" : \",M$2))","v":0},{"$f":"COUNTIF(OFFICIAL!$AG$4:$AR$111,CONCATENATE(N$2,\" : \",$A30))+COUNTIF(OFFICIAL!$AG$4:$AR$111,CONCATENATE($A30,\" : \",N$2))","v":0},{"$f":"COUNTIF(OFFICIAL!$AG$4:$AR$111,CONCATENATE(O$2,\" : \",$A30))+COUNTIF(OFFICIAL!$AG$4:$AR$111,CONCATENATE($A30,\" : \",O$2))","v":0},{"$f":"COUNTIF(OFFICIAL!$AG$4:$AR$111,CONCATENATE(P$2,\" : \",$A30))+COUNTIF(OFFICIAL!$AG$4:$AR$111,CONCATENATE($A30,\" : \",P$2))","v":0},{"$f":"COUNTIF(OFFICIAL!$AG$4:$AR$111,CONCATENATE(Q$2,\" : \",$A30))+COUNTIF(OFFICIAL!$AG$4:$AR$111,CONCATENATE($A30,\" : \",Q$2))","v":0},{"$f":"COUNTIF(OFFICIAL!$AG$4:$AR$111,CONCATENATE(R$2,\" : \",$A30))+COUNTIF(OFFICIAL!$AG$4:$AR$111,CONCATENATE($A30,\" : \",R$2))","v":0},{"$f":"COUNTIF(OFFICIAL!$AG$4:$AR$111,CONCATENATE(S$2,\" : \",$A30))+COUNTIF(OFFICIAL!$AG$4:$AR$111,CONCATENATE($A30,\" : \",S$2))","v":0},{"$f":"COUNTIF(OFFICIAL!$AG$4:$AR$111,CONCATENATE(T$2,\" : \",$A30))+COUNTIF(OFFICIAL!$AG$4:$AR$111,CONCATENATE($A30,\" : \",T$2))","v":0},{"$f":"COUNTIF(OFFICIAL!$AG$4:$AR$111,CONCATENATE(U$2,\" : \",$A30))+COUNTIF(OFFICIAL!$AG$4:$AR$111,CONCATENATE($A30,\" : \",U$2))","v":0},{"$f":"COUNTIF(OFFICIAL!$AG$4:$AR$111,CONCATENATE(V$2,\" : \",$A30))+COUNTIF(OFFICIAL!$AG$4:$AR$111,CONCATENATE($A30,\" : \",V$2))","v":0},{"$f":"COUNTIF(OFFICIAL!$AG$4:$AR$111,CONCATENATE(W$2,\" : \",$A30))+COUNTIF(OFFICIAL!$AG$4:$AR$111,CONCATENATE($A30,\" : \",W$2))","v":0},{"$f":"COUNTIF(OFFICIAL!$AG$4:$AR$111,CONCATENATE(X$2,\" : \",$A30))+COUNTIF(OFFICIAL!$AG$4:$AR$111,CONCATENATE($A30,\" : \",X$2))","v":0},{"$f":"COUNTIF(OFFICIAL!$AG$4:$AR$111,CONCATENATE(Y$2,\" : \",$A30))+COUNTIF(OFFICIAL!$AG$4:$AR$111,CONCATENATE($A30,\" : \",Y$2))","v":0},{"$f":"COUNTIF(OFFICIAL!$AG$4:$AR$111,CONCATENATE(Z$2,\" : \",$A30))+COUNTIF(OFFICIAL!$AG$4:$AR$111,CONCATENATE($A30,\" : \",Z$2))","v":0},{"$f":"COUNTIF(OFFICIAL!$AG$4:$AR$111,CONCATENATE(AA$2,\" : \",$A30))+COUNTIF(OFFICIAL!$AG$4:$AR$111,CONCATENATE($A30,\" : \",AA$2))","v":0},{"$f":"COUNTIF(OFFICIAL!$AG$4:$AR$111,CONCATENATE(AB$2,\" : \",$A30))+COUNTIF(OFFICIAL!$AG$4:$AR$111,CONCATENATE($A30,\" : \",AB$2))","v":0},{"$f":"COUNTIF(OFFICIAL!$AG$4:$AR$111,CONCATENATE(AC$2,\" : \",$A30))+COUNTIF(OFFICIAL!$AG$4:$AR$111,CONCATENATE($A30,\" : \",AC$2))","v":0},{"$f":"COUNTIF(OFFICIAL!$AG$4:$AR$111,CONCATENATE(AD$2,\" : \",$A30))+COUNTIF(OFFICIAL!$AG$4:$AR$111,CONCATENATE($A30,\" : \",AD$2))","v":0},{"$f":"COUNTIF(OFFICIAL!$AG$4:$AR$111,CONCATENATE(AE$2,\" : \",$A30))+COUNTIF(OFFICIAL!$AG$4:$AR$111,CONCATENATE($A30,\" : \",AE$2))","v":0}]
[{"$f":"IF(DATA!$F32=\"\",\" \",DATA!$F32)","v":" "},{"$f":"COUNTIF(OFFICIAL!$AG$4:$AR$111,CONCATENATE(B$2,\" : \",$A31))+COUNTIF(OFFICIAL!$AG$4:$AR$111,CONCATENATE($A31,\" : \",B$2))","v":0},{"$f":"COUNTIF(OFFICIAL!$AG$4:$AR$111,CONCATENATE(C$2,\" : \",$A31))+COUNTIF(OFFICIAL!$AG$4:$AR$111,CONCATENATE($A31,\" : \",C$2))","v":0},{"$f":"COUNTIF(OFFICIAL!$AG$4:$AR$111,CONCATENATE(D$2,\" : \",$A31))+COUNTIF(OFFICIAL!$AG$4:$AR$111,CONCATENATE($A31,\" : \",D$2))","v":0},{"$f":"COUNTIF(OFFICIAL!$AG$4:$AR$111,CONCATENATE(E$2,\" : \",$A31))+COUNTIF(OFFICIAL!$AG$4:$AR$111,CONCATENATE($A31,\" : \",E$2))","v":0},{"$f":"COUNTIF(OFFICIAL!$AG$4:$AR$111,CONCATENATE(F$2,\" : \",$A31))+COUNTIF(OFFICIAL!$AG$4:$AR$111,CONCATENATE($A31,\" : \",F$2))","v":0},{"$f":"COUNTIF(OFFICIAL!$AG$4:$AR$111,CONCATENATE(G$2,\" : \",$A31))+COUNTIF(OFFICIAL!$AG$4:$AR$111,CONCATENATE($A31,\" : \",G$2))","v":0},{"$f":"COUNTIF(OFFICIAL!$AG$4:$AR$111,CONCATENATE(H$2,\" : \",$A31))+COUNTIF(OFFICIAL!$AG$4:$AR$111,CONCATENATE($A31,\" : \",H$2))","v":0},{"$f":"COUNTIF(OFFICIAL!$AG$4:$AR$111,CONCATENATE(I$2,\" : \",$A31))+COUNTIF(OFFICIAL!$AG$4:$AR$111,CONCATENATE($A31,\" : \",I$2))","v":0},{"$f":"COUNTIF(OFFICIAL!$AG$4:$AR$111,CONCATENATE(J$2,\" : \",$A31))+COUNTIF(OFFICIAL!$AG$4:$AR$111,CONCATENATE($A31,\" : \",J$2))","v":0},{"$f":"COUNTIF(OFFICIAL!$AG$4:$AR$111,CONCATENATE(K$2,\" : \",$A31))+COUNTIF(OFFICIAL!$AG$4:$AR$111,CONCATENATE($A31,\" : \",K$2))","v":0},{"$f":"COUNTIF(OFFICIAL!$AG$4:$AR$111,CONCATENATE(L$2,\" : \",$A31))+COUNTIF(OFFICIAL!$AG$4:$AR$111,CONCATENATE($A31,\" : \",L$2))","v":0},{"$f":"COUNTIF(OFFICIAL!$AG$4:$AR$111,CONCATENATE(M$2,\" : \",$A31))+COUNTIF(OFFICIAL!$AG$4:$AR$111,CONCATENATE($A31,\" : \",M$2))","v":0},{"$f":"COUNTIF(OFFICIAL!$AG$4:$AR$111,CONCATENATE(N$2,\" : \",$A31))+COUNTIF(OFFICIAL!$AG$4:$AR$111,CONCATENATE($A31,\" : \",N$2))","v":0},{"$f":"COUNTIF(OFFICIAL!$AG$4:$AR$111,CONCATENATE(O$2,\" : \",$A31))+COUNTIF(OFFICIAL!$AG$4:$AR$111,CONCATENATE($A31,\" : \",O$2))","v":0},{"$f":"COUNTIF(OFFICIAL!$AG$4:$AR$111,CONCATENATE(P$2,\" : \",$A31))+COUNTIF(OFFICIAL!$AG$4:$AR$111,CONCATENATE($A31,\" : \",P$2))","v":0},{"$f":"COUNTIF(OFFICIAL!$AG$4:$AR$111,CONCATENATE(Q$2,\" : \",$A31))+COUNTIF(OFFICIAL!$AG$4:$AR$111,CONCATENATE($A31,\" : \",Q$2))","v":0},{"$f":"COUNTIF(OFFICIAL!$AG$4:$AR$111,CONCATENATE(R$2,\" : \",$A31))+COUNTIF(OFFICIAL!$AG$4:$AR$111,CONCATENATE($A31,\" : \",R$2))","v":0},{"$f":"COUNTIF(OFFICIAL!$AG$4:$AR$111,CONCATENATE(S$2,\" : \",$A31))+COUNTIF(OFFICIAL!$AG$4:$AR$111,CONCATENATE($A31,\" : \",S$2))","v":0},{"$f":"COUNTIF(OFFICIAL!$AG$4:$AR$111,CONCATENATE(T$2,\" : \",$A31))+COUNTIF(OFFICIAL!$AG$4:$AR$111,CONCATENATE($A31,\" : \",T$2))","v":0},{"$f":"COUNTIF(OFFICIAL!$AG$4:$AR$111,CONCATENATE(U$2,\" : \",$A31))+COUNTIF(OFFICIAL!$AG$4:$AR$111,CONCATENATE($A31,\" : \",U$2))","v":0},{"$f":"COUNTIF(OFFICIAL!$AG$4:$AR$111,CONCATENATE(V$2,\" : \",$A31))+COUNTIF(OFFICIAL!$AG$4:$AR$111,CONCATENATE($A31,\" : \",V$2))","v":0},{"$f":"COUNTIF(OFFICIAL!$AG$4:$AR$111,CONCATENATE(W$2,\" : \",$A31))+COUNTIF(OFFICIAL!$AG$4:$AR$111,CONCATENATE($A31,\" : \",W$2))","v":0},{"$f":"COUNTIF(OFFICIAL!$AG$4:$AR$111,CONCATENATE(X$2,\" : \",$A31))+COUNTIF(OFFICIAL!$AG$4:$AR$111,CONCATENATE($A31,\" : \",X$2))","v":0},{"$f":"COUNTIF(OFFICIAL!$AG$4:$AR$111,CONCATENATE(Y$2,\" : \",$A31))+COUNTIF(OFFICIAL!$AG$4:$AR$111,CONCATENATE($A31,\" : \",Y$2))","v":0},{"$f":"COUNTIF(OFFICIAL!$AG$4:$AR$111,CONCATENATE(Z$2,\" : \",$A31))+COUNTIF(OFFICIAL!$AG$4:$AR$111,CONCATENATE($A31,\" : \",Z$2))","v":0},{"$f":"COUNTIF(OFFICIAL!$AG$4:$AR$111,CONCATENATE(AA$2,\" : \",$A31))+COUNTIF(OFFICIAL!$AG$4:$AR$111,CONCATENATE($A31,\" : \",AA$2))","v":0},{"$f":"COUNTIF(OFFICIAL!$AG$4:$AR$111,CONCATENATE(AB$2,\" : \",$A31))+COUNTIF(OFFICIAL!$AG$4:$AR$111,CONCATENATE($A31,\" : \",AB$2))","v":0},{"$f":"COUNTIF(OFFICIAL!$AG$4:$AR$111,CONCATENATE(AC$2,\" : \",$A31))+COUNTIF(OFFICIAL!$AG$4:$AR$111,CONCATENATE($A31,\" : \",AC$2))","v":0},{"$f":"COUNTIF(OFFICIAL!$AG$4:$AR$111,CONCATENATE(AD$2,\" : \",$A31))+COUNTIF(OFFICIAL!$AG$4:$AR$111,CONCATENATE($A31,\" : \",AD$2))","v":0},{"$f":"COUNTIF(OFFICIAL!$AG$4:$AR$111,CONCATENATE(AE$2,\" : \",$A31))+COUNTIF(OFFICIAL!$AG$4:$AR$111,CONCATENATE($A31,\" : \",AE$2))","v":0}]
[{"$f":"IF(DATA!$F33=\"\",\" \",DATA!$F33)","v":" "},{"$f":"COUNTIF(OFFICIAL!$AG$4:$AR$111,CONCATENATE(B$2,\" : \",$A32))+COUNTIF(OFFICIAL!$AG$4:$AR$111,CONCATENATE($A32,\" : \",B$2))","v":0},{"$f":"COUNTIF(OFFICIAL!$AG$4:$AR$111,CONCATENATE(C$2,\" : \",$A32))+COUNTIF(OFFICIAL!$AG$4:$AR$111,CONCATENATE($A32,\" : \",C$2))","v":0},{"$f":"COUNTIF(OFFICIAL!$AG$4:$AR$111,CONCATENATE(D$2,\" : \",$A32))+COUNTIF(OFFICIAL!$AG$4:$AR$111,CONCATENATE($A32,\" : \",D$2))","v":0},{"$f":"COUNTIF(OFFICIAL!$AG$4:$AR$111,CONCATENATE(E$2,\" : \",$A32))+COUNTIF(OFFICIAL!$AG$4:$AR$111,CONCATENATE($A32,\" : \",E$2))","v":0},{"$f":"COUNTIF(OFFICIAL!$AG$4:$AR$111,CONCATENATE(F$2,\" : \",$A32))+COUNTIF(OFFICIAL!$AG$4:$AR$111,CONCATENATE($A32,\" : \",F$2))","v":0},{"$f":"COUNTIF(OFFICIAL!$AG$4:$AR$111,CONCATENATE(G$2,\" : \",$A32))+COUNTIF(OFFICIAL!$AG$4:$AR$111,CONCATENATE($A32,\" : \",G$2))","v":0},{"$f":"COUNTIF(OFFICIAL!$AG$4:$AR$111,CONCATENATE(H$2,\" : \",$A32))+COUNTIF(OFFICIAL!$AG$4:$AR$111,CONCATENATE($A32,\" : \",H$2))","v":0},{"$f":"COUNTIF(OFFICIAL!$AG$4:$AR$111,CONCATENATE(I$2,\" : \",$A32))+COUNTIF(OFFICIAL!$AG$4:$AR$111,CONCATENATE($A32,\" : \",I$2))","v":0},{"$f":"COUNTIF(OFFICIAL!$AG$4:$AR$111,CONCATENATE(J$2,\" : \",$A32))+COUNTIF(OFFICIAL!$AG$4:$AR$111,CONCATENATE($A32,\" : \",J$2))","v":0},{"$f":"COUNTIF(OFFICIAL!$AG$4:$AR$111,CONCATENATE(K$2,\" : \",$A32))+COUNTIF(OFFICIAL!$AG$4:$AR$111,CONCATENATE($A32,\" : \",K$2))","v":0},{"$f":"COUNTIF(OFFICIAL!$AG$4:$AR$111,CONCATENATE(L$2,\" : \",$A32))+COUNTIF(OFFICIAL!$AG$4:$AR$111,CONCATENATE($A32,\" : \",L$2))","v":0},{"$f":"COUNTIF(OFFICIAL!$AG$4:$AR$111,CONCATENATE(M$2,\" : \",$A32))+COUNTIF(OFFICIAL!$AG$4:$AR$111,CONCATENATE($A32,\" : \",M$2))","v":0},{"$f":"COUNTIF(OFFICIAL!$AG$4:$AR$111,CONCATENATE(N$2,\" : \",$A32))+COUNTIF(OFFICIAL!$AG$4:$AR$111,CONCATENATE($A32,\" : \",N$2))","v":0},{"$f":"COUNTIF(OFFICIAL!$AG$4:$AR$111,CONCATENATE(O$2,\" : \",$A32))+COUNTIF(OFFICIAL!$AG$4:$AR$111,CONCATENATE($A32,\" : \",O$2))","v":0},{"$f":"COUNTIF(OFFICIAL!$AG$4:$AR$111,CONCATENATE(P$2,\" : \",$A32))+COUNTIF(OFFICIAL!$AG$4:$AR$111,CONCATENATE($A32,\" : \",P$2))","v":0},{"$f":"COUNTIF(OFFICIAL!$AG$4:$AR$111,CONCATENATE(Q$2,\" : \",$A32))+COUNTIF(OFFICIAL!$AG$4:$AR$111,CONCATENATE($A32,\" : \",Q$2))","v":0},{"$f":"COUNTIF(OFFICIAL!$AG$4:$AR$111,CONCATENATE(R$2,\" : \",$A32))+COUNTIF(OFFICIAL!$AG$4:$AR$111,CONCATENATE($A32,\" : \",R$2))","v":0},{"$f":"COUNTIF(OFFICIAL!$AG$4:$AR$111,CONCATENATE(S$2,\" : \",$A32))+COUNTIF(OFFICIAL!$AG$4:$AR$111,CONCATENATE($A32,\" : \",S$2))","v":0},{"$f":"COUNTIF(OFFICIAL!$AG$4:$AR$111,CONCATENATE(T$2,\" : \",$A32))+COUNTIF(OFFICIAL!$AG$4:$AR$111,CONCATENATE($A32,\" : \",T$2))","v":0},{"$f":"COUNTIF(OFFICIAL!$AG$4:$AR$111,CONCATENATE(U$2,\" : \",$A32))+COUNTIF(OFFICIAL!$AG$4:$AR$111,CONCATENATE($A32,\" : \",U$2))","v":0},{"$f":"COUNTIF(OFFICIAL!$AG$4:$AR$111,CONCATENATE(V$2,\" : \",$A32))+COUNTIF(OFFICIAL!$AG$4:$AR$111,CONCATENATE($A32,\" : \",V$2))","v":0},{"$f":"COUNTIF(OFFICIAL!$AG$4:$AR$111,CONCATENATE(W$2,\" : \",$A32))+COUNTIF(OFFICIAL!$AG$4:$AR$111,CONCATENATE($A32,\" : \",W$2))","v":0},{"$f":"COUNTIF(OFFICIAL!$AG$4:$AR$111,CONCATENATE(X$2,\" : \",$A32))+COUNTIF(OFFICIAL!$AG$4:$AR$111,CONCATENATE($A32,\" : \",X$2))","v":0},{"$f":"COUNTIF(OFFICIAL!$AG$4:$AR$111,CONCATENATE(Y$2,\" : \",$A32))+COUNTIF(OFFICIAL!$AG$4:$AR$111,CONCATENATE($A32,\" : \",Y$2))","v":0},{"$f":"COUNTIF(OFFICIAL!$AG$4:$AR$111,CONCATENATE(Z$2,\" : \",$A32))+COUNTIF(OFFICIAL!$AG$4:$AR$111,CONCATENATE($A32,\" : \",Z$2))","v":0},{"$f":"COUNTIF(OFFICIAL!$AG$4:$AR$111,CONCATENATE(AA$2,\" : \",$A32))+COUNTIF(OFFICIAL!$AG$4:$AR$111,CONCATENATE($A32,\" : \",AA$2))","v":0},{"$f":"COUNTIF(OFFICIAL!$AG$4:$AR$111,CONCATENATE(AB$2,\" : \",$A32))+COUNTIF(OFFICIAL!$AG$4:$AR$111,CONCATENATE($A32,\" : \",AB$2))","v":0},{"$f":"COUNTIF(OFFICIAL!$AG$4:$AR$111,CONCATENATE(AC$2,\" : \",$A32))+COUNTIF(OFFICIAL!$AG$4:$AR$111,CONCATENATE($A32,\" : \",AC$2))","v":0},{"$f":"COUNTIF(OFFICIAL!$AG$4:$AR$111,CONCATENATE(AD$2,\" : \",$A32))+COUNTIF(OFFICIAL!$AG$4:$AR$111,CONCATENATE($A32,\" : \",AD$2))","v":0},{"$f":"COUNTIF(OFFICIAL!$AG$4:$AR$111,CONCATENATE(AE$2,\" : \",$A32))+COUNTIF(OFFICIAL!$AG$4:$AR$111,CONCATENATE($A32,\" : \",AE$2))","v":0}]

{"sheet":"TCU Report","index":4,"n_rows":111,"n_cols":27,"rows_kept":111,"cut":false,"hidden":false,"merged":[[0,1,0,12]]}
[null,{"$f":"DATA!B1","v":0}]
[]
["Game","Date","TIME","Field","Team","v","Team","P",1,2,3,"LF","RF","Clock","P",1,2,3,"LF","RF","Clock","Initials","Umpire","Country",null,"Team","Abrev"]
[{"$f":"OFFICIAL!A4","v":0},{"$f":"OFFICIAL!B4","v":"00:00:00"},{"$f":"OFFICIAL!C4","v":"00:00:00"},{"$f":"OFFICIAL!O4","v":0},{"$f":"OFFICIAL!E4","v":0},{"$f":"IF(E4=\"\",\" \",\"v\")","v":"v"},{"$f":"OFFICIAL!G4","v":0},{"$f":"VLOOKUP(O4,$V$4:$W$35,2)","v":{"$error":"#N/A"}},{"$f":"IF(P4=99,\"\", VLOOKUP(P4,$V$4:$W$35,2))","v":""},"","","","","",{"$f":"IF(OFFICIAL!H4>1,OFFICIAL!H4,99)","v":99},{"$f":"IF(OFFICIAL!I4>1,OFFICIAL!I4,99)","v":99},{"$f":"IF(OFFICIAL!J4>1,OFFICIAL!J4,99)","v":99},{"$f":"IF(OFFICIAL!K4>1,OFFICIAL!K4,99)","v":99},{"$f":"IF(OFFICIAL!L4>1,OFFICIAL!L4,99)","v":99},{"$f":"IF(OFFICIAL!M4>1,OFFICIAL!M4,99)","v":99},{"$f":"IF(OFFICIAL!N4>1,OFFICIAL!N4,99)","v":99}]
[{"$f":"IF(OFFICIAL!A5>1,OFFICIAL!A5,\" \")","v":" "},{"$f":"IF(OFFICIAL!B5>1,OFFICIAL!B5,\" \")","v":" "},{"$f":"IF(OFFICIAL!C5>0.01,OFFICIAL!C5, \"\")","v":""},{"$f":"IF(OFFICIAL!O5>0.1,OFFICIAL!O5,\"\")","v":""},{"$f":"IF(OFFICIAL!E5>1,OFFICIAL!E5,\" \")","v":" "},{"$f":"IF(OFFICIAL!F5>1,OFFICIAL!F5,\" \")","v":" "},{"$f":"IF(OFFICIAL!G5>1,OFFICIAL!G5,\" \")","v":" "},{"$f":"IF(O5=99,\"\", VLOOKUP(O5,$V$4:$W$35,2))","v":""},{"$f":"IF(P5=99,\"\", VLOOKUP(P5,$V$4:$W$35,2))","v":""},{"$f":"IF(Q5=99,\"\", VLOOKUP(Q5,$V$4:$W$35,2))","v":""},{"$f":"IF(R5=99,\"\", VLOOKUP(R5,$V$4:$W$35,2))","v":""},{"$f":"IF(S5=99,\"\", VLOOKUP(S5,$V$4:$W$35,2))","v":""},{"$f":"IF(T5=99,\"\", VLOOKUP(T5,$V$4:$W$35,2))","v":""},{"$f":"IF(U5=99,\"\", VLOOKUP(U5,$V$4:$W$35,2))","v":""},{"$f":"IF(OFFICIAL!H5>1,OFFICIAL!H5,99)","v":99},{"$f":"IF(OFFICIAL!I5>1,OFFICIAL!I5,99)","v":99},{"$f":"IF(OFFICIAL!J5>1,OFFICIAL!J5,99)","v":99},{"$f":"IF(OFFICIAL!K5>1,OFFICIAL!K5,99)","v":99},{"$f":"IF(OFFICIAL!L5>1,OFFICIAL!L5,99)","v":99},{"$f":"IF(OFFICIAL!M5>1,OFFICIAL!M5,99)","v":99},{"$f":"IF(OFFICIAL!N5>1,OFFICIAL!N5,99)","v":99}]
[{"$f":"IF(OFFICIAL!A6>1,OFFICIAL!A6,\" \")","v":" "},{"$f":"IF(OFFICIAL!B6>1,OFFICIAL!B6,\" \")","v":" "},{"$f":"IF(OFFICIAL!C6>0.01,OFFICIAL!C6, \"\")","v":""},{"$f":"IF(OFFICIAL!O6>0.1,OFFICIAL!O6,\"\")","v":""},{"$f":"IF(OFFICIAL!E6>1,OFFICIAL!E6,\" \")","v":" "},{"$f":"IF(OFFICIAL!F6>1,OFFICIAL!F6,\" \")","v":" "},{"$f":"IF(OFFICIAL!G6>1,OFFICIAL!G6,\" \")","v":" "},{"$f":"IF(O6=99,\"\", VLOOKUP(O6,$V$4:$W$35,2))","v":""},"","","","","","",{"$f":"IF(OFFICIAL!H6>1,OFFICIAL!H6,99)","v":99},{"$f":"IF(OFFICIAL!I6>1,OFFICIAL!I6,99)","v":99},{"$f":"IF(OFFICIAL!J6>1,OFFICIAL!J6,99)","v":99},{"$f":"IF(OFFICIAL!K6>1,OFFICIAL!K6,99)","v":99},{"$f":"IF(OFFICIAL!L6>1,OFFICIAL!L6,99)","v":99},{"$f":"IF(OFFICIAL!M6>1,OFFICIAL!M6,99)","v":99},{"$f":"IF(OFFICIAL!N6>1,OFFICIAL!N6,99)","v":99}]
[{"$f":"IF(OFFICIAL!A7>1,OFFICIAL!A7,\" \")","v":" "},{"$f":"IF(OFFICIAL!B7>1,OFFICIAL!B7,\" \")","v":" "},{"$f":"IF(OFFICIAL!C7>0.01,OFFICIAL!C7, \"\")","v":""},{"$f":"IF(OFFICIAL!O7>0.1,OFFICIAL!O7,\"\")","v":""},{"$f":"IF(OFFICIAL!E7>1,OFFICIAL!E7,\" \")","v":" "},{"$f":"IF(OFFICIAL!F7>1,OFFICIAL!F7,\" \")","v":" "},{"$f":"IF(OFFICIAL!G7>1,OFFICIAL!G7,\" \")","v":" "},"","","","","","","",{"$f":"IF(OFFICIAL!H7>1,OFFICIAL!H7,99)","v":99},{"$f":"IF(OFFICIAL!I7>1,OFFICIAL!I7,99)","v":99},{"$f":"IF(OFFICIAL!J7>1,OFFICIAL!J7,99)","v":99},{"$f":"IF(OFFICIAL!K7>1,OFFICIAL!K7,99)","v":99},{"$f":"IF(OFFICIAL!L7>1,OFFICIAL!L7,99)","v":99},{"$f":"IF(OFFICIAL!M7>1,OFFICIAL!M7,99)","v":99},{"$f":"IF(OFFICIAL!N7>1,OFFICIAL!N7,99)","v":99}]
[{"$f":"IF(OFFICIAL!A8>1,OFFICIAL!A8,\" \")","v":" "},{"$f":"IF(OFFICIAL!B8>1,OFFICIAL!B8,\" \")","v":" "},{"$f":"IF(OFFICIAL!C8>0.01,OFFICIAL!C8, \"\")","v":""},{"$f":"IF(OFFICIAL!O8>0.1,OFFICIAL!O8,\"\")","v":""},{"$f":"IF(OFFICIAL!E8>1,OFFICIAL!E8,\" \")","v":" "},{"$f":"IF(OFFICIAL!F8>1,OFFICIAL!F8,\" \")","v":" "},{"$f":"IF(OFFICIAL!G8>1,OFFICIAL!G8,\" \")","v":" "},"","","","","","","",{"$f":"IF(OFFICIAL!H8>1,OFFICIAL!H8,99)","v":99},{"$f":"IF(OFFICIAL!I8>1,OFFICIAL!I8,99)","v":99},{"$f":"IF(OFFICIAL!J8>1,OFFICIAL!J8,99)","v":99},{"$f":"IF(OFFICIAL!K8>1,OFFICIAL!K8,99)","v":99},{"$f":"IF(OFFICIAL!L8>1,OFFICIAL!L8,99)","v":99},{"$f":"IF(OFFICIAL!M8>1,OFFICIAL!M8,99)","v":99},{"$f":"IF(OFFICIAL!N8>1,OFFICIAL!N8,99)","v":99}]
[{"$f":"IF(OFFICIAL!A9>1,OFFICIAL!A9,\" \")","v":" "},{"$f":"IF(OFFICIAL!B9>1,OFFICIAL!B9,\" \")","v":" "},{"$f":"IF(OFFICIAL!C9>0.01,OFFICIAL!C9, \"\")","v":""},{"$f":"IF(OFFICIAL!O9>0.1,OFFICIAL!O9,\"\")","v":""},{"$f":"IF(OFFICIAL!E9>1,OFFICIAL!E9,\" \")","v":" "},{"$f":"IF(OFFICIAL!F9>1,OFFICIAL!F9,\" \")","v":" "},{"$f":"IF(OFFICIAL!G9>1,OFFICIAL!G9,\" \")","v":" "},"","","","","","","",{"$f":"IF(OFFICIAL!H9>1,OFFICIAL!H9,99)","v":99},{"$f":"IF(OFFICIAL!I9>1,OFFICIAL!I9,99)","v":99},{"$f":"IF(OFFICIAL!J9>1,OFFICIAL!J9,99)","v":99},{"$f":"IF(OFFICIAL!K9>1,OFFICIAL!K9,99)","v":99},{"$f":"IF(OFFICIAL!L9>1,OFFICIAL!L9,99)","v":99},{"$f":"IF(OFFICIAL!M9>1,OFFICIAL!M9,99)","v":99},{"$f":"IF(OFFICIAL!N9>1,OFFICIAL!N9,99)","v":99}]
[{"$f":"IF(OFFICIAL!A10>1,OFFICIAL!A10,\" \")","v":" "},{"$f":"IF(OFFICIAL!B10>1,OFFICIAL!B10,\" \")","v":" "},{"$f":"IF(OFFICIAL!C10>0.01,OFFICIAL!C10, \"\")","v":""},{"$f":"IF(OFFICIAL!O10>0.1,OFFICIAL!O10,\"\")","v":""},{"$f":"IF(OFFICIAL!E10>1,OFFICIAL!E10,\" \")","v":" "},{"$f":"IF(OFFICIAL!F10>1,OFFICIAL!F10,\" \")","v":" "},{"$f":"IF(OFFICIAL!G10>1,OFFICIAL!G10,\" \")","v":" "},"","","","","","","",{"$f":"IF(OFFICIAL!H10>1,OFFICIAL!H10,99)","v":99},{"$f":"IF(OFFICIAL!I10>1,OFFICIAL!I10,99)","v":99},{"$f":"IF(OFFICIAL!J10>1,OFFICIAL!J10,99)","v":99},{"$f":"IF(OFFICIAL!K10>1,OFFICIAL!K10,99)","v":99},{"$f":"IF(OFFICIAL!L10>1,OFFICIAL!L10,99)","v":99},{"$f":"IF(OFFICIAL!M10>1,OFFICIAL!M10,99)","v":99},{"$f":"IF(OFFICIAL!N10>1,OFFICIAL!N10,99)","v":99}]
[{"$f":"IF(OFFICIAL!A11>1,OFFICIAL!A11,\" \")","v":" "},{"$f":"IF(OFFICIAL!B11>1,OFFICIAL!B11,\" \")","v":" "},{"$f":"IF(OFFICIAL!C11>0.01,OFFICIAL!C11, \"\")","v":""},{"$f":"IF(OFFICIAL!O11>0.1,OFFICIAL!O11,\"\")","v":""},{"$f":"IF(OFFICIAL!E11>1,OFFICIAL!E11,\" \")","v":" "},{"$f":"IF(OFFICIAL!F11>1,OFFICIAL!F11,\" \")","v":" "},{"$f":"IF(OFFICIAL!G11>1,OFFICIAL!G11,\" \")","v":" "},"","","","","","","",{"$f":"IF(OFFICIAL!H11>1,OFFICIAL!H11,99)","v":99},{"$f":"IF(OFFICIAL!I11>1,OFFICIAL!I11,99)","v":99},{"$f":"IF(OFFICIAL!J11>1,OFFICIAL!J11,99)","v":99},{"$f":"IF(OFFICIAL!K11>1,OFFICIAL!K11,99)","v":99},{"$f":"IF(OFFICIAL!L11>1,OFFICIAL!L11,99)","v":99},{"$f":"IF(OFFICIAL!M11>1,OFFICIAL!M11,99)","v":99},{"$f":"IF(OFFICIAL!N11>1,OFFICIAL!N11,99)","v":99}]
[{"$f":"IF(OFFICIAL!A12>1,OFFICIAL!A12,\" \")","v":" "},{"$f":"IF(OFFICIAL!B12>1,OFFICIAL!B12,\" \")","v":" "},{"$f":"IF(OFFICIAL!C12>0.01,OFFICIAL!C12, \"\")","v":""},{"$f":"IF(OFFICIAL!O12>0.1,OFFICIAL!O12,\"\")","v":""},{"$f":"IF(OFFICIAL!E12>1,OFFICIAL!E12,\" \")","v":" "},{"$f":"IF(OFFICIAL!F12>1,OFFICIAL!F12,\" \")","v":" "},{"$f":"IF(OFFICIAL!G12>1,OFFICIAL!G12,\" \")","v":" "},"","","","","","","",{"$f":"IF(OFFICIAL!H12>1,OFFICIAL!H12,99)","v":99},{"$f":"IF(OFFICIAL!I12>1,OFFICIAL!I12,99)","v":99},{"$f":"IF(OFFICIAL!J12>1,OFFICIAL!J12,99)","v":99},{"$f":"IF(OFFICIAL!K12>1,OFFICIAL!K12,99)","v":99},{"$f":"IF(OFFICIAL!L12>1,OFFICIAL!L12,99)","v":99},{"$f":"IF(OFFICIAL!M12>1,OFFICIAL!M12,99)","v":99},{"$f":"IF(OFFICIAL!N12>1,OFFICIAL!N12,99)","v":99}]
[{"$f":"IF(OFFICIAL!A13>1,OFFICIAL!A13,\" \")","v":" "},{"$f":"IF(OFFICIAL!B13>1,OFFICIAL!B13,\" \")","v":" "},{"$f":"IF(OFFICIAL!C13>0.01,OFFICIAL!C13, \"\")","v":""},{"$f":"IF(OFFICIAL!O13>0.1,OFFICIAL!O13,\"\")","v":""},{"$f":"IF(OFFICIAL!E13>1,OFFICIAL!E13,\" \")","v":" "},{"$f":"IF(OFFICIAL!F13>1,OFFICIAL!F13,\" \")","v":" "},{"$f":"IF(OFFICIAL!G13>1,OFFICIAL!G13,\" \")","v":" "},"","","","","","","",{"$f":"IF(OFFICIAL!H13>1,OFFICIAL!H13,99)","v":99},{"$f":"IF(OFFICIAL!I13>1,OFFICIAL!I13,99)","v":99},{"$f":"IF(OFFICIAL!J13>1,OFFICIAL!J13,99)","v":99},{"$f":"IF(OFFICIAL!K13>1,OFFICIAL!K13,99)","v":99},{"$f":"IF(OFFICIAL!L13>1,OFFICIAL!L13,99)","v":99},{"$f":"IF(OFFICIAL!M13>1,OFFICIAL!M13,99)","v":99},{"$f":"IF(OFFICIAL!N13>1,OFFICIAL!N13,99)","v":99}]
[{"$f":"IF(OFFICIAL!A14>1,OFFICIAL!A14,\" \")","v":" "},{"$f":"IF(OFFICIAL!B14>1,OFFICIAL!B14,\" \")","v":" "},{"$f":"IF(OFFICIAL!C14>0.01,OFFICIAL!C14, \"\")","v":""},{"$f":"IF(OFFICIAL!O14>0.1,OFFICIAL!O14,\"\")","v":""},{"$f":"IF(OFFICIAL!E14>1,OFFICIAL!E14,\" \")","v":" "},{"$f":"IF(OFFICIAL!F14>1,OFFICIAL!F14,\" \")","v":" "},{"$f":"IF(OFFICIAL!G14>1,OFFICIAL!G14,\" \")","v":" "},"","","","","","","",{"$f":"IF(OFFICIAL!H14>1,OFFICIAL!H14,99)","v":99},{"$f":"IF(OFFICIAL!I14>1,OFFICIAL!I14,99)","v":99},{"$f":"IF(OFFICIAL!J14>1,OFFICIAL!J14,99)","v":99},{"$f":"IF(OFFICIAL!K14>1,OFFICIAL!K14,99)","v":99},{"$f":"IF(OFFICIAL!L14>1,OFFICIAL!L14,99)","v":99},{"$f":"IF(OFFICIAL!M14>1,OFFICIAL!M14,99)","v":99},{"$f":"IF(OFFICIAL!N14>1,OFFICIAL!N14,99)","v":99}]
[{"$f":"IF(OFFICIAL!A15>1,OFFICIAL!A15,\" \")","v":" "},{"$f":"IF(OFFICIAL!B15>1,OFFICIAL!B15,\" \")","v":" "},{"$f":"IF(OFFICIAL!C15>0.01,OFFICIAL!C15, \"\")","v":""},{"$f":"IF(OFFICIAL!O15>0.1,OFFICIAL!O15,\"\")","v":""},{"$f":"IF(OFFICIAL!E15>1,OFFICIAL!E15,\" \")","v":" "},{"$f":"IF(OFFICIAL!F15>1,OFFICIAL!F15,\" \")","v":" "},{"$f":"IF(OFFICIAL!G15>1,OFFICIAL!G15,\" \")","v":" "},"","","","","","","",{"$f":"IF(OFFICIAL!H15>1,OFFICIAL!H15,99)","v":99},{"$f":"IF(OFFICIAL!I15>1,OFFICIAL!I15,99)","v":99},{"$f":"IF(OFFICIAL!J15>1,OFFICIAL!J15,99)","v":99},{"$f":"IF(OFFICIAL!K15>1,OFFICIAL!K15,99)","v":99},{"$f":"IF(OFFICIAL!L15>1,OFFICIAL!L15,99)","v":99},{"$f":"IF(OFFICIAL!M15>1,OFFICIAL!M15,99)","v":99},{"$f":"IF(OFFICIAL!N15>1,OFFICIAL!N15,99)","v":99}]
[{"$f":"IF(OFFICIAL!A16>1,OFFICIAL!A16,\" \")","v":" "},{"$f":"IF(OFFICIAL!B16>1,OFFICIAL!B16,\" \")","v":" "},{"$f":"IF(OFFICIAL!C16>0.01,OFFICIAL!C16, \"\")","v":""},{"$f":"IF(OFFICIAL!O16>0.1,OFFICIAL!O16,\"\")","v":""},{"$f":"IF(OFFICIAL!E16>1,OFFICIAL!E16,\" \")","v":" "},{"$f":"IF(OFFICIAL!F16>1,OFFICIAL!F16,\" \")","v":" "},{"$f":"IF(OFFICIAL!G16>1,OFFICIAL!G16,\" \")","v":" "},"","","","","","","",{"$f":"IF(OFFICIAL!H16>1,OFFICIAL!H16,99)","v":99},{"$f":"IF(OFFICIAL!I16>1,OFFICIAL!I16,99)","v":99},{"$f":"IF(OFFICIAL!J16>1,OFFICIAL!J16,99)","v":99},{"$f":"IF(OFFICIAL!K16>1,OFFICIAL!K16,99)","v":99},{"$f":"IF(OFFICIAL!L16>1,OFFICIAL!L16,99)","v":99},{"$f":"IF(OFFICIAL!M16>1,OFFICIAL!M16,99)","v":99},{"$f":"IF(OFFICIAL!N16>1,OFFICIAL!N16,99)","v":99}]
[{"$f":"IF(OFFICIAL!A17>1,OFFICIAL!A17,\" \")","v":" "},{"$f":"IF(OFFICIAL!B17>1,OFFICIAL!B17,\" \")","v":" "},{"$f":"IF(OFFICIAL!C17>0.01,OFFICIAL!C17, \"\")","v":""},{"$f":"IF(OFFICIAL!O17>0.1,OFFICIAL!O17,\"\")","v":""},{"$f":"IF(OFFICIAL!E17>1,OFFICIAL!E17,\" \")","v":" "},{"$f":"IF(OFFICIAL!F17>1,OFFICIAL!F17,\" \")","v":" "},{"$f":"IF(OFFICIAL!G17>1,OFFICIAL!G17,\" \")","v":" "},"","","","","","","",{"$f":"IF(OFFICIAL!H17>1,OFFICIAL!H17,99)","v":99},{"$f":"IF(OFFICIAL!I17>1,OFFICIAL!I17,99)","v":99},{"$f":"IF(OFFICIAL!J17>1,OFFICIAL!J17,99)","v":99},{"$f":"IF(OFFICIAL!K17>1,OFFICIAL!K17,99)","v":99},{"$f":"IF(OFFICIAL!L17>1,OFFICIAL!L17,99)","v":99},{"$f":"IF(OFFICIAL!M17>1,OFFICIAL!M17,99)","v":99},{"$f":"IF(OFFICIAL!N17>1,OFFICIAL!N17,99)","v":99}]
[{"$f":"IF(OFFICIAL!A18>1,OFFICIAL!A18,\" \")","v":" "},{"$f":"IF(OFFICIAL!B18>1,OFFICIAL!B18,\" \")","v":" "},{"$f":"IF(OFFICIAL!C18>0.01,OFFICIAL!C18, \"\")","v":""},{"$f":"IF(OFFICIAL!O18>0.1,OFFICIAL!O18,\"\")","v":""},{"$f":"IF(OFFICIAL!E18>1,OFFICIAL!E18,\" \")","v":" "},{"$f":"IF(OFFICIAL!F18>1,OFFICIAL!F18,\" \")","v":" "},{"$f":"IF(OFFICIAL!G18>1,OFFICIAL!G18,\" \")","v":" "},"","","","","","","",{"$f":"IF(OFFICIAL!H18>1,OFFICIAL!H18,99)","v":99},{"$f":"IF(OFFICIAL!I18>1,OFFICIAL!I18,99)","v":99},{"$f":"IF(OFFICIAL!J18>1,OFFICIAL!J18,99)","v":99},{"$f":"IF(OFFICIAL!K18>1,OFFICIAL!K18,99)","v":99},{"$f":"IF(OFFICIAL!L18>1,OFFICIAL!L18,99)","v":99},{"$f":"IF(OFFICIAL!M18>1,OFFICIAL!M18,99)","v":99},{"$f":"IF(OFFICIAL!N18>1,OFFICIAL!N18,99)","v":99}]
[{"$f":"IF(OFFICIAL!A19>1,OFFICIAL!A19,\" \")","v":" "},{"$f":"IF(OFFICIAL!B19>1,OFFICIAL!B19,\" \")","v":" "},{"$f":"IF(OFFICIAL!C19>0.01,OFFICIAL!C19, \"\")","v":""},{"$f":"IF(OFFICIAL!O19>0.1,OFFICIAL!O19,\"\")","v":""},{"$f":"IF(OFFICIAL!E19>1,OFFICIAL!E19,\" \")","v":" "},{"$f":"IF(OFFICIAL!F19>1,OFFICIAL!F19,\" \")","v":" "},{"$f":"IF(OFFICIAL!G19>1,OFFICIAL!G19,\" \")","v":" "},"","","","","","","",{"$f":"IF(OFFICIAL!H19>1,OFFICIAL!H19,99)","v":99},{"$f":"IF(OFFICIAL!I19>1,OFFICIAL!I19,99)","v":99},{"$f":"IF(OFFICIAL!J19>1,OFFICIAL!J19,99)","v":99},{"$f":"IF(OFFICIAL!K19>1,OFFICIAL!K19,99)","v":99},{"$f":"IF(OFFICIAL!L19>1,OFFICIAL!L19,99)","v":99},{"$f":"IF(OFFICIAL!M19>1,OFFICIAL!M19,99)","v":99},{"$f":"IF(OFFICIAL!N19>1,OFFICIAL!N19,99)","v":99}]
[{"$f":"IF(OFFICIAL!A20>1,OFFICIAL!A20,\" \")","v":" "},{"$f":"IF(OFFICIAL!B20>1,OFFICIAL!B20,\" \")","v":" "},{"$f":"IF(OFFICIAL!C20>0.01,OFFICIAL!C20, \"\")","v":""},{"$f":"IF(OFFICIAL!O20>0.1,OFFICIAL!O20,\"\")","v":""},{"$f":"IF(OFFICIAL!E20>1,OFFICIAL!E20,\" \")","v":" "},{"$f":"IF(OFFICIAL!F20>1,OFFICIAL!F20,\" \")","v":" "},{"$f":"IF(OFFICIAL!G20>1,OFFICIAL!G20,\" \")","v":" "},"","","","","","","",{"$f":"IF(OFFICIAL!H20>1,OFFICIAL!H20,99)","v":99},{"$f":"IF(OFFICIAL!I20>1,OFFICIAL!I20,99)","v":99},{"$f":"IF(OFFICIAL!J20>1,OFFICIAL!J20,99)","v":99},{"$f":"IF(OFFICIAL!K20>1,OFFICIAL!K20,99)","v":99},{"$f":"IF(OFFICIAL!L20>1,OFFICIAL!L20,99)","v":99},{"$f":"IF(OFFICIAL!M20>1,OFFICIAL!M20,99)","v":99},{"$f":"IF(OFFICIAL!N20>1,OFFICIAL!N20,99)","v":99}]
[{"$f":"IF(OFFICIAL!A21>1,OFFICIAL!A21,\" \")","v":" "},{"$f":"IF(OFFICIAL!B21>1,OFFICIAL!B21,\" \")","v":" "},{"$f":"IF(OFFICIAL!C21>0.01,OFFICIAL!C21, \"\")","v":""},{"$f":"IF(OFFICIAL!O21>0.1,OFFICIAL!O21,\"\")","v":""},{"$f":"IF(OFFICIAL!E21>1,OFFICIAL!E21,\" \")","v":" "},{"$f":"IF(OFFICIAL!F21>1,OFFICIAL!F21,\" \")","v":" "},{"$f":"IF(OFFICIAL!G21>1,OFFICIAL!G21,\" \")","v":" "},"","","","","","","",{"$f":"IF(OFFICIAL!H21>1,OFFICIAL!H21,99)","v":99},{"$f":"IF(OFFICIAL!I21>1,OFFICIAL!I21,99)","v":99},{"$f":"IF(OFFICIAL!J21>1,OFFICIAL!J21,99)","v":99},{"$f":"IF(OFFICIAL!K21>1,OFFICIAL!K21,99)","v":99},{"$f":"IF(OFFICIAL!L21>1,OFFICIAL!L21,99)","v":99},{"$f":"IF(OFFICIAL!M21>1,OFFICIAL!M21,99)","v":99},{"$f":"IF(OFFICIAL!N21>1,OFFICIAL!N21,99)","v":99}]
[{"$f":"IF(OFFICIAL!A22>1,OFFICIAL!A22,\" \")","v":" "},{"$f":"IF(OFFICIAL!B22>1,OFFICIAL!B22,\" \")","v":" "},{"$f":"IF(OFFICIAL!C22>0.01,OFFICIAL!C22, \"\")","v":""},{"$f":"IF(OFFICIAL!O22>0.1,OFFICIAL!O22,\"\")","v":""},{"$f":"IF(OFFICIAL!E22>1,OFFICIAL!E22,\" \")","v":" "},{"$f":"IF(OFFICIAL!F22>1,OFFICIAL!F22,\" \")","v":" "},{"$f":"IF(OFFICIAL!G22>1,OFFICIAL!G22,\" \")","v":" "},"","","","","","","",{"$f":"IF(OFFICIAL!H22>1,OFFICIAL!H22,99)","v":99},{"$f":"IF(OFFICIAL!I22>1,OFFICIAL!I22,99)","v":99},{"$f":"IF(OFFICIAL!J22>1,OFFICIAL!J22,99)","v":99},{"$f":"IF(OFFICIAL!K22>1,OFFICIAL!K22,99)","v":99},{"$f":"IF(OFFICIAL!L22>1,OFFICIAL!L22,99)","v":99},{"$f":"IF(OFFICIAL!M22>1,OFFICIAL!M22,99)","v":99},{"$f":"IF(OFFICIAL!N22>1,OFFICIAL!N22,99)","v":99}]
[{"$f":"IF(OFFICIAL!A23>1,OFFICIAL!A23,\" \")","v":" "},{"$f":"IF(OFFICIAL!B23>1,OFFICIAL!B23,\" \")","v":" "},{"$f":"IF(OFFICIAL!C23>0.01,OFFICIAL!C23, \"\")","v":""},{"$f":"IF(OFFICIAL!O23>0.1,OFFICIAL!O23,\"\")","v":""},{"$f":"IF(OFFICIAL!E23>1,OFFICIAL!E23,\" \")","v":" "},{"$f":"IF(OFFICIAL!F23>1,OFFICIAL!F23,\" \")","v":" "},{"$f":"IF(OFFICIAL!G23>1,OFFICIAL!G23,\" \")","v":" "},"","","","","","","",{"$f":"IF(OFFICIAL!H23>1,OFFICIAL!H23,99)","v":99},{"$f":"IF(OFFICIAL!I23>1,OFFICIAL!I23,99)","v":99},{"$f":"IF(OFFICIAL!J23>1,OFFICIAL!J23,99)","v":99},{"$f":"IF(OFFICIAL!K23>1,OFFICIAL!K23,99)","v":99},{"$f":"IF(OFFICIAL!L23>1,OFFICIAL!L23,99)","v":99},{"$f":"IF(OFFICIAL!M23>1,OFFICIAL!M23,99)","v":99},{"$f":"IF(OFFICIAL!N23>1,OFFICIAL!N23,99)","v":99}]
[{"$f":"IF(OFFICIAL!A24>1,OFFICIAL!A24,\" \")","v":" "},{"$f":"IF(OFFICIAL!B24>1,OFFICIAL!B24,\" \")","v":" "},{"$f":"IF(OFFICIAL!C24>0.01,OFFICIAL!C24, \"\")","v":""},{"$f":"IF(OFFICIAL!O24>0.1,OFFICIAL!O24,\"\")","v":""},{"$f":"IF(OFFICIAL!E24>1,OFFICIAL!E24,\" \")","v":" "},{"$f":"IF(OFFICIAL!F24>1,OFFICIAL!F24,\" \")","v":" "},{"$f":"IF(OFFICIAL!G24>1,OFFICIAL!G24,\" \")","v":" "},"","","","","","","",{"$f":"IF(OFFICIAL!H24>1,OFFICIAL!H24,99)","v":99},{"$f":"IF(OFFICIAL!I24>1,OFFICIAL!I24,99)","v":99},{"$f":"IF(OFFICIAL!J24>1,OFFICIAL!J24,99)","v":99},{"$f":"IF(OFFICIAL!K24>1,OFFICIAL!K24,99)","v":99},{"$f":"IF(OFFICIAL!L24>1,OFFICIAL!L24,99)","v":99},{"$f":"IF(OFFICIAL!M24>1,OFFICIAL!M24,99)","v":99},{"$f":"IF(OFFICIAL!N24>1,OFFICIAL!N24,99)","v":99}]
[{"$f":"IF(OFFICIAL!A25>1,OFFICIAL!A25,\" \")","v":" "},{"$f":"IF(OFFICIAL!B25>1,OFFICIAL!B25,\" \")","v":" "},{"$f":"IF(OFFICIAL!C25>0.01,OFFICIAL!C25, \"\")","v":""},{"$f":"IF(OFFICIAL!O25>0.1,OFFICIAL!O25,\"\")","v":""},{"$f":"IF(OFFICIAL!E25>1,OFFICIAL!E25,\" \")","v":" "},{"$f":"IF(OFFICIAL!F25>1,OFFICIAL!F25,\" \")","v":" "},{"$f":"IF(OFFICIAL!G25>1,OFFICIAL!G25,\" \")","v":" "},"","","","","","","",{"$f":"IF(OFFICIAL!H25>1,OFFICIAL!H25,99)","v":99},{"$f":"IF(OFFICIAL!I25>1,OFFICIAL!I25,99)","v":99},{"$f":"IF(OFFICIAL!J25>1,OFFICIAL!J25,99)","v":99},{"$f":"IF(OFFICIAL!K25>1,OFFICIAL!K25,99)","v":99},{"$f":"IF(OFFICIAL!L25>1,OFFICIAL!L25,99)","v":99},{"$f":"IF(OFFICIAL!M25>1,OFFICIAL!M25,99)","v":99},{"$f":"IF(OFFICIAL!N25>1,OFFICIAL!N25,99)","v":99}]
[{"$f":"IF(OFFICIAL!A26>1,OFFICIAL!A26,\" \")","v":" "},{"$f":"IF(OFFICIAL!B26>1,OFFICIAL!B26,\" \")","v":" "},{"$f":"IF(OFFICIAL!C26>0.01,OFFICIAL!C26, \"\")","v":""},{"$f":"IF(OFFICIAL!O26>0.1,OFFICIAL!O26,\"\")","v":""},{"$f":"IF(OFFICIAL!E26>1,OFFICIAL!E26,\" \")","v":" "},{"$f":"IF(OFFICIAL!F26>1,OFFICIAL!F26,\" \")","v":" "},{"$f":"IF(OFFICIAL!G26>1,OFFICIAL!G26,\" \")","v":" "},"","","","","","","",{"$f":"IF(OFFICIAL!H26>1,OFFICIAL!H26,99)","v":99},{"$f":"IF(OFFICIAL!I26>1,OFFICIAL!I26,99)","v":99},{"$f":"IF(OFFICIAL!J26>1,OFFICIAL!J26,99)","v":99},{"$f":"IF(OFFICIAL!K26>1,OFFICIAL!K26,99)","v":99},{"$f":"IF(OFFICIAL!L26>1,OFFICIAL!L26,99)","v":99},{"$f":"IF(OFFICIAL!M26>1,OFFICIAL!M26,99)","v":99},{"$f":"IF(OFFICIAL!N26>1,OFFICIAL!N26,99)","v":99}]
[{"$f":"IF(OFFICIAL!A27>1,OFFICIAL!A27,\" \")","v":" "},{"$f":"IF(OFFICIAL!B27>1,OFFICIAL!B27,\" \")","v":" "},{"$f":"IF(OFFICIAL!C27>0.01,OFFICIAL!C27, \"\")","v":""},{"$f":"IF(OFFICIAL!O27>0.1,OFFICIAL!O27,\"\")","v":""},{"$f":"IF(OFFICIAL!E27>1,OFFICIAL!E27,\" \")","v":" "},{"$f":"IF(OFFICIAL!F27>1,OFFICIAL!F27,\" \")","v":" "},{"$f":"IF(OFFICIAL!G27>1,OFFICIAL!G27,\" \")","v":" "},"","","","","","","",{"$f":"IF(OFFICIAL!H27>1,OFFICIAL!H27,99)","v":99},{"$f":"IF(OFFICIAL!I27>1,OFFICIAL!I27,99)","v":99},{"$f":"IF(OFFICIAL!J27>1,OFFICIAL!J27,99)","v":99},{"$f":"IF(OFFICIAL!K27>1,OFFICIAL!K27,99)","v":99},{"$f":"IF(OFFICIAL!L27>1,OFFICIAL!L27,99)","v":99},{"$f":"IF(OFFICIAL!M27>1,OFFICIAL!M27,99)","v":99},{"$f":"IF(OFFICIAL!N27>1,OFFICIAL!N27,99)","v":99}]
[{"$f":"IF(OFFICIAL!A28>1,OFFICIAL!A28,\" \")","v":" "},{"$f":"IF(OFFICIAL!B28>1,OFFICIAL!B28,\" \")","v":" "},{"$f":"IF(OFFICIAL!C28>0.01,OFFICIAL!C28, \"\")","v":""},{"$f":"IF(OFFICIAL!O28>0.1,OFFICIAL!O28,\"\")","v":""},{"$f":"IF(OFFICIAL!E28>1,OFFICIAL!E28,\" \")","v":" "},{"$f":"IF(OFFICIAL!F28>1,OFFICIAL!F28,\" \")","v":" "},{"$f":"IF(OFFICIAL!G28>1,OFFICIAL!G28,\" \")","v":" "},"","","","","","","",{"$f":"IF(OFFICIAL!H28>1,OFFICIAL!H28,99)","v":99},{"$f":"IF(OFFICIAL!I28>1,OFFICIAL!I28,99)","v":99},{"$f":"IF(OFFICIAL!J28>1,OFFICIAL!J28,99)","v":99},{"$f":"IF(OFFICIAL!K28>1,OFFICIAL!K28,99)","v":99},{"$f":"IF(OFFICIAL!L28>1,OFFICIAL!L28,99)","v":99},{"$f":"IF(OFFICIAL!M28>1,OFFICIAL!M28,99)","v":99},{"$f":"IF(OFFICIAL!N28>1,OFFICIAL!N28,99)","v":99}]
[{"$f":"IF(OFFICIAL!A29>1,OFFICIAL!A29,\" \")","v":" "},{"$f":"IF(OFFICIAL!B29>1,OFFICIAL!B29,\" \")","v":" "},{"$f":"IF(OFFICIAL!C29>0.01,OFFICIAL!C29, \"\")","v":""},{"$f":"IF(OFFICIAL!O29>0.1,OFFICIAL!O29,\"\")","v":""},{"$f":"IF(OFFICIAL!E29>1,OFFICIAL!E29,\" \")","v":" "},{"$f":"IF(OFFICIAL!F29>1,OFFICIAL!F29,\" \")","v":" "},{"$f":"IF(OFFICIAL!G29>1,OFFICIAL!G29,\" \")","v":" "},"","","","","","","",{"$f":"IF(OFFICIAL!H29>1,OFFICIAL!H29,99)","v":99},{"$f":"IF(OFFICIAL!I29>1,OFFICIAL!I29,99)","v":99},{"$f":"IF(OFFICIAL!J29>1,OFFICIAL!J29,99)","v":99},{"$f":"IF(OFFICIAL!K29>1,OFFICIAL!K29,99)","v":99},{"$f":"IF(OFFICIAL!L29>1,OFFICIAL!L29,99)","v":99},{"$f":"IF(OFFICIAL!M29>1,OFFICIAL!M29,99)","v":99},{"$f":"IF(OFFICIAL!N29>1,OFFICIAL!N29,99)","v":99}]
[{"$f":"IF(OFFICIAL!A30>1,OFFICIAL!A30,\" \")","v":" "},{"$f":"IF(OFFICIAL!B30>1,OFFICIAL!B30,\" \")","v":" "},{"$f":"IF(OFFICIAL!C30>0.01,OFFICIAL!C30, \"\")","v":""},{"$f":"IF(OFFICIAL!O30>0.1,OFFICIAL!O30,\"\")","v":""},{"$f":"IF(OFFICIAL!E30>1,OFFICIAL!E30,\" \")","v":" "},{"$f":"IF(OFFICIAL!F30>1,OFFICIAL!F30,\" \")","v":" "},{"$f":"IF(OFFICIAL!G30>1,OFFICIAL!G30,\" \")","v":" "},"","","","","","","",{"$f":"IF(OFFICIAL!H30>1,OFFICIAL!H30,99)","v":99},{"$f":"IF(OFFICIAL!I30>1,OFFICIAL!I30,99)","v":99},{"$f":"IF(OFFICIAL!J30>1,OFFICIAL!J30,99)","v":99},{"$f":"IF(OFFICIAL!K30>1,OFFICIAL!K30,99)","v":99},{"$f":"IF(OFFICIAL!L30>1,OFFICIAL!L30,99)","v":99},{"$f":"IF(OFFICIAL!M30>1,OFFICIAL!M30,99)","v":99},{"$f":"IF(OFFICIAL!N30>1,OFFICIAL!N30,99)","v":99}]
[{"$f":"IF(OFFICIAL!A31>1,OFFICIAL!A31,\" \")","v":" "},{"$f":"IF(OFFICIAL!B31>1,OFFICIAL!B31,\" \")","v":" "},{"$f":"IF(OFFICIAL!C31>0.01,OFFICIAL!C31, \"\")","v":""},{"$f":"IF(OFFICIAL!O31>0.1,OFFICIAL!O31,\"\")","v":""},{"$f":"IF(OFFICIAL!E31>1,OFFICIAL!E31,\" \")","v":" "},{"$f":"IF(OFFICIAL!F31>1,OFFICIAL!F31,\" \")","v":" "},{"$f":"IF(OFFICIAL!G31>1,OFFICIAL!G31,\" \")","v":" "},"","","","","","","",{"$f":"IF(OFFICIAL!H31>1,OFFICIAL!H31,99)","v":99},{"$f":"IF(OFFICIAL!I31>1,OFFICIAL!I31,99)","v":99},{"$f":"IF(OFFICIAL!J31>1,OFFICIAL!J31,99)","v":99},{"$f":"IF(OFFICIAL!K31>1,OFFICIAL!K31,99)","v":99},{"$f":"IF(OFFICIAL!L31>1,OFFICIAL!L31,99)","v":99},{"$f":"IF(OFFICIAL!M31>1,OFFICIAL!M31,99)","v":99},{"$f":"IF(OFFICIAL!N31>1,OFFICIAL!N31,99)","v":99}]
[{"$f":"IF(OFFICIAL!A32>1,OFFICIAL!A32,\" \")","v":" "},{"$f":"IF(OFFICIAL!B32>1,OFFICIAL!B32,\" \")","v":" "},{"$f":"IF(OFFICIAL!C32>0.01,OFFICIAL!C32, \"\")","v":""},{"$f":"IF(OFFICIAL!O32>0.1,OFFICIAL!O32,\"\")","v":""},{"$f":"IF(OFFICIAL!E32>1,OFFICIAL!E32,\" \")","v":" "},{"$f":"IF(OFFICIAL!F32>1,OFFICIAL!F32,\" \")","v":" "},{"$f":"IF(OFFICIAL!G32>1,OFFICIAL!G32,\" \")","v":" "},"","","","","","","",{"$f":"IF(OFFICIAL!H32>1,OFFICIAL!H32,99)","v":99},{"$f":"IF(OFFICIAL!I32>1,OFFICIAL!I32,99)","v":99},{"$f":"IF(OFFICIAL!J32>1,OFFICIAL!J32,99)","v":99},{"$f":"IF(OFFICIAL!K32>1,OFFICIAL!K32,99)","v":99},{"$f":"IF(OFFICIAL!L32>1,OFFICIAL!L32,99)","v":99},{"$f":"IF(OFFICIAL!M32>1,OFFICIAL!M32,99)","v":99},{"$f":"IF(OFFICIAL!N32>1,OFFICIAL!N32,99)","v":99}]
[{"$f":"IF(OFFICIAL!A33>1,OFFICIAL!A33,\" \")","v":" "},{"$f":"IF(OFFICIAL!B33>1,OFFICIAL!B33,\" \")","v":" "},{"$f":"IF(OFFICIAL!C33>0.01,OFFICIAL!C33, \"\")","v":""},{"$f":"IF(OFFICIAL!O33>0.1,OFFICIAL!O33,\"\")","v":""},{"$f":"IF(OFFICIAL!E33>1,OFFICIAL!E33,\" \")","v":" "},{"$f":"IF(OFFICIAL!F33>1,OFFICIAL!F33,\" \")","v":" "},{"$f":"IF(OFFICIAL!G33>1,OFFICIAL!G33,\" \")","v":" "},"","","","","","","",{"$f":"IF(OFFICIAL!H33>1,OFFICIAL!H33,99)","v":99},{"$f":"IF(OFFICIAL!I33>1,OFFICIAL!I33,99)","v":99},{"$f":"IF(OFFICIAL!J33>1,OFFICIAL!J33,99)","v":99},{"$f":"IF(OFFICIAL!K33>1,OFFICIAL!K33,99)","v":99},{"$f":"IF(OFFICIAL!L33>1,OFFICIAL!L33,99)","v":99},{"$f":"IF(OFFICIAL!M33>1,OFFICIAL!M33,99)","v":99},{"$f":"IF(OFFICIAL!N33>1,OFFICIAL!N33,99)","v":99}]
[{"$f":"IF(OFFICIAL!A34>1,OFFICIAL!A34,\" \")","v":" "},{"$f":"IF(OFFICIAL!B34>1,OFFICIAL!B34,\" \")","v":" "},{"$f":"IF(OFFICIAL!C34>0.01,OFFICIAL!C34, \"\")","v":""},{"$f":"IF(OFFICIAL!O34>0.1,OFFICIAL!O34,\"\")","v":""},{"$f":"IF(OFFICIAL!E34>1,OFFICIAL!E34,\" \")","v":" "},{"$f":"IF(OFFICIAL!F34>1,OFFICIAL!F34,\" \")","v":" "},{"$f":"IF(OFFICIAL!G34>1,OFFICIAL!G34,\" \")","v":" "},"","","","","","","",{"$f":"IF(OFFICIAL!H34>1,OFFICIAL!H34,99)","v":99},{"$f":"IF(OFFICIAL!I34>1,OFFICIAL!I34,99)","v":99},{"$f":"IF(OFFICIAL!J34>1,OFFICIAL!J34,99)","v":99},{"$f":"IF(OFFICIAL!K34>1,OFFICIAL!K34,99)","v":99},{"$f":"IF(OFFICIAL!L34>1,OFFICIAL!L34,99)","v":99},{"$f":"IF(OFFICIAL!M34>1,OFFICIAL!M34,99)","v":99},{"$f":"IF(OFFICIAL!N34>1,OFFICIAL!N34,99)","v":99}]
[{"$f":"IF(OFFICIAL!A35>1,OFFICIAL!A35,\" \")","v":" "},{"$f":"IF(OFFICIAL!B35>1,OFFICIAL!B35,\" \")","v":" "},{"$f":"IF(OFFICIAL!C35>0.01,OFFICIAL!C35, \"\")","v":""},{"$f":"IF(OFFICIAL!O35>0.1,OFFICIAL!O35,\"\")","v":""},{"$f":"IF(OFFICIAL!E35>1,OFFICIAL!E35,\" \")","v":" "},{"$f":"IF(OFFICIAL!F35>1,OFFICIAL!F35,\" \")","v":" "},{"$f":"IF(OFFICIAL!G35>1,OFFICIAL!G35,\" \")","v":" "},"","","","","","","",{"$f":"IF(OFFICIAL!H35>1,OFFICIAL!H35,99)","v":99},{"$f":"IF(OFFICIAL!I35>1,OFFICIAL!I35,99)","v":99},{"$f":"IF(OFFICIAL!J35>1,OFFICIAL!J35,99)","v":99},{"$f":"IF(OFFICIAL!K35>1,OFFICIAL!K35,99)","v":99},{"$f":"IF(OFFICIAL!L35>1,OFFICIAL!L35,99)","v":99},{"$f":"IF(OFFICIAL!M35>1,OFFICIAL!M35,99)","v":99},{"$f":"IF(OFFICIAL!N35>1,OFFICIAL!N35,99)","v":99}]
[{"$f":"IF(OFFICIAL!A36>1,OFFICIAL!A36,\" \")","v":" "},{"$f":"IF(OFFICIAL!B36>1,OFFICIAL!B36,\" \")","v":" "},{"$f":"IF(OFFICIAL!C36>0.01,OFFICIAL!C36, \"\")","v":""},{"$f":"IF(OFFICIAL!O36>0.1,OFFICIAL!O36,\"\")","v":""},{"$f":"IF(OFFICIAL!E36>1,OFFICIAL!E36,\" \")","v":" "},{"$f":"IF(OFFICIAL!F36>1,OFFICIAL!F36,\" \")","v":" "},{"$f":"IF(OFFICIAL!G36>1,OFFICIAL!G36,\" \")","v":" "},"","","","","","","",{"$f":"IF(OFFICIAL!H36>1,OFFICIAL!H36,99)","v":99},{"$f":"IF(OFFICIAL!I36>1,OFFICIAL!I36,99)","v":99},{"$f":"IF(OFFICIAL!J36>1,OFFICIAL!J36,99)","v":99},{"$f":"IF(OFFICIAL!K36>1,OFFICIAL!K36,99)","v":99},{"$f":"IF(OFFICIAL!L36>1,OFFICIAL!L36,99)","v":99},{"$f":"IF(OFFICIAL!M36>1,OFFICIAL!M36,99)","v":99},{"$f":"IF(OFFICIAL!N36>1,OFFICIAL!N36,99)","v":99}]
[{"$f":"IF(OFFICIAL!A37>1,OFFICIAL!A37,\" \")","v":" "},{"$f":"IF(OFFICIAL!B37>1,OFFICIAL!B37,\" \")","v":" "},{"$f":"IF(OFFICIAL!C37>0.01,OFFICIAL!C37, \"\")","v":""},{"$f":"IF(OFFICIAL!O37>0.1,OFFICIAL!O37,\"\")","v":""},{"$f":"IF(OFFICIAL!E37>1,OFFICIAL!E37,\" \")","v":" "},{"$f":"IF(OFFICIAL!F37>1,OFFICIAL!F37,\" \")","v":" "},{"$f":"IF(OFFICIAL!G37>1,OFFICIAL!G37,\" \")","v":" "},"","","","","","","",{"$f":"IF(OFFICIAL!H37>1,OFFICIAL!H37,99)","v":99},{"$f":"IF(OFFICIAL!I37>1,OFFICIAL!I37,99)","v":99},{"$f":"IF(OFFICIAL!J37>1,OFFICIAL!J37,99)","v":99},{"$f":"IF(OFFICIAL!K37>1,OFFICIAL!K37,99)","v":99},{"$f":"IF(OFFICIAL!L37>1,OFFICIAL!L37,99)","v":99},{"$f":"IF(OFFICIAL!M37>1,OFFICIAL!M37,99)","v":99},{"$f":"IF(OFFICIAL!N37>1,OFFICIAL!N37,99)","v":99}]
[{"$f":"IF(OFFICIAL!A38>1,OFFICIAL!A38,\" \")","v":" "},{"$f":"IF(OFFICIAL!B38>1,OFFICIAL!B38,\" \")","v":" "},{"$f":"IF(OFFICIAL!C38>0.01,OFFICIAL!C38, \"\")","v":""},{"$f":"IF(OFFICIAL!O38>0.1,OFFICIAL!O38,\"\")","v":""},{"$f":"IF(OFFICIAL!E38>1,OFFICIAL!E38,\" \")","v":" "},{"$f":"IF(OFFICIAL!F38>1,OFFICIAL!F38,\" \")","v":" "},{"$f":"IF(OFFICIAL!G38>1,OFFICIAL!G38,\" \")","v":" "},"","","","","","","",{"$f":"IF(OFFICIAL!H38>1,OFFICIAL!H38,99)","v":99},{"$f":"IF(OFFICIAL!I38>1,OFFICIAL!I38,99)","v":99},{"$f":"IF(OFFICIAL!J38>1,OFFICIAL!J38,99)","v":99},{"$f":"IF(OFFICIAL!K38>1,OFFICIAL!K38,99)","v":99},{"$f":"IF(OFFICIAL!L38>1,OFFICIAL!L38,99)","v":99},{"$f":"IF(OFFICIAL!M38>1,OFFICIAL!M38,99)","v":99},{"$f":"IF(OFFICIAL!N38>1,OFFICIAL!N38,99)","v":99}]
[{"$f":"IF(OFFICIAL!A39>1,OFFICIAL!A39,\" \")","v":" "},{"$f":"IF(OFFICIAL!B39>1,OFFICIAL!B39,\" \")","v":" "},{"$f":"IF(OFFICIAL!C39>0.01,OFFICIAL!C39, \"\")","v":""},{"$f":"IF(OFFICIAL!O39>0.1,OFFICIAL!O39,\"\")","v":""},{"$f":"IF(OFFICIAL!E39>1,OFFICIAL!E39,\" \")","v":" "},{"$f":"IF(OFFICIAL!F39>1,OFFICIAL!F39,\" \")","v":" "},{"$f":"IF(OFFICIAL!G39>1,OFFICIAL!G39,\" \")","v":" "},"","","","","","","",{"$f":"IF(OFFICIAL!H39>1,OFFICIAL!H39,99)","v":99},{"$f":"IF(OFFICIAL!I39>1,OFFICIAL!I39,99)","v":99},{"$f":"IF(OFFICIAL!J39>1,OFFICIAL!J39,99)","v":99},{"$f":"IF(OFFICIAL!K39>1,OFFICIAL!K39,99)","v":99},{"$f":"IF(OFFICIAL!L39>1,OFFICIAL!L39,99)","v":99},{"$f":"IF(OFFICIAL!M39>1,OFFICIAL!M39,99)","v":99},{"$f":"IF(OFFICIAL!N39>1,OFFICIAL!N39,99)","v":99}]
[{"$f":"IF(OFFICIAL!A40>1,OFFICIAL!A40,\" \")","v":" "},{"$f":"IF(OFFICIAL!B40>1,OFFICIAL!B40,\" \")","v":" "},{"$f":"IF(OFFICIAL!C40>0.01,OFFICIAL!C40, \"\")","v":""},{"$f":"IF(OFFICIAL!O40>0.1,OFFICIAL!O40,\"\")","v":""},{"$f":"IF(OFFICIAL!E40>1,OFFICIAL!E40,\" \")","v":" "},{"$f":"IF(OFFICIAL!F40>1,OFFICIAL!F40,\" \")","v":" "},{"$f":"IF(OFFICIAL!G40>1,OFFICIAL!G40,\" \")","v":" "},"","","","","","","",{"$f":"IF(OFFICIAL!H40>1,OFFICIAL!H40,99)","v":99},{"$f":"IF(OFFICIAL!I40>1,OFFICIAL!I40,99)","v":99},{"$f":"IF(OFFICIAL!J40>1,OFFICIAL!J40,99)","v":99},{"$f":"IF(OFFICIAL!K40>1,OFFICIAL!K40,99)","v":99},{"$f":"IF(OFFICIAL!L40>1,OFFICIAL!L40,99)","v":99},{"$f":"IF(OFFICIAL!M40>1,OFFICIAL!M40,99)","v":99},{"$f":"IF(OFFICIAL!N40>1,OFFICIAL!N40,99)","v":99}]
[{"$f":"IF(OFFICIAL!A41>1,OFFICIAL!A41,\" \")","v":" "},{"$f":"IF(OFFICIAL!B41>1,OFFICIAL!B41,\" \")","v":" "},{"$f":"IF(OFFICIAL!C41>0.01,OFFICIAL!C41, \"\")","v":""},{"$f":"IF(OFFICIAL!O41>0.1,OFFICIAL!O41,\"\")","v":""},{"$f":"IF(OFFICIAL!E41>1,OFFICIAL!E41,\" \")","v":" "},{"$f":"IF(OFFICIAL!F41>1,OFFICIAL!F41,\" \")","v":" "},{"$f":"IF(OFFICIAL!G41>1,OFFICIAL!G41,\" \")","v":" "},"","","","","","","",{"$f":"IF(OFFICIAL!H41>1,OFFICIAL!H41,99)","v":99},{"$f":"IF(OFFICIAL!I41>1,OFFICIAL!I41,99)","v":99},{"$f":"IF(OFFICIAL!J41>1,OFFICIAL!J41,99)","v":99},{"$f":"IF(OFFICIAL!K41>1,OFFICIAL!K41,99)","v":99},{"$f":"IF(OFFICIAL!L41>1,OFFICIAL!L41,99)","v":99},{"$f":"IF(OFFICIAL!M41>1,OFFICIAL!M41,99)","v":99},{"$f":"IF(OFFICIAL!N41>1,OFFICIAL!N41,99)","v":99}]
[{"$f":"IF(OFFICIAL!A42>1,OFFICIAL!A42,\" \")","v":" "},{"$f":"IF(OFFICIAL!B42>1,OFFICIAL!B42,\" \")","v":" "},{"$f":"IF(OFFICIAL!C42>0.01,OFFICIAL!C42, \"\")","v":""},{"$f":"IF(OFFICIAL!O42>0.1,OFFICIAL!O42,\"\")","v":""},{"$f":"IF(OFFICIAL!E42>1,OFFICIAL!E42,\" \")","v":" "},{"$f":"IF(OFFICIAL!F42>1,OFFICIAL!F42,\" \")","v":" "},{"$f":"IF(OFFICIAL!G42>1,OFFICIAL!G42,\" \")","v":" "},"","","","","","","",{"$f":"IF(OFFICIAL!H42>1,OFFICIAL!H42,99)","v":99},{"$f":"IF(OFFICIAL!I42>1,OFFICIAL!I42,99)","v":99},{"$f":"IF(OFFICIAL!J42>1,OFFICIAL!J42,99)","v":99},{"$f":"IF(OFFICIAL!K42>1,OFFICIAL!K42,99)","v":99},{"$f":"IF(OFFICIAL!L42>1,OFFICIAL!L42,99)","v":99},{"$f":"IF(OFFICIAL!M42>1,OFFICIAL!M42,99)","v":99},{"$f":"IF(OFFICIAL!N42>1,OFFICIAL!N42,99)","v":99}]
[{"$f":"IF(OFFICIAL!A43>1,OFFICIAL!A43,\" \")","v":" "},{"$f":"IF(OFFICIAL!B43>1,OFFICIAL!B43,\" \")","v":" "},{"$f":"IF(OFFICIAL!C43>0.01,OFFICIAL!C43, \"\")","v":""},{"$f":"IF(OFFICIAL!O43>0.1,OFFICIAL!O43,\"\")","v":""},{"$f":"IF(OFFICIAL!E43>1,OFFICIAL!E43,\" \")","v":" "},{"$f":"IF(OFFICIAL!F43>1,OFFICIAL!F43,\" \")","v":" "},{"$f":"IF(OFFICIAL!G43>1,OFFICIAL!G43,\" \")","v":" "},"","","","","","","",{"$f":"IF(OFFICIAL!H43>1,OFFICIAL!H43,99)","v":99},{"$f":"IF(OFFICIAL!I43>1,OFFICIAL!I43,99)","v":99},{"$f":"IF(OFFICIAL!J43>1,OFFICIAL!J43,99)","v":99},{"$f":"IF(OFFICIAL!K43>1,OFFICIAL!K43,99)","v":99},{"$f":"IF(OFFICIAL!L43>1,OFFICIAL!L43,99)","v":99},{"$f":"IF(OFFICIAL!M43>1,OFFICIAL!M43,99)","v":99},{"$f":"IF(OFFICIAL!N43>1,OFFICIAL!N43,99)","v":99}]
[{"$f":"IF(OFFICIAL!A44>1,OFFICIAL!A44,\" \")","v":" "},{"$f":"IF(OFFICIAL!B44>1,OFFICIAL!B44,\" \")","v":" "},{"$f":"IF(OFFICIAL!C44>0.01,OFFICIAL!C44, \"\")","v":""},{"$f":"IF(OFFICIAL!O44>0.1,OFFICIAL!O44,\"\")","v":""},{"$f":"IF(OFFICIAL!E44>1,OFFICIAL!E44,\" \")","v":" "},{"$f":"IF(OFFICIAL!F44>1,OFFICIAL!F44,\" \")","v":" "},{"$f":"IF(OFFICIAL!G44>1,OFFICIAL!G44,\" \")","v":" "},"","","","","","","",{"$f":"IF(OFFICIAL!H44>1,OFFICIAL!H44,99)","v":99},{"$f":"IF(OFFICIAL!I44>1,OFFICIAL!I44,99)","v":99},{"$f":"IF(OFFICIAL!J44>1,OFFICIAL!J44,99)","v":99},{"$f":"IF(OFFICIAL!K44>1,OFFICIAL!K44,99)","v":99},{"$f":"IF(OFFICIAL!L44>1,OFFICIAL!L44,99)","v":99},{"$f":"IF(OFFICIAL!M44>1,OFFICIAL!M44,99)","v":99},{"$f":"IF(OFFICIAL!N44>1,OFFICIAL!N44,99)","v":99}]
[{"$f":"IF(OFFICIAL!A45>1,OFFICIAL!A45,\" \")","v":" "},{"$f":"IF(OFFICIAL!B45>1,OFFICIAL!B45,\" \")","v":" "},{"$f":"IF(OFFICIAL!C45>0.01,OFFICIAL!C45, \"\")","v":""},{"$f":"IF(OFFICIAL!O45>0.1,OFFICIAL!O45,\"\")","v":""},{"$f":"IF(OFFICIAL!E45>1,OFFICIAL!E45,\" \")","v":" "},{"$f":"IF(OFFICIAL!F45>1,OFFICIAL!F45,\" \")","v":" "},{"$f":"IF(OFFICIAL!G45>1,OFFICIAL!G45,\" \")","v":" "},"","","","","","","",{"$f":"IF(OFFICIAL!H45>1,OFFICIAL!H45,99)","v":99},{"$f":"IF(OFFICIAL!I45>1,OFFICIAL!I45,99)","v":99},{"$f":"IF(OFFICIAL!J45>1,OFFICIAL!J45,99)","v":99},{"$f":"IF(OFFICIAL!K45>1,OFFICIAL!K45,99)","v":99},{"$f":"IF(OFFICIAL!L45>1,OFFICIAL!L45,99)","v":99},{"$f":"IF(OFFICIAL!M45>1,OFFICIAL!M45,99)","v":99},{"$f":"IF(OFFICIAL!N45>1,OFFICIAL!N45,99)","v":99}]
[{"$f":"IF(OFFICIAL!A46>1,OFFICIAL!A46,\" \")","v":" "},{"$f":"IF(OFFICIAL!B46>1,OFFICIAL!B46,\" \")","v":" "},{"$f":"IF(OFFICIAL!C46>0.01,OFFICIAL!C46, \"\")","v":""},{"$f":"IF(OFFICIAL!O46>0.1,OFFICIAL!O46,\"\")","v":""},{"$f":"IF(OFFICIAL!E46>1,OFFICIAL!E46,\" \")","v":" "},{"$f":"IF(OFFICIAL!F46>1,OFFICIAL!F46,\" \")","v":" "},{"$f":"IF(OFFICIAL!G46>1,OFFICIAL!G46,\" \")","v":" "},"","","","","","","",{"$f":"IF(OFFICIAL!H46>1,OFFICIAL!H46,99)","v":99},{"$f":"IF(OFFICIAL!I46>1,OFFICIAL!I46,99)","v":99},{"$f":"IF(OFFICIAL!J46>1,OFFICIAL!J46,99)","v":99},{"$f":"IF(OFFICIAL!K46>1,OFFICIAL!K46,99)","v":99},{"$f":"IF(OFFICIAL!L46>1,OFFICIAL!L46,99)","v":99},{"$f":"IF(OFFICIAL!M46>1,OFFICIAL!M46,99)","v":99},{"$f":"IF(OFFICIAL!N46>1,OFFICIAL!N46,99)","v":99}]
[{"$f":"IF(OFFICIAL!A47>1,OFFICIAL!A47,\" \")","v":" "},{"$f":"IF(OFFICIAL!B47>1,OFFICIAL!B47,\" \")","v":" "},{"$f":"IF(OFFICIAL!C47>0.01,OFFICIAL!C47, \"\")","v":""},{"$f":"IF(OFFICIAL!O47>0.1,OFFICIAL!O47,\"\")","v":""},{"$f":"IF(OFFICIAL!E47>1,OFFICIAL!E47,\" \")","v":" "},{"$f":"IF(OFFICIAL!F47>1,OFFICIAL!F47,\" \")","v":" "},{"$f":"IF(OFFICIAL!G47>1,OFFICIAL!G47,\" \")","v":" "},"","","","","","","",{"$f":"IF(OFFICIAL!H47>1,OFFICIAL!H47,99)","v":99},{"$f":"IF(OFFICIAL!I47>1,OFFICIAL!I47,99)","v":99},{"$f":"IF(OFFICIAL!J47>1,OFFICIAL!J47,99)","v":99},{"$f":"IF(OFFICIAL!K47>1,OFFICIAL!K47,99)","v":99},{"$f":"IF(OFFICIAL!L47>1,OFFICIAL!L47,99)","v":99},{"$f":"IF(OFFICIAL!M47>1,OFFICIAL!M47,99)","v":99},{"$f":"IF(OFFICIAL!N47>1,OFFICIAL!N47,99)","v":99}]
[{"$f":"IF(OFFICIAL!A48>1,OFFICIAL!A48,\" \")","v":" "},{"$f":"IF(OFFICIAL!B48>1,OFFICIAL!B48,\" \")","v":" "},{"$f":"IF(OFFICIAL!C48>0.01,OFFICIAL!C48, \"\")","v":""},{"$f":"IF(OFFICIAL!O48>0.1,OFFICIAL!O48,\"\")","v":""},{"$f":"IF(OFFICIAL!E48>1,OFFICIAL!E48,\" \")","v":" "},{"$f":"IF(OFFICIAL!F48>1,OFFICIAL!F48,\" \")","v":" "},{"$f":"IF(OFFICIAL!G48>1,OFFICIAL!G48,\" \")","v":" "},"","","","","","","",{"$f":"IF(OFFICIAL!H48>1,OFFICIAL!H48,99)","v":99},{"$f":"IF(OFFICIAL!I48>1,OFFICIAL!I48,99)","v":99},{"$f":"IF(OFFICIAL!J48>1,OFFICIAL!J48,99)","v":99},{"$f":"IF(OFFICIAL!K48>1,OFFICIAL!K48,99)","v":99},{"$f":"IF(OFFICIAL!L48>1,OFFICIAL!L48,99)","v":99},{"$f":"IF(OFFICIAL!M48>1,OFFICIAL!M48,99)","v":99},{"$f":"IF(OFFICIAL!N48>1,OFFICIAL!N48,99)","v":99}]
[{"$f":"IF(OFFICIAL!A49>1,OFFICIAL!A49,\" \")","v":" "},{"$f":"IF(OFFICIAL!B49>1,OFFICIAL!B49,\" \")","v":" "},{"$f":"IF(OFFICIAL!C49>0.01,OFFICIAL!C49, \"\")","v":""},{"$f":"IF(OFFICIAL!O49>0.1,OFFICIAL!O49,\"\")","v":""},{"$f":"IF(OFFICIAL!E49>1,OFFICIAL!E49,\" \")","v":" "},{"$f":"IF(OFFICIAL!F49>1,OFFICIAL!F49,\" \")","v":" "},{"$f":"IF(OFFICIAL!G49>1,OFFICIAL!G49,\" \")","v":" "},"","","","","","","",{"$f":"IF(OFFICIAL!H49>1,OFFICIAL!H49,99)","v":99},{"$f":"IF(OFFICIAL!I49>1,OFFICIAL!I49,99)","v":99},{"$f":"IF(OFFICIAL!J49>1,OFFICIAL!J49,99)","v":99},{"$f":"IF(OFFICIAL!K49>1,OFFICIAL!K49,99)","v":99},{"$f":"IF(OFFICIAL!L49>1,OFFICIAL!L49,99)","v":99},{"$f":"IF(OFFICIAL!M49>1,OFFICIAL!M49,99)","v":99},{"$f":"IF(OFFICIAL!N49>1,OFFICIAL!N49,99)","v":99}]
[{"$f":"IF(OFFICIAL!A50>1,OFFICIAL!A50,\" \")","v":" "},{"$f":"IF(OFFICIAL!B50>1,OFFICIAL!B50,\" \")","v":" "},{"$f":"IF(OFFICIAL!C50>0.01,OFFICIAL!C50, \"\")","v":""},{"$f":"IF(OFFICIAL!O50>0.1,OFFICIAL!O50,\"\")","v":""},{"$f":"IF(OFFICIAL!E50>1,OFFICIAL!E50,\" \")","v":" "},{"$f":"IF(OFFICIAL!F50>1,OFFICIAL!F50,\" \")","v":" "},{"$f":"IF(OFFICIAL!G50>1,OFFICIAL!G50,\" \")","v":" "},"","","","","","","",{"$f":"IF(OFFICIAL!H50>1,OFFICIAL!H50,99)","v":99},{"$f":"IF(OFFICIAL!I50>1,OFFICIAL!I50,99)","v":99},{"$f":"IF(OFFICIAL!J50>1,OFFICIAL!J50,99)","v":99},{"$f":"IF(OFFICIAL!K50>1,OFFICIAL!K50,99)","v":99},{"$f":"IF(OFFICIAL!L50>1,OFFICIAL!L50,99)","v":99},{"$f":"IF(OFFICIAL!M50>1,OFFICIAL!M50,99)","v":99},{"$f":"IF(OFFICIAL!N50>1,OFFICIAL!N50,99)","v":99}]
[{"$f":"IF(OFFICIAL!A51>1,OFFICIAL!A51,\" \")","v":" "},{"$f":"IF(OFFICIAL!B51>1,OFFICIAL!B51,\" \")","v":" "},{"$f":"IF(OFFICIAL!C51>0.01,OFFICIAL!C51, \"\")","v":""},{"$f":"IF(OFFICIAL!O51>0.1,OFFICIAL!O51,\"\")","v":""},{"$f":"IF(OFFICIAL!E51>1,OFFICIAL!E51,\" \")","v":" "},{"$f":"IF(OFFICIAL!F51>1,OFFICIAL!F51,\" \")","v":" "},{"$f":"IF(OFFICIAL!G51>1,OFFICIAL!G51,\" \")","v":" "},"","","","","","","",{"$f":"IF(OFFICIAL!H51>1,OFFICIAL!H51,99)","v":99},{"$f":"IF(OFFICIAL!I51>1,OFFICIAL!I51,99)","v":99},{"$f":"IF(OFFICIAL!J51>1,OFFICIAL!J51,99)","v":99},{"$f":"IF(OFFICIAL!K51>1,OFFICIAL!K51,99)","v":99},{"$f":"IF(OFFICIAL!L51>1,OFFICIAL!L51,99)","v":99},{"$f":"IF(OFFICIAL!M51>1,OFFICIAL!M51,99)","v":99},{"$f":"IF(OFFICIAL!N51>1,OFFICIAL!N51,99)","v":99}]
[{"$f":"IF(OFFICIAL!A52>1,OFFICIAL!A52,\" \")","v":" "},{"$f":"IF(OFFICIAL!B52>1,OFFICIAL!B52,\" \")","v":" "},{"$f":"IF(OFFICIAL!C52>0.01,OFFICIAL!C52, \"\")","v":""},{"$f":"IF(OFFICIAL!O52>0.1,OFFICIAL!O52,\"\")","v":""},{"$f":"IF(OFFICIAL!E52>1,OFFICIAL!E52,\" \")","v":" "},{"$f":"IF(OFFICIAL!F52>1,OFFICIAL!F52,\" \")","v":" "},{"$f":"IF(OFFICIAL!G52>1,OFFICIAL!G52,\" \")","v":" "},"","","","","","","",{"$f":"IF(OFFICIAL!H52>1,OFFICIAL!H52,99)","v":99},{"$f":"IF(OFFICIAL!I52>1,OFFICIAL!I52,99)","v":99},{"$f":"IF(OFFICIAL!J52>1,OFFICIAL!J52,99)","v":99},{"$f":"IF(OFFICIAL!K52>1,OFFICIAL!K52,99)","v":99},{"$f":"IF(OFFICIAL!L52>1,OFFICIAL!L52,99)","v":99},{"$f":"IF(OFFICIAL!M52>1,OFFICIAL!M52,99)","v":99},{"$f":"IF(OFFICIAL!N52>1,OFFICIAL!N52,99)","v":99}]
[{"$f":"IF(OFFICIAL!A53>1,OFFICIAL!A53,\" \")","v":" "},{"$f":"IF(OFFICIAL!B53>1,OFFICIAL!B53,\" \")","v":" "},{"$f":"IF(OFFICIAL!C53>0.01,OFFICIAL!C53, \"\")","v":""},{"$f":"IF(OFFICIAL!O53>0.1,OFFICIAL!O53,\"\")","v":""},{"$f":"IF(OFFICIAL!E53>1,OFFICIAL!E53,\" \")","v":" "},{"$f":"IF(OFFICIAL!F53>1,OFFICIAL!F53,\" \")","v":" "},{"$f":"IF(OFFICIAL!G53>1,OFFICIAL!G53,\" \")","v":" "},"","","","","","","",{"$f":"IF(OFFICIAL!H53>1,OFFICIAL!H53,99)","v":99},{"$f":"IF(OFFICIAL!I53>1,OFFICIAL!I53,99)","v":99},{"$f":"IF(OFFICIAL!J53>1,OFFICIAL!J53,99)","v":99},{"$f":"IF(OFFICIAL!K53>1,OFFICIAL!K53,99)","v":99},{"$f":"IF(OFFICIAL!L53>1,OFFICIAL!L53,99)","v":99},{"$f":"IF(OFFICIAL!M53>1,OFFICIAL!M53,99)","v":99},{"$f":"IF(OFFICIAL!N53>1,OFFICIAL!N53,99)","v":99}]
[{"$f":"IF(OFFICIAL!A54>1,OFFICIAL!A54,\" \")","v":" "},{"$f":"IF(OFFICIAL!B54>1,OFFICIAL!B54,\" \")","v":" "},{"$f":"IF(OFFICIAL!C54>0.01,OFFICIAL!C54, \"\")","v":""},{"$f":"IF(OFFICIAL!O54>0.1,OFFICIAL!O54,\"\")","v":""},{"$f":"IF(OFFICIAL!E54>1,OFFICIAL!E54,\" \")","v":" "},{"$f":"IF(OFFICIAL!F54>1,OFFICIAL!F54,\" \")","v":" "},{"$f":"IF(OFFICIAL!G54>1,OFFICIAL!G54,\" \")","v":" "},"","","","","","","",{"$f":"IF(OFFICIAL!H54>1,OFFICIAL!H54,99)","v":99},{"$f":"IF(OFFICIAL!I54>1,OFFICIAL!I54,99)","v":99},{"$f":"IF(OFFICIAL!J54>1,OFFICIAL!J54,99)","v":99},{"$f":"IF(OFFICIAL!K54>1,OFFICIAL!K54,99)","v":99},{"$f":"IF(OFFICIAL!L54>1,OFFICIAL!L54,99)","v":99},{"$f":"IF(OFFICIAL!M54>1,OFFICIAL!M54,99)","v":99},{"$f":"IF(OFFICIAL!N54>1,OFFICIAL!N54,99)","v":99}]
[{"$f":"IF(OFFICIAL!A55>1,OFFICIAL!A55,\" \")","v":" "},{"$f":"IF(OFFICIAL!B55>1,OFFICIAL!B55,\" \")","v":" "},{"$f":"IF(OFFICIAL!C55>0.01,OFFICIAL!C55, \"\")","v":""},{"$f":"IF(OFFICIAL!O55>0.1,OFFICIAL!O55,\"\")","v":""},{"$f":"IF(OFFICIAL!E55>1,OFFICIAL!E55,\" \")","v":" "},{"$f":"IF(OFFICIAL!F55>1,OFFICIAL!F55,\" \")","v":" "},{"$f":"IF(OFFICIAL!G55>1,OFFICIAL!G55,\" \")","v":" "},"","","","","","","",{"$f":"IF(OFFICIAL!H55>1,OFFICIAL!H55,99)","v":99},{"$f":"IF(OFFICIAL!I55>1,OFFICIAL!I55,99)","v":99},{"$f":"IF(OFFICIAL!J55>1,OFFICIAL!J55,99)","v":99},{"$f":"IF(OFFICIAL!K55>1,OFFICIAL!K55,99)","v":99},{"$f":"IF(OFFICIAL!L55>1,OFFICIAL!L55,99)","v":99},{"$f":"IF(OFFICIAL!M55>1,OFFICIAL!M55,99)","v":99},{"$f":"IF(OFFICIAL!N55>1,OFFICIAL!N55,99)","v":99}]
[{"$f":"IF(OFFICIAL!A56>1,OFFICIAL!A56,\" \")","v":" "},{"$f":"IF(OFFICIAL!B56>1,OFFICIAL!B56,\" \")","v":" "},{"$f":"IF(OFFICIAL!C56>0.01,OFFICIAL!C56, \"\")","v":""},{"$f":"IF(OFFICIAL!O56>0.1,OFFICIAL!O56,\"\")","v":""},{"$f":"IF(OFFICIAL!E56>1,OFFICIAL!E56,\" \")","v":" "},{"$f":"IF(OFFICIAL!F56>1,OFFICIAL!F56,\" \")","v":" "},{"$f":"IF(OFFICIAL!G56>1,OFFICIAL!G56,\" \")","v":" "},"","","","","","","",{"$f":"IF(OFFICIAL!H56>1,OFFICIAL!H56,99)","v":99},{"$f":"IF(OFFICIAL!I56>1,OFFICIAL!I56,99)","v":99},{"$f":"IF(OFFICIAL!J56>1,OFFICIAL!J56,99)","v":99},{"$f":"IF(OFFICIAL!K56>1,OFFICIAL!K56,99)","v":99},{"$f":"IF(OFFICIAL!L56>1,OFFICIAL!L56,99)","v":99},{"$f":"IF(OFFICIAL!M56>1,OFFICIAL!M56,99)","v":99},{"$f":"IF(OFFICIAL!N56>1,OFFICIAL!N56,99)","v":99}]
[{"$f":"IF(OFFICIAL!A57>1,OFFICIAL!A57,\" \")","v":" "},{"$f":"IF(OFFICIAL!B57>1,OFFICIAL!B57,\" \")","v":" "},{"$f":"IF(OFFICIAL!C57>0.01,OFFICIAL!C57, \"\")","v":""},{"$f":"IF(OFFICIAL!O57>0.1,OFFICIAL!O57,\"\")","v":""},{"$f":"IF(OFFICIAL!E57>1,OFFICIAL!E57,\" \")","v":" "},{"$f":"IF(OFFICIAL!F57>1,OFFICIAL!F57,\" \")","v":" "},{"$f":"IF(OFFICIAL!G57>1,OFFICIAL!G57,\" \")","v":" "},"","","","","","","",{"$f":"IF(OFFICIAL!H57>1,OFFICIAL!H57,99)","v":99},{"$f":"IF(OFFICIAL!I57>1,OFFICIAL!I57,99)","v":99},{"$f":"IF(OFFICIAL!J57>1,OFFICIAL!J57,99)","v":99},{"$f":"IF(OFFICIAL!K57>1,OFFICIAL!K57,99)","v":99},{"$f":"IF(OFFICIAL!L57>1,OFFICIAL!L57,99)","v":99},{"$f":"IF(OFFICIAL!M57>1,OFFICIAL!M57,99)","v":99},{"$f":"IF(OFFICIAL!N57>1,OFFICIAL!N57,99)","v":99}]
[{"$f":"IF(OFFICIAL!A58>1,OFFICIAL!A58,\" \")","v":" "},{"$f":"IF(OFFICIAL!B58>1,OFFICIAL!B58,\" \")","v":" "},{"$f":"IF(OFFICIAL!C58>0.01,OFFICIAL!C58, \"\")","v":""},{"$f":"IF(OFFICIAL!O58>0.1,OFFICIAL!O58,\"\")","v":""},{"$f":"IF(OFFICIAL!E58>1,OFFICIAL!E58,\" \")","v":" "},{"$f":"IF(OFFICIAL!F58>1,OFFICIAL!F58,\" \")","v":" "},{"$f":"IF(OFFICIAL!G58>1,OFFICIAL!G58,\" \")","v":" "},"","","","","","","",{"$f":"IF(OFFICIAL!H58>1,OFFICIAL!H58,99)","v":99},{"$f":"IF(OFFICIAL!I58>1,OFFICIAL!I58,99)","v":99},{"$f":"IF(OFFICIAL!J58>1,OFFICIAL!J58,99)","v":99},{"$f":"IF(OFFICIAL!K58>1,OFFICIAL!K58,99)","v":99},{"$f":"IF(OFFICIAL!L58>1,OFFICIAL!L58,99)","v":99},{"$f":"IF(OFFICIAL!M58>1,OFFICIAL!M58,99)","v":99},{"$f":"IF(OFFICIAL!N58>1,OFFICIAL!N58,99)","v":99}]
[{"$f":"IF(OFFICIAL!A59>1,OFFICIAL!A59,\" \")","v":" "},{"$f":"IF(OFFICIAL!B59>1,OFFICIAL!B59,\" \")","v":" "},{"$f":"IF(OFFICIAL!C59>0.01,OFFICIAL!C59, \"\")","v":""},{"$f":"IF(OFFICIAL!O59>0.1,OFFICIAL!O59,\"\")","v":""},{"$f":"IF(OFFICIAL!E59>1,OFFICIAL!E59,\" \")","v":" "},{"$f":"IF(OFFICIAL!F59>1,OFFICIAL!F59,\" \")","v":" "},{"$f":"IF(OFFICIAL!G59>1,OFFICIAL!G59,\" \")","v":" "},"","","","","","","",{"$f":"IF(OFFICIAL!H59>1,OFFICIAL!H59,99)","v":99},{"$f":"IF(OFFICIAL!I59>1,OFFICIAL!I59,99)","v":99},{"$f":"IF(OFFICIAL!J59>1,OFFICIAL!J59,99)","v":99},{"$f":"IF(OFFICIAL!K59>1,OFFICIAL!K59,99)","v":99},{"$f":"IF(OFFICIAL!L59>1,OFFICIAL!L59,99)","v":99},{"$f":"IF(OFFICIAL!M59>1,OFFICIAL!M59,99)","v":99},{"$f":"IF(OFFICIAL!N59>1,OFFICIAL!N59,99)","v":99}]
[{"$f":"IF(OFFICIAL!A60>1,OFFICIAL!A60,\" \")","v":" "},{"$f":"IF(OFFICIAL!B60>1,OFFICIAL!B60,\" \")","v":" "},{"$f":"IF(OFFICIAL!C60>0.01,OFFICIAL!C60, \"\")","v":""},{"$f":"IF(OFFICIAL!O60>0.1,OFFICIAL!O60,\"\")","v":""},{"$f":"IF(OFFICIAL!E60>1,OFFICIAL!E60,\" \")","v":" "},{"$f":"IF(OFFICIAL!F60>1,OFFICIAL!F60,\" \")","v":" "},{"$f":"IF(OFFICIAL!G60>1,OFFICIAL!G60,\" \")","v":" "},"","","","","","","",{"$f":"IF(OFFICIAL!H60>1,OFFICIAL!H60,99)","v":99},{"$f":"IF(OFFICIAL!I60>1,OFFICIAL!I60,99)","v":99},{"$f":"IF(OFFICIAL!J60>1,OFFICIAL!J60,99)","v":99},{"$f":"IF(OFFICIAL!K60>1,OFFICIAL!K60,99)","v":99},{"$f":"IF(OFFICIAL!L60>1,OFFICIAL!L60,99)","v":99},{"$f":"IF(OFFICIAL!M60>1,OFFICIAL!M60,99)","v":99},{"$f":"IF(OFFICIAL!N60>1,OFFICIAL!N60,99)","v":99}]
[{"$f":"IF(OFFICIAL!A61>1,OFFICIAL!A61,\" \")","v":" "},{"$f":"IF(OFFICIAL!B61>1,OFFICIAL!B61,\" \")","v":" "},{"$f":"IF(OFFICIAL!C61>0.01,OFFICIAL!C61, \"\")","v":""},{"$f":"IF(OFFICIAL!O61>0.1,OFFICIAL!O61,\"\")","v":""},{"$f":"IF(OFFICIAL!E61>1,OFFICIAL!E61,\" \")","v":" "},{"$f":"IF(OFFICIAL!F61>1,OFFICIAL!F61,\" \")","v":" "},{"$f":"IF(OFFICIAL!G61>1,OFFICIAL!G61,\" \")","v":" "},"","","","","","","",{"$f":"IF(OFFICIAL!H61>1,OFFICIAL!H61,99)","v":99},{"$f":"IF(OFFICIAL!I61>1,OFFICIAL!I61,99)","v":99},{"$f":"IF(OFFICIAL!J61>1,OFFICIAL!J61,99)","v":99},{"$f":"IF(OFFICIAL!K61>1,OFFICIAL!K61,99)","v":99},{"$f":"IF(OFFICIAL!L61>1,OFFICIAL!L61,99)","v":99},{"$f":"IF(OFFICIAL!M61>1,OFFICIAL!M61,99)","v":99},{"$f":"IF(OFFICIAL!N61>1,OFFICIAL!N61,99)","v":99}]
[{"$f":"IF(OFFICIAL!A62>1,OFFICIAL!A62,\" \")","v":" "},{"$f":"IF(OFFICIAL!B62>1,OFFICIAL!B62,\" \")","v":" "},{"$f":"IF(OFFICIAL!C62>0.01,OFFICIAL!C62, \"\")","v":""},{"$f":"IF(OFFICIAL!O62>0.1,OFFICIAL!O62,\"\")","v":""},{"$f":"IF(OFFICIAL!E62>1,OFFICIAL!E62,\" \")","v":" "},{"$f":"IF(OFFICIAL!F62>1,OFFICIAL!F62,\" \")","v":" "},{"$f":"IF(OFFICIAL!G62>1,OFFICIAL!G62,\" \")","v":" "},"","","","","","","",{"$f":"IF(OFFICIAL!H62>1,OFFICIAL!H62,99)","v":99},{"$f":"IF(OFFICIAL!I62>1,OFFICIAL!I62,99)","v":99},{"$f":"IF(OFFICIAL!J62>1,OFFICIAL!J62,99)","v":99},{"$f":"IF(OFFICIAL!K62>1,OFFICIAL!K62,99)","v":99},{"$f":"IF(OFFICIAL!L62>1,OFFICIAL!L62,99)","v":99},{"$f":"IF(OFFICIAL!M62>1,OFFICIAL!M62,99)","v":99},{"$f":"IF(OFFICIAL!N62>1,OFFICIAL!N62,99)","v":99}]
[{"$f":"IF(OFFICIAL!A63>1,OFFICIAL!A63,\" \")","v":" "},{"$f":"IF(OFFICIAL!B63>1,OFFICIAL!B63,\" \")","v":" "},{"$f":"IF(OFFICIAL!C63>0.01,OFFICIAL!C63, \"\")","v":""},{"$f":"IF(OFFICIAL!O63>0.1,OFFICIAL!O63,\"\")","v":""},{"$f":"IF(OFFICIAL!E63>1,OFFICIAL!E63,\" \")","v":" "},{"$f":"IF(OFFICIAL!F63>1,OFFICIAL!F63,\" \")","v":" "},{"$f":"IF(OFFICIAL!G63>1,OFFICIAL!G63,\" \")","v":" "},"","","","","","","",{"$f":"IF(OFFICIAL!H63>1,OFFICIAL!H63,99)","v":99},{"$f":"IF(OFFICIAL!I63>1,OFFICIAL!I63,99)","v":99},{"$f":"IF(OFFICIAL!J63>1,OFFICIAL!J63,99)","v":99},{"$f":"IF(OFFICIAL!K63>1,OFFICIAL!K63,99)","v":99},{"$f":"IF(OFFICIAL!L63>1,OFFICIAL!L63,99)","v":99},{"$f":"IF(OFFICIAL!M63>1,OFFICIAL!M63,99)","v":99},{"$f":"IF(OFFICIAL!N63>1,OFFICIAL!N63,99)","v":99}]
[{"$f":"IF(OFFICIAL!A64>1,OFFICIAL!A64,\" \")","v":" "},{"$f":"IF(OFFICIAL!B64>1,OFFICIAL!B64,\" \")","v":" "},{"$f":"IF(OFFICIAL!C64>0.01,OFFICIAL!C64, \"\")","v":""},{"$f":"IF(OFFICIAL!O64>0.1,OFFICIAL!O64,\"\")","v":""},{"$f":"IF(OFFICIAL!E64>1,OFFICIAL!E64,\" \")","v":" "},{"$f":"IF(OFFICIAL!F64>1,OFFICIAL!F64,\" \")","v":" "},{"$f":"IF(OFFICIAL!G64>1,OFFICIAL!G64,\" \")","v":" "},"","","","","","","",{"$f":"IF(OFFICIAL!H64>1,OFFICIAL!H64,99)","v":99},{"$f":"IF(OFFICIAL!I64>1,OFFICIAL!I64,99)","v":99},{"$f":"IF(OFFICIAL!J64>1,OFFICIAL!J64,99)","v":99},{"$f":"IF(OFFICIAL!K64>1,OFFICIAL!K64,99)","v":99},{"$f":"IF(OFFICIAL!L64>1,OFFICIAL!L64,99)","v":99},{"$f":"IF(OFFICIAL!M64>1,OFFICIAL!M64,99)","v":99},{"$f":"IF(OFFICIAL!N64>1,OFFICIAL!N64,99)","v":99}]
[{"$f":"IF(OFFICIAL!A65>1,OFFICIAL!A65,\" \")","v":" "},{"$f":"IF(OFFICIAL!B65>1,OFFICIAL!B65,\" \")","v":" "},{"$f":"IF(OFFICIAL!C65>0.01,OFFICIAL!C65, \"\")","v":""},{"$f":"IF(OFFICIAL!O65>0.1,OFFICIAL!O65,\"\")","v":""},{"$f":"IF(OFFICIAL!E65>1,OFFICIAL!E65,\" \")","v":" "},{"$f":"IF(OFFICIAL!F65>1,OFFICIAL!F65,\" \")","v":" "},{"$f":"IF(OFFICIAL!G65>1,OFFICIAL!G65,\" \")","v":" "},"","","","","","","",{"$f":"IF(OFFICIAL!H65>1,OFFICIAL!H65,99)","v":99},{"$f":"IF(OFFICIAL!I65>1,OFFICIAL!I65,99)","v":99},{"$f":"IF(OFFICIAL!J65>1,OFFICIAL!J65,99)","v":99},{"$f":"IF(OFFICIAL!K65>1,OFFICIAL!K65,99)","v":99},{"$f":"IF(OFFICIAL!L65>1,OFFICIAL!L65,99)","v":99},{"$f":"IF(OFFICIAL!M65>1,OFFICIAL!M65,99)","v":99},{"$f":"IF(OFFICIAL!N65>1,OFFICIAL!N65,99)","v":99}]
[{"$f":"IF(OFFICIAL!A66>1,OFFICIAL!A66,\" \")","v":" "},{"$f":"IF(OFFICIAL!B66>1,OFFICIAL!B66,\" \")","v":" "},{"$f":"IF(OFFICIAL!C66>0.01,OFFICIAL!C66, \"\")","v":""},{"$f":"IF(OFFICIAL!O66>0.1,OFFICIAL!O66,\"\")","v":""},{"$f":"IF(OFFICIAL!E66>1,OFFICIAL!E66,\" \")","v":" "},{"$f":"IF(OFFICIAL!F66>1,OFFICIAL!F66,\" \")","v":" "},{"$f":"IF(OFFICIAL!G66>1,OFFICIAL!G66,\" \")","v":" "},"","","","","","","",{"$f":"IF(OFFICIAL!H66>1,OFFICIAL!H66,99)","v":99},{"$f":"IF(OFFICIAL!I66>1,OFFICIAL!I66,99)","v":99},{"$f":"IF(OFFICIAL!J66>1,OFFICIAL!J66,99)","v":99},{"$f":"IF(OFFICIAL!K66>1,OFFICIAL!K66,99)","v":99},{"$f":"IF(OFFICIAL!L66>1,OFFICIAL!L66,99)","v":99},{"$f":"IF(OFFICIAL!M66>1,OFFICIAL!M66,99)","v":99},{"$f":"IF(OFFICIAL!N66>1,OFFICIAL!N66,99)","v":99}]
[{"$f":"IF(OFFICIAL!A67>1,OFFICIAL!A67,\" \")","v":" "},{"$f":"IF(OFFICIAL!B67>1,OFFICIAL!B67,\" \")","v":" "},{"$f":"IF(OFFICIAL!C67>0.01,OFFICIAL!C67, \"\")","v":""},{"$f":"IF(OFFICIAL!O67>0.1,OFFICIAL!O67,\"\")","v":""},{"$f":"IF(OFFICIAL!E67>1,OFFICIAL!E67,\" \")","v":" "},{"$f":"IF(OFFICIAL!F67>1,OFFICIAL!F67,\" \")","v":" "},{"$f":"IF(OFFICIAL!G67>1,OFFICIAL!G67,\" \")","v":" "},"","","","","","","",{"$f":"IF(OFFICIAL!H67>1,OFFICIAL!H67,99)","v":99},{"$f":"IF(OFFICIAL!I67>1,OFFICIAL!I67,99)","v":99},{"$f":"IF(OFFICIAL!J67>1,OFFICIAL!J67,99)","v":99},{"$f":"IF(OFFICIAL!K67>1,OFFICIAL!K67,99)","v":99},{"$f":"IF(OFFICIAL!L67>1,OFFICIAL!L67,99)","v":99},{"$f":"IF(OFFICIAL!M67>1,OFFICIAL!M67,99)","v":99},{"$f":"IF(OFFICIAL!N67>1,OFFICIAL!N67,99)","v":99}]
[{"$f":"IF(OFFICIAL!A68>1,OFFICIAL!A68,\" \")","v":" "},{"$f":"IF(OFFICIAL!B68>1,OFFICIAL!B68,\" \")","v":" "},{"$f":"IF(OFFICIAL!C68>0.01,OFFICIAL!C68, \"\")","v":""},{"$f":"IF(OFFICIAL!O68>0.1,OFFICIAL!O68,\"\")","v":""},{"$f":"IF(OFFICIAL!E68>1,OFFICIAL!E68,\" \")","v":" "},{"$f":"IF(OFFICIAL!F68>1,OFFICIAL!F68,\" \")","v":" "},{"$f":"IF(OFFICIAL!G68>1,OFFICIAL!G68,\" \")","v":" "},"","","","","","","",{"$f":"IF(OFFICIAL!H68>1,OFFICIAL!H68,99)","v":99},{"$f":"IF(OFFICIAL!I68>1,OFFICIAL!I68,99)","v":99},{"$f":"IF(OFFICIAL!J68>1,OFFICIAL!J68,99)","v":99},{"$f":"IF(OFFICIAL!K68>1,OFFICIAL!K68,99)","v":99},{"$f":"IF(OFFICIAL!L68>1,OFFICIAL!L68,99)","v":99},{"$f":"IF(OFFICIAL!M68>1,OFFICIAL!M68,99)","v":99},{"$f":"IF(OFFICIAL!N68>1,OFFICIAL!N68,99)","v":99}]
[{"$f":"IF(OFFICIAL!A69>1,OFFICIAL!A69,\" \")","v":" "},{"$f":"IF(OFFICIAL!B69>1,OFFICIAL!B69,\" \")","v":" "},{"$f":"IF(OFFICIAL!C69>0.01,OFFICIAL!C69, \"\")","v":""},{"$f":"IF(OFFICIAL!O69>0.1,OFFICIAL!O69,\"\")","v":""},{"$f":"IF(OFFICIAL!E69>1,OFFICIAL!E69,\" \")","v":" "},{"$f":"IF(OFFICIAL!F69>1,OFFICIAL!F69,\" \")","v":" "},{"$f":"IF(OFFICIAL!G69>1,OFFICIAL!G69,\" \")","v":" "},"",{"$f":"IF(P69=99,\"\", VLOOKUP(P69,$V$4:$W$35,2))","v":""},{"$f":"IF(Q69=99,\"\", VLOOKUP(Q69,$V$4:$W$35,2))","v":""},{"$f":"IF(R69=99,\"\", VLOOKUP(R69,$V$4:$W$35,2))","v":""},{"$f":"IF(S69=99,\"\", VLOOKUP(S69,$V$4:$W$35,2))","v":""},{"$f":"IF(T69=99,\"\", VLOOKUP(T69,$V$4:$W$35,2))","v":""},{"$f":"IF(U69=99,\"\", VLOOKUP(U69,$V$4:$W$35,2))","v":""},{"$f":"IF(OFFICIAL!H69>1,OFFICIAL!H69,99)","v":99},{"$f":"IF(OFFICIAL!I69>1,OFFICIAL!I69,99)","v":99},{"$f":"IF(OFFICIAL!J69>1,OFFICIAL!J69,99)","v":99},{"$f":"IF(OFFICIAL!K69>1,OFFICIAL!K69,99)","v":99},{"$f":"IF(OFFICIAL!L69>1,OFFICIAL!L69,99)","v":99},{"$f":"IF(OFFICIAL!M69>1,OFFICIAL!M69,99)","v":99},{"$f":"IF(OFFICIAL!N69>1,OFFICIAL!N69,99)","v":99}]
[{"$f":"IF(OFFICIAL!A70>1,OFFICIAL!A70,\" \")","v":" "},{"$f":"IF(OFFICIAL!B70>1,OFFICIAL!B70,\" \")","v":" "},{"$f":"IF(OFFICIAL!C70>0.01,OFFICIAL!C70, \"\")","v":""},{"$f":"IF(OFFICIAL!O70>0.1,OFFICIAL!O70,\"\")","v":""},{"$f":"IF(OFFICIAL!E70>1,OFFICIAL!E70,\" \")","v":" "},{"$f":"IF(OFFICIAL!F70>1,OFFICIAL!F70,\" \")","v":" "},{"$f":"IF(OFFICIAL!G70>1,OFFICIAL!G70,\" \")","v":" "},{"$f":"IF(O70=99,\"\", VLOOKUP(O70,$V$4:$W$35,2))","v":""},"","","","","","",{"$f":"IF(OFFICIAL!H70>1,OFFICIAL!H70,99)","v":99},{"$f":"IF(OFFICIAL!I70>1,OFFICIAL!I70,99)","v":99},{"$f":"IF(OFFICIAL!J70>1,OFFICIAL!J70,99)","v":99},{"$f":"IF(OFFICIAL!K70>1,OFFICIAL!K70,99)","v":99},{"$f":"IF(OFFICIAL!L70>1,OFFICIAL!L70,99)","v":99},{"$f":"IF(OFFICIAL!M70>1,OFFICIAL!M70,99)","v":99},{"$f":"IF(OFFICIAL!N70>1,OFFICIAL!N70,99)","v":99}]
[{"$f":"IF(OFFICIAL!A71>1,OFFICIAL!A71,\" \")","v":" "},{"$f":"IF(OFFICIAL!B71>1,OFFICIAL!B71,\" \")","v":" "},{"$f":"IF(OFFICIAL!C71>0.01,OFFICIAL!C71, \"\")","v":""},{"$f":"IF(OFFICIAL!O71>0.1,OFFICIAL!O71,\"\")","v":""},{"$f":"IF(OFFICIAL!E71>1,OFFICIAL!E71,\" \")","v":" "},{"$f":"IF(OFFICIAL!F71>1,OFFICIAL!F71,\" \")","v":" "},{"$f":"IF(OFFICIAL!G71>1,OFFICIAL!G71,\" \")","v":" "},"","","","","","","",{"$f":"IF(OFFICIAL!H71>1,OFFICIAL!H71,99)","v":99},{"$f":"IF(OFFICIAL!I71>1,OFFICIAL!I71,99)","v":99},{"$f":"IF(OFFICIAL!J71>1,OFFICIAL!J71,99)","v":99},{"$f":"IF(OFFICIAL!K71>1,OFFICIAL!K71,99)","v":99},{"$f":"IF(OFFICIAL!L71>1,OFFICIAL!L71,99)","v":99},{"$f":"IF(OFFICIAL!M71>1,OFFICIAL!M71,99)","v":99},{"$f":"IF(OFFICIAL!N71>1,OFFICIAL!N71,99)","v":99}]
[{"$f":"IF(OFFICIAL!A72>1,OFFICIAL!A72,\" \")","v":" "},{"$f":"IF(OFFICIAL!B72>1,OFFICIAL!B72,\" \")","v":" "},{"$f":"IF(OFFICIAL!C72>0.01,OFFICIAL!C72, \"\")","v":""},{"$f":"IF(OFFICIAL!O72>0.1,OFFICIAL!O72,\"\")","v":""},{"$f":"IF(OFFICIAL!E72>1,OFFICIAL!E72,\" \")","v":" "},{"$f":"IF(OFFICIAL!F72>1,OFFICIAL!F72,\" \")","v":" "},{"$f":"IF(OFFICIAL!G72>1,OFFICIAL!G72,\" \")","v":" "},"","","","","","","",{"$f":"IF(OFFICIAL!H72>1,OFFICIAL!H72,99)","v":99},{"$f":"IF(OFFICIAL!I72>1,OFFICIAL!I72,99)","v":99},{"$f":"IF(OFFICIAL!J72>1,OFFICIAL!J72,99)","v":99},{"$f":"IF(OFFICIAL!K72>1,OFFICIAL!K72,99)","v":99},{"$f":"IF(OFFICIAL!L72>1,OFFICIAL!L72,99)","v":99},{"$f":"IF(OFFICIAL!M72>1,OFFICIAL!M72,99)","v":99},{"$f":"IF(OFFICIAL!N72>1,OFFICIAL!N72,99)","v":99}]
[{"$f":"IF(OFFICIAL!A73>1,OFFICIAL!A73,\" \")","v":" "},{"$f":"IF(OFFICIAL!B73>1,OFFICIAL!B73,\" \")","v":" "},{"$f":"IF(OFFICIAL!C73>0.01,OFFICIAL!C73, \"\")","v":""},{"$f":"IF(OFFICIAL!O73>0.1,OFFICIAL!O73,\"\")","v":""},{"$f":"IF(OFFICIAL!E73>1,OFFICIAL!E73,\" \")","v":" "},{"$f":"IF(OFFICIAL!F73>1,OFFICIAL!F73,\" \")","v":" "},{"$f":"IF(OFFICIAL!G73>1,OFFICIAL!G73,\" \")","v":" "},"","","","","","","",{"$f":"IF(OFFICIAL!H73>1,OFFICIAL!H73,99)","v":99},{"$f":"IF(OFFICIAL!I73>1,OFFICIAL!I73,99)","v":99},{"$f":"IF(OFFICIAL!J73>1,OFFICIAL!J73,99)","v":99},{"$f":"IF(OFFICIAL!K73>1,OFFICIAL!K73,99)","v":99},{"$f":"IF(OFFICIAL!L73>1,OFFICIAL!L73,99)","v":99},{"$f":"IF(OFFICIAL!M73>1,OFFICIAL!M73,99)","v":99},{"$f":"IF(OFFICIAL!N73>1,OFFICIAL!N73,99)","v":99}]
[{"$f":"IF(OFFICIAL!A74>1,OFFICIAL!A74,\" \")","v":" "},{"$f":"IF(OFFICIAL!B74>1,OFFICIAL!B74,\" \")","v":" "},{"$f":"IF(OFFICIAL!C74>0.01,OFFICIAL!C74, \"\")","v":""},{"$f":"IF(OFFICIAL!O74>0.1,OFFICIAL!O74,\"\")","v":""},{"$f":"IF(OFFICIAL!E74>1,OFFICIAL!E74,\" \")","v":" "},{"$f":"IF(OFFICIAL!F74>1,OFFICIAL!F74,\" \")","v":" "},{"$f":"IF(OFFICIAL!G74>1,OFFICIAL!G74,\" \")","v":" "},"","","","","","","",{"$f":"IF(OFFICIAL!H74>1,OFFICIAL!H74,99)","v":99},{"$f":"IF(OFFICIAL!I74>1,OFFICIAL!I74,99)","v":99},{"$f":"IF(OFFICIAL!J74>1,OFFICIAL!J74,99)","v":99},{"$f":"IF(OFFICIAL!K74>1,OFFICIAL!K74,99)","v":99},{"$f":"IF(OFFICIAL!L74>1,OFFICIAL!L74,99)","v":99},{"$f":"IF(OFFICIAL!M74>1,OFFICIAL!M74,99)","v":99},{"$f":"IF(OFFICIAL!N74>1,OFFICIAL!N74,99)","v":99}]
[{"$f":"IF(OFFICIAL!A75>1,OFFICIAL!A75,\" \")","v":" "},{"$f":"IF(OFFICIAL!B75>1,OFFICIAL!B75,\" \")","v":" "},{"$f":"IF(OFFICIAL!C75>0.01,OFFICIAL!C75, \"\")","v":""},{"$f":"IF(OFFICIAL!O75>0.1,OFFICIAL!O75,\"\")","v":""},{"$f":"IF(OFFICIAL!E75>1,OFFICIAL!E75,\" \")","v":" "},{"$f":"IF(OFFICIAL!F75>1,OFFICIAL!F75,\" \")","v":" "},{"$f":"IF(OFFICIAL!G75>1,OFFICIAL!G75,\" \")","v":" "},"","","","","","","",{"$f":"IF(OFFICIAL!H75>1,OFFICIAL!H75,99)","v":99},{"$f":"IF(OFFICIAL!I75>1,OFFICIAL!I75,99)","v":99},{"$f":"IF(OFFICIAL!J75>1,OFFICIAL!J75,99)","v":99},{"$f":"IF(OFFICIAL!K75>1,OFFICIAL!K75,99)","v":99},{"$f":"IF(OFFICIAL!L75>1,OFFICIAL!L75,99)","v":99},{"$f":"IF(OFFICIAL!M75>1,OFFICIAL!M75,99)","v":99},{"$f":"IF(OFFICIAL!N75>1,OFFICIAL!N75,99)","v":99}]
[{"$f":"IF(OFFICIAL!A76>1,OFFICIAL!A76,\" \")","v":" "},{"$f":"IF(OFFICIAL!B76>1,OFFICIAL!B76,\" \")","v":" "},{"$f":"IF(OFFICIAL!C76>0.01,OFFICIAL!C76, \"\")","v":""},{"$f":"IF(OFFICIAL!O76>0.1,OFFICIAL!O76,\"\")","v":""},{"$f":"IF(OFFICIAL!E76>1,OFFICIAL!E76,\" \")","v":" "},{"$f":"IF(OFFICIAL!F76>1,OFFICIAL!F76,\" \")","v":" "},{"$f":"IF(OFFICIAL!G76>1,OFFICIAL!G76,\" \")","v":" "},"","","","","","","",{"$f":"IF(OFFICIAL!H76>1,OFFICIAL!H76,99)","v":99},{"$f":"IF(OFFICIAL!I76>1,OFFICIAL!I76,99)","v":99},{"$f":"IF(OFFICIAL!J76>1,OFFICIAL!J76,99)","v":99},{"$f":"IF(OFFICIAL!K76>1,OFFICIAL!K76,99)","v":99},{"$f":"IF(OFFICIAL!L76>1,OFFICIAL!L76,99)","v":99},{"$f":"IF(OFFICIAL!M76>1,OFFICIAL!M76,99)","v":99},{"$f":"IF(OFFICIAL!N76>1,OFFICIAL!N76,99)","v":99}]
[{"$f":"IF(OFFICIAL!A77>1,OFFICIAL!A77,\" \")","v":" "},{"$f":"IF(OFFICIAL!B77>1,OFFICIAL!B77,\" \")","v":" "},{"$f":"IF(OFFICIAL!C77>0.01,OFFICIAL!C77, \"\")","v":""},{"$f":"IF(OFFICIAL!O77>0.1,OFFICIAL!O77,\"\")","v":""},{"$f":"IF(OFFICIAL!E77>1,OFFICIAL!E77,\" \")","v":" "},{"$f":"IF(OFFICIAL!F77>1,OFFICIAL!F77,\" \")","v":" "},{"$f":"IF(OFFICIAL!G77>1,OFFICIAL!G77,\" \")","v":" "},"","","","","","","",{"$f":"IF(OFFICIAL!H77>1,OFFICIAL!H77,99)","v":99},{"$f":"IF(OFFICIAL!I77>1,OFFICIAL!I77,99)","v":99},{"$f":"IF(OFFICIAL!J77>1,OFFICIAL!J77,99)","v":99},{"$f":"IF(OFFICIAL!K77>1,OFFICIAL!K77,99)","v":99},{"$f":"IF(OFFICIAL!L77>1,OFFICIAL!L77,99)","v":99},{"$f":"IF(OFFICIAL!M77>1,OFFICIAL!M77,99)","v":99},{"$f":"IF(OFFICIAL!N77>1,OFFICIAL!N77,99)","v":99}]
[{"$f":"IF(OFFICIAL!A78>1,OFFICIAL!A78,\" \")","v":" "},{"$f":"IF(OFFICIAL!B78>1,OFFICIAL!B78,\" \")","v":" "},{"$f":"IF(OFFICIAL!C78>0.01,OFFICIAL!C78, \"\")","v":""},{"$f":"IF(OFFICIAL!O78>0.1,OFFICIAL!O78,\"\")","v":""},{"$f":"IF(OFFICIAL!E78>1,OFFICIAL!E78,\" \")","v":" "},{"$f":"IF(OFFICIAL!F78>1,OFFICIAL!F78,\" \")","v":" "},{"$f":"IF(OFFICIAL!G78>1,OFFICIAL!G78,\" \")","v":" "},"","","","","","","",{"$f":"IF(OFFICIAL!H78>1,OFFICIAL!H78,99)","v":99},{"$f":"IF(OFFICIAL!I78>1,OFFICIAL!I78,99)","v":99},{"$f":"IF(OFFICIAL!J78>1,OFFICIAL!J78,99)","v":99},{"$f":"IF(OFFICIAL!K78>1,OFFICIAL!K78,99)","v":99},{"$f":"IF(OFFICIAL!L78>1,OFFICIAL!L78,99)","v":99},{"$f":"IF(OFFICIAL!M78>1,OFFICIAL!M78,99)","v":99},{"$f":"IF(OFFICIAL!N78>1,OFFICIAL!N78,99)","v":99}]
[{"$f":"IF(OFFICIAL!A79>1,OFFICIAL!A79,\" \")","v":" "},{"$f":"IF(OFFICIAL!B79>1,OFFICIAL!B79,\" \")","v":" "},{"$f":"IF(OFFICIAL!C79>0.01,OFFICIAL!C79, \"\")","v":""},{"$f":"IF(OFFICIAL!O79>0.1,OFFICIAL!O79,\"\")","v":""},{"$f":"IF(OFFICIAL!E79>1,OFFICIAL!E79,\" \")","v":" "},{"$f":"IF(OFFICIAL!F79>1,OFFICIAL!F79,\" \")","v":" "},{"$f":"IF(OFFICIAL!G79>1,OFFICIAL!G79,\" \")","v":" "},"","","","","","","",{"$f":"IF(OFFICIAL!H79>1,OFFICIAL!H79,99)","v":99},{"$f":"IF(OFFICIAL!I79>1,OFFICIAL!I79,99)","v":99},{"$f":"IF(OFFICIAL!J79>1,OFFICIAL!J79,99)","v":99},{"$f":"IF(OFFICIAL!K79>1,OFFICIAL!K79,99)","v":99},{"$f":"IF(OFFICIAL!L79>1,OFFICIAL!L79,99)","v":99},{"$f":"IF(OFFICIAL!M79>1,OFFICIAL!M79,99)","v":99},{"$f":"IF(OFFICIAL!N79>1,OFFICIAL!N79,99)","v":99}]
[{"$f":"IF(OFFICIAL!A80>1,OFFICIAL!A80,\" \")","v":" "},{"$f":"IF(OFFICIAL!B80>1,OFFICIAL!B80,\" \")","v":" "},{"$f":"IF(OFFICIAL!C80>0.01,OFFICIAL!C80, \"\")","v":""},{"$f":"IF(OFFICIAL!O80>0.1,OFFICIAL!O80,\"\")","v":""},{"$f":"IF(OFFICIAL!E80>1,OFFICIAL!E80,\" \")","v":" "},{"$f":"IF(OFFICIAL!F80>1,OFFICIAL!F80,\" \")","v":" "},{"$f":"IF(OFFICIAL!G80>1,OFFICIAL!G80,\" \")","v":" "},"","","","","","","",{"$f":"IF(OFFICIAL!H80>1,OFFICIAL!H80,99)","v":99},{"$f":"IF(OFFICIAL!I80>1,OFFICIAL!I80,99)","v":99},{"$f":"IF(OFFICIAL!J80>1,OFFICIAL!J80,99)","v":99},{"$f":"IF(OFFICIAL!K80>1,OFFICIAL!K80,99)","v":99},{"$f":"IF(OFFICIAL!L80>1,OFFICIAL!L80,99)","v":99},{"$f":"IF(OFFICIAL!M80>1,OFFICIAL!M80,99)","v":99},{"$f":"IF(OFFICIAL!N80>1,OFFICIAL!N80,99)","v":99}]
[{"$f":"IF(OFFICIAL!A81>1,OFFICIAL!A81,\" \")","v":" "},{"$f":"IF(OFFICIAL!B81>1,OFFICIAL!B81,\" \")","v":" "},{"$f":"IF(OFFICIAL!C81>0.01,OFFICIAL!C81, \"\")","v":""},{"$f":"IF(OFFICIAL!O81>0.1,OFFICIAL!O81,\"\")","v":""},{"$f":"IF(OFFICIAL!E81>1,OFFICIAL!E81,\" \")","v":" "},{"$f":"IF(OFFICIAL!F81>1,OFFICIAL!F81,\" \")","v":" "},{"$f":"IF(OFFICIAL!G81>1,OFFICIAL!G81,\" \")","v":" "},"","","","","","","",{"$f":"IF(OFFICIAL!H81>1,OFFICIAL!H81,99)","v":99},{"$f":"IF(OFFICIAL!I81>1,OFFICIAL!I81,99)","v":99},{"$f":"IF(OFFICIAL!J81>1,OFFICIAL!J81,99)","v":99},{"$f":"IF(OFFICIAL!K81>1,OFFICIAL!K81,99)","v":99},{"$f":"IF(OFFICIAL!L81>1,OFFICIAL!L81,99)","v":99},{"$f":"IF(OFFICIAL!M81>1,OFFICIAL!M81,99)","v":99},{"$f":"IF(OFFICIAL!N81>1,OFFICIAL!N81,99)","v":99}]
[{"$f":"IF(OFFICIAL!A82>1,OFFICIAL!A82,\" \")","v":" "},{"$f":"IF(OFFICIAL!B82>1,OFFICIAL!B82,\" \")","v":" "},{"$f":"IF(OFFICIAL!C82>0.01,OFFICIAL!C82, \"\")","v":""},{"$f":"IF(OFFICIAL!O82>0.1,OFFICIAL!O82,\"\")","v":""},{"$f":"IF(OFFICIAL!E82>1,OFFICIAL!E82,\" \")","v":" "},{"$f":"IF(OFFICIAL!F82>1,OFFICIAL!F82,\" \")","v":" "},{"$f":"IF(OFFICIAL!G82>1,OFFICIAL!G82,\" \")","v":" "},"","","","","","","",{"$f":"IF(OFFICIAL!H82>1,OFFICIAL!H82,99)","v":99},{"$f":"IF(OFFICIAL!I82>1,OFFICIAL!I82,99)","v":99},{"$f":"IF(OFFICIAL!J82>1,OFFICIAL!J82,99)","v":99},{"$f":"IF(OFFICIAL!K82>1,OFFICIAL!K82,99)","v":99},{"$f":"IF(OFFICIAL!L82>1,OFFICIAL!L82,99)","v":99},{"$f":"IF(OFFICIAL!M82>1,OFFICIAL!M82,99)","v":99},{"$f":"IF(OFFICIAL!N82>1,OFFICIAL!N82,99)","v":99}]
[{"$f":"IF(OFFICIAL!A83>1,OFFICIAL!A83,\" \")","v":" "},{"$f":"IF(OFFICIAL!B83>1,OFFICIAL!B83,\" \")","v":" "},{"$f":"IF(OFFICIAL!C83>0.01,OFFICIAL!C83, \"\")","v":""},{"$f":"IF(OFFICIAL!O83>0.1,OFFICIAL!O83,\"\")","v":""},{"$f":"IF(OFFICIAL!E83>1,OFFICIAL!E83,\" \")","v":" "},{"$f":"IF(OFFICIAL!F83>1,OFFICIAL!F83,\" \")","v":" "},{"$f":"IF(OFFICIAL!G83>1,OFFICIAL!G83,\" \")","v":" "},"","","","","","","",{"$f":"IF(OFFICIAL!H83>1,OFFICIAL!H83,99)","v":99},{"$f":"IF(OFFICIAL!I83>1,OFFICIAL!I83,99)","v":99},{"$f":"IF(OFFICIAL!J83>1,OFFICIAL!J83,99)","v":99},{"$f":"IF(OFFICIAL!K83>1,OFFICIAL!K83,99)","v":99},{"$f":"IF(OFFICIAL!L83>1,OFFICIAL!L83,99)","v":99},{"$f":"IF(OFFICIAL!M83>1,OFFICIAL!M83,99)","v":99},{"$f":"IF(OFFICIAL!N83>1,OFFICIAL!N83,99)","v":99}]
[{"$f":"IF(OFFICIAL!A84>1,OFFICIAL!A84,\" \")","v":" "},{"$f":"IF(OFFICIAL!B84>1,OFFICIAL!B84,\" \")","v":" "},{"$f":"IF(OFFICIAL!C84>0.01,OFFICIAL!C84, \"\")","v":""},{"$f":"IF(OFFICIAL!O84>0.1,OFFICIAL!O84,\"\")","v":""},{"$f":"IF(OFFICIAL!E84>1,OFFICIAL!E84,\" \")","v":" "},{"$f":"IF(OFFICIAL!F84>1,OFFICIAL!F84,\" \")","v":" "},{"$f":"IF(OFFICIAL!G84>1,OFFICIAL!G84,\" \")","v":" "},"","","","","","","",{"$f":"IF(OFFICIAL!H84>1,OFFICIAL!H84,99)","v":99},{"$f":"IF(OFFICIAL!I84>1,OFFICIAL!I84,99)","v":99},{"$f":"IF(OFFICIAL!J84>1,OFFICIAL!J84,99)","v":99},{"$f":"IF(OFFICIAL!K84>1,OFFICIAL!K84,99)","v":99},{"$f":"IF(OFFICIAL!L84>1,OFFICIAL!L84,99)","v":99},{"$f":"IF(OFFICIAL!M84>1,OFFICIAL!M84,99)","v":99},{"$f":"IF(OFFICIAL!N84>1,OFFICIAL!N84,99)","v":99}]
[{"$f":"IF(OFFICIAL!A85>1,OFFICIAL!A85,\" \")","v":" "},{"$f":"IF(OFFICIAL!B85>1,OFFICIAL!B85,\" \")","v":" "},{"$f":"IF(OFFICIAL!C85>0.01,OFFICIAL!C85, \"\")","v":""},{"$f":"IF(OFFICIAL!O85>0.1,OFFICIAL!O85,\"\")","v":""},{"$f":"IF(OFFICIAL!E85>1,OFFICIAL!E85,\" \")","v":" "},{"$f":"IF(OFFICIAL!F85>1,OFFICIAL!F85,\" \")","v":" "},{"$f":"IF(OFFICIAL!G85>1,OFFICIAL!G85,\" \")","v":" "},"","","","","","","",{"$f":"IF(OFFICIAL!H85>1,OFFICIAL!H85,99)","v":99},{"$f":"IF(OFFICIAL!I85>1,OFFICIAL!I85,99)","v":99},{"$f":"IF(OFFICIAL!J85>1,OFFICIAL!J85,99)","v":99},{"$f":"IF(OFFICIAL!K85>1,OFFICIAL!K85,99)","v":99},{"$f":"IF(OFFICIAL!L85>1,OFFICIAL!L85,99)","v":99},{"$f":"IF(OFFICIAL!M85>1,OFFICIAL!M85,99)","v":99},{"$f":"IF(OFFICIAL!N85>1,OFFICIAL!N85,99)","v":99}]
[{"$f":"IF(OFFICIAL!A86>1,OFFICIAL!A86,\" \")","v":" "},{"$f":"IF(OFFICIAL!B86>1,OFFICIAL!B86,\" \")","v":" "},{"$f":"IF(OFFICIAL!C86>0.01,OFFICIAL!C86, \"\")","v":""},{"$f":"IF(OFFICIAL!O86>0.1,OFFICIAL!O86,\"\")","v":""},{"$f":"IF(OFFICIAL!E86>1,OFFICIAL!E86,\" \")","v":" "},{"$f":"IF(OFFICIAL!F86>1,OFFICIAL!F86,\" \")","v":" "},{"$f":"IF(OFFICIAL!G86>1,OFFICIAL!G86,\" \")","v":" "},"","","","","","","",{"$f":"IF(OFFICIAL!H86>1,OFFICIAL!H86,99)","v":99},{"$f":"IF(OFFICIAL!I86>1,OFFICIAL!I86,99)","v":99},{"$f":"IF(OFFICIAL!J86>1,OFFICIAL!J86,99)","v":99},{"$f":"IF(OFFICIAL!K86>1,OFFICIAL!K86,99)","v":99},{"$f":"IF(OFFICIAL!L86>1,OFFICIAL!L86,99)","v":99},{"$f":"IF(OFFICIAL!M86>1,OFFICIAL!M86,99)","v":99},{"$f":"IF(OFFICIAL!N86>1,OFFICIAL!N86,99)","v":99}]
[{"$f":"IF(OFFICIAL!A87>1,OFFICIAL!A87,\" \")","v":" "},{"$f":"IF(OFFICIAL!B87>1,OFFICIAL!B87,\" \")","v":" "},{"$f":"IF(OFFICIAL!C87>0.01,OFFICIAL!C87, \"\")","v":""},{"$f":"IF(OFFICIAL!O87>0.1,OFFICIAL!O87,\"\")","v":""},{"$f":"IF(OFFICIAL!E87>1,OFFICIAL!E87,\" \")","v":" "},{"$f":"IF(OFFICIAL!F87>1,OFFICIAL!F87,\" \")","v":" "},{"$f":"IF(OFFICIAL!G87>1,OFFICIAL!G87,\" \")","v":" "},"","","","","","","",{"$f":"IF(OFFICIAL!H87>1,OFFICIAL!H87,99)","v":99},{"$f":"IF(OFFICIAL!I87>1,OFFICIAL!I87,99)","v":99},{"$f":"IF(OFFICIAL!J87>1,OFFICIAL!J87,99)","v":99},{"$f":"IF(OFFICIAL!K87>1,OFFICIAL!K87,99)","v":99},{"$f":"IF(OFFICIAL!L87>1,OFFICIAL!L87,99)","v":99},{"$f":"IF(OFFICIAL!M87>1,OFFICIAL!M87,99)","v":99},{"$f":"IF(OFFICIAL!N87>1,OFFICIAL!N87,99)","v":99}]
[{"$f":"IF(OFFICIAL!A88>1,OFFICIAL!A88,\" \")","v":" "},{"$f":"IF(OFFICIAL!B88>1,OFFICIAL!B88,\" \")","v":" "},{"$f":"IF(OFFICIAL!C88>0.01,OFFICIAL!C88, \"\")","v":""},{"$f":"IF(OFFICIAL!O88>0.1,OFFICIAL!O88,\"\")","v":""},{"$f":"IF(OFFICIAL!E88>1,OFFICIAL!E88,\" \")","v":" "},{"$f":"IF(OFFICIAL!F88>1,OFFICIAL!F88,\" \")","v":" "},{"$f":"IF(OFFICIAL!G88>1,OFFICIAL!G88,\" \")","v":" "},"","","","","","","",{"$f":"IF(OFFICIAL!H88>1,OFFICIAL!H88,99)","v":99},{"$f":"IF(OFFICIAL!I88>1,OFFICIAL!I88,99)","v":99},{"$f":"IF(OFFICIAL!J88>1,OFFICIAL!J88,99)","v":99},{"$f":"IF(OFFICIAL!K88>1,OFFICIAL!K88,99)","v":99},{"$f":"IF(OFFICIAL!L88>1,OFFICIAL!L88,99)","v":99},{"$f":"IF(OFFICIAL!M88>1,OFFICIAL!M88,99)","v":99},{"$f":"IF(OFFICIAL!N88>1,OFFICIAL!N88,99)","v":99}]
[{"$f":"IF(OFFICIAL!A89>1,OFFICIAL!A89,\" \")","v":" "},{"$f":"IF(OFFICIAL!B89>1,OFFICIAL!B89,\" \")","v":" "},{"$f":"IF(OFFICIAL!C89>0.01,OFFICIAL!C89, \"\")","v":""},{"$f":"IF(OFFICIAL!O89>0.1,OFFICIAL!O89,\"\")","v":""},{"$f":"IF(OFFICIAL!E89>1,OFFICIAL!E89,\" \")","v":" "},{"$f":"IF(OFFICIAL!F89>1,OFFICIAL!F89,\" \")","v":" "},{"$f":"IF(OFFICIAL!G89>1,OFFICIAL!G89,\" \")","v":" "},"","","","","","","",{"$f":"IF(OFFICIAL!H89>1,OFFICIAL!H89,99)","v":99},{"$f":"IF(OFFICIAL!I89>1,OFFICIAL!I89,99)","v":99},{"$f":"IF(OFFICIAL!J89>1,OFFICIAL!J89,99)","v":99},{"$f":"IF(OFFICIAL!K89>1,OFFICIAL!K89,99)","v":99},{"$f":"IF(OFFICIAL!L89>1,OFFICIAL!L89,99)","v":99},{"$f":"IF(OFFICIAL!M89>1,OFFICIAL!M89,99)","v":99},{"$f":"IF(OFFICIAL!N89>1,OFFICIAL!N89,99)","v":99}]
[{"$f":"IF(OFFICIAL!A90>1,OFFICIAL!A90,\" \")","v":" "},{"$f":"IF(OFFICIAL!B90>1,OFFICIAL!B90,\" \")","v":" "},{"$f":"IF(OFFICIAL!C90>0.01,OFFICIAL!C90, \"\")","v":""},{"$f":"IF(OFFICIAL!O90>0.1,OFFICIAL!O90,\"\")","v":""},{"$f":"IF(OFFICIAL!E90>1,OFFICIAL!E90,\" \")","v":" "},{"$f":"IF(OFFICIAL!F90>1,OFFICIAL!F90,\" \")","v":" "},{"$f":"IF(OFFICIAL!G90>1,OFFICIAL!G90,\" \")","v":" "},"","","","","","","",{"$f":"IF(OFFICIAL!H90>1,OFFICIAL!H90,99)","v":99},{"$f":"IF(OFFICIAL!I90>1,OFFICIAL!I90,99)","v":99},{"$f":"IF(OFFICIAL!J90>1,OFFICIAL!J90,99)","v":99},{"$f":"IF(OFFICIAL!K90>1,OFFICIAL!K90,99)","v":99},{"$f":"IF(OFFICIAL!L90>1,OFFICIAL!L90,99)","v":99},{"$f":"IF(OFFICIAL!M90>1,OFFICIAL!M90,99)","v":99},{"$f":"IF(OFFICIAL!N90>1,OFFICIAL!N90,99)","v":99}]
[{"$f":"IF(OFFICIAL!A91>1,OFFICIAL!A91,\" \")","v":" "},{"$f":"IF(OFFICIAL!B91>1,OFFICIAL!B91,\" \")","v":" "},{"$f":"IF(OFFICIAL!C91>0.01,OFFICIAL!C91, \"\")","v":""},{"$f":"IF(OFFICIAL!O91>0.1,OFFICIAL!O91,\"\")","v":""},{"$f":"IF(OFFICIAL!E91>1,OFFICIAL!E91,\" \")","v":" "},{"$f":"IF(OFFICIAL!F91>1,OFFICIAL!F91,\" \")","v":" "},{"$f":"IF(OFFICIAL!G91>1,OFFICIAL!G91,\" \")","v":" "},"","","","","","","",{"$f":"IF(OFFICIAL!H91>1,OFFICIAL!H91,99)","v":99},{"$f":"IF(OFFICIAL!I91>1,OFFICIAL!I91,99)","v":99},{"$f":"IF(OFFICIAL!J91>1,OFFICIAL!J91,99)","v":99},{"$f":"IF(OFFICIAL!K91>1,OFFICIAL!K91,99)","v":99},{"$f":"IF(OFFICIAL!L91>1,OFFICIAL!L91,99)","v":99},{"$f":"IF(OFFICIAL!M91>1,OFFICIAL!M91,99)","v":99},{"$f":"IF(OFFICIAL!N91>1,OFFICIAL!N91,99)","v":99}]
[{"$f":"IF(OFFICIAL!A92>1,OFFICIAL!A92,\" \")","v":" "},{"$f":"IF(OFFICIAL!B92>1,OFFICIAL!B92,\" \")","v":" "},{"$f":"IF(OFFICIAL!C92>0.01,OFFICIAL!C92, \"\")","v":""},{"$f":"IF(OFFICIAL!O92>0.1,OFFICIAL!O92,\"\")","v":""},{"$f":"IF(OFFICIAL!E92>1,OFFICIAL!E92,\" \")","v":" "},{"$f":"IF(OFFICIAL!F92>1,OFFICIAL!F92,\" \")","v":" "},{"$f":"IF(OFFICIAL!G92>1,OFFICIAL!G92,\" \")","v":" "},"","","","","","","",{"$f":"IF(OFFICIAL!H92>1,OFFICIAL!H92,99)","v":99},{"$f":"IF(OFFICIAL!I92>1,OFFICIAL!I92,99)","v":99},{"$f":"IF(OFFICIAL!J92>1,OFFICIAL!J92,99)","v":99},{"$f":"IF(OFFICIAL!K92>1,OFFICIAL!K92,99)","v":99},{"$f":"IF(OFFICIAL!L92>1,OFFICIAL!L92,99)","v":99},{"$f":"IF(OFFICIAL!M92>1,OFFICIAL!M92,99)","v":99},{"$f":"IF(OFFICIAL!N92>1,OFFICIAL!N92,99)","v":99}]
[{"$f":"IF(OFFICIAL!A93>1,OFFICIAL!A93,\" \")","v":" "},{"$f":"IF(OFFICIAL!B93>1,OFFICIAL!B93,\" \")","v":" "},{"$f":"IF(OFFICIAL!C93>0.01,OFFICIAL!C93, \"\")","v":""},{"$f":"IF(OFFICIAL!O93>0.1,OFFICIAL!O93,\"\")","v":""},{"$f":"IF(OFFICIAL!E93>1,OFFICIAL!E93,\" \")","v":" "},{"$f":"IF(OFFICIAL!F93>1,OFFICIAL!F93,\" \")","v":" "},{"$f":"IF(OFFICIAL!G93>1,OFFICIAL!G93,\" \")","v":" "},"","","","","","","",{"$f":"IF(OFFICIAL!H93>1,OFFICIAL!H93,99)","v":99},{"$f":"IF(OFFICIAL!I93>1,OFFICIAL!I93,99)","v":99},{"$f":"IF(OFFICIAL!J93>1,OFFICIAL!J93,99)","v":99},{"$f":"IF(OFFICIAL!K93>1,OFFICIAL!K93,99)","v":99},{"$f":"IF(OFFICIAL!L93>1,OFFICIAL!L93,99)","v":99},{"$f":"IF(OFFICIAL!M93>1,OFFICIAL!M93,99)","v":99},{"$f":"IF(OFFICIAL!N93>1,OFFICIAL!N93,99)","v":99}]
[{"$f":"IF(OFFICIAL!A94>1,OFFICIAL!A94,\" \")","v":" "},{"$f":"IF(OFFICIAL!B94>1,OFFICIAL!B94,\" \")","v":" "},{"$f":"IF(OFFICIAL!C94>0.01,OFFICIAL!C94, \"\")","v":""},{"$f":"IF(OFFICIAL!O94>0.1,OFFICIAL!O94,\"\")","v":""},{"$f":"IF(OFFICIAL!E94>1,OFFICIAL!E94,\" \")","v":" "},{"$f":"IF(OFFICIAL!F94>1,OFFICIAL!F94,\" \")","v":" "},{"$f":"IF(OFFICIAL!G94>1,OFFICIAL!G94,\" \")","v":" "},"","","","","","","",{"$f":"IF(OFFICIAL!H94>1,OFFICIAL!H94,99)","v":99},{"$f":"IF(OFFICIAL!I94>1,OFFICIAL!I94,99)","v":99},{"$f":"IF(OFFICIAL!J94>1,OFFICIAL!J94,99)","v":99},{"$f":"IF(OFFICIAL!K94>1,OFFICIAL!K94,99)","v":99},{"$f":"IF(OFFICIAL!L94>1,OFFICIAL!L94,99)","v":99},{"$f":"IF(OFFICIAL!M94>1,OFFICIAL!M94,99)","v":99},{"$f":"IF(OFFICIAL!N94>1,OFFICIAL!N94,99)","v":99}]
[{"$f":"IF(OFFICIAL!A95>1,OFFICIAL!A95,\" \")","v":" "},{"$f":"IF(OFFICIAL!B95>1,OFFICIAL!B95,\" \")","v":" "},{"$f":"IF(OFFICIAL!C95>0.01,OFFICIAL!C95, \"\")","v":""},{"$f":"IF(OFFICIAL!O95>0.1,OFFICIAL!O95,\"\")","v":""},{"$f":"IF(OFFICIAL!E95>1,OFFICIAL!E95,\" \")","v":" "},{"$f":"IF(OFFICIAL!F95>1,OFFICIAL!F95,\" \")","v":" "},{"$f":"IF(OFFICIAL!G95>1,OFFICIAL!G95,\" \")","v":" "},"","","","","","","",{"$f":"IF(OFFICIAL!H95>1,OFFICIAL!H95,99)","v":99},{"$f":"IF(OFFICIAL!I95>1,OFFICIAL!I95,99)","v":99},{"$f":"IF(OFFICIAL!J95>1,OFFICIAL!J95,99)","v":99},{"$f":"IF(OFFICIAL!K95>1,OFFICIAL!K95,99)","v":99},{"$f":"IF(OFFICIAL!L95>1,OFFICIAL!L95,99)","v":99},{"$f":"IF(OFFICIAL!M95>1,OFFICIAL!M95,99)","v":99},{"$f":"IF(OFFICIAL!N95>1,OFFICIAL!N95,99)","v":99}]
[{"$f":"IF(OFFICIAL!A96>1,OFFICIAL!A96,\" \")","v":" "},{"$f":"IF(OFFICIAL!B96>1,OFFICIAL!B96,\" \")","v":" "},{"$f":"IF(OFFICIAL!C96>0.01,OFFICIAL!C96, \"\")","v":""},{"$f":"IF(OFFICIAL!O96>0.1,OFFICIAL!O96,\"\")","v":""},{"$f":"IF(OFFICIAL!E96>1,OFFICIAL!E96,\" \")","v":" "},{"$f":"IF(OFFICIAL!F96>1,OFFICIAL!F96,\" \")","v":" "},{"$f":"IF(OFFICIAL!G96>1,OFFICIAL!G96,\" \")","v":" "},"","","","","","","",{"$f":"IF(OFFICIAL!H96>1,OFFICIAL!H96,99)","v":99},{"$f":"IF(OFFICIAL!I96>1,OFFICIAL!I96,99)","v":99},{"$f":"IF(OFFICIAL!J96>1,OFFICIAL!J96,99)","v":99},{"$f":"IF(OFFICIAL!K96>1,OFFICIAL!K96,99)","v":99},{"$f":"IF(OFFICIAL!L96>1,OFFICIAL!L96,99)","v":99},{"$f":"IF(OFFICIAL!M96>1,OFFICIAL!M96,99)","v":99},{"$f":"IF(OFFICIAL!N96>1,OFFICIAL!N96,99)","v":99}]
[{"$f":"IF(OFFICIAL!A97>1,OFFICIAL!A97,\" \")","v":" "},{"$f":"IF(OFFICIAL!B97>1,OFFICIAL!B97,\" \")","v":" "},{"$f":"IF(OFFICIAL!C97>0.01,OFFICIAL!C97, \"\")","v":""},{"$f":"IF(OFFICIAL!O97>0.1,OFFICIAL!O97,\"\")","v":""},{"$f":"IF(OFFICIAL!E97>1,OFFICIAL!E97,\" \")","v":" "},{"$f":"IF(OFFICIAL!F97>1,OFFICIAL!F97,\" \")","v":" "},{"$f":"IF(OFFICIAL!G97>1,OFFICIAL!G97,\" \")","v":" "},"","","","","","","",{"$f":"IF(OFFICIAL!H97>1,OFFICIAL!H97,99)","v":99},{"$f":"IF(OFFICIAL!I97>1,OFFICIAL!I97,99)","v":99},{"$f":"IF(OFFICIAL!J97>1,OFFICIAL!J97,99)","v":99},{"$f":"IF(OFFICIAL!K97>1,OFFICIAL!K97,99)","v":99},{"$f":"IF(OFFICIAL!L97>1,OFFICIAL!L97,99)","v":99},{"$f":"IF(OFFICIAL!M97>1,OFFICIAL!M97,99)","v":99},{"$f":"IF(OFFICIAL!N97>1,OFFICIAL!N97,99)","v":99}]
[{"$f":"IF(OFFICIAL!A98>1,OFFICIAL!A98,\" \")","v":" "},{"$f":"IF(OFFICIAL!B98>1,OFFICIAL!B98,\" \")","v":" "},{"$f":"IF(OFFICIAL!C98>0.01,OFFICIAL!C98, \"\")","v":""},{"$f":"IF(OFFICIAL!O98>0.1,OFFICIAL!O98,\"\")","v":""},{"$f":"IF(OFFICIAL!E98>1,OFFICIAL!E98,\" \")","v":" "},{"$f":"IF(OFFICIAL!F98>1,OFFICIAL!F98,\" \")","v":" "},{"$f":"IF(OFFICIAL!G98>1,OFFICIAL!G98,\" \")","v":" "},"","","","","","","",{"$f":"IF(OFFICIAL!H98>1,OFFICIAL!H98,99)","v":99},{"$f":"IF(OFFICIAL!I98>1,OFFICIAL!I98,99)","v":99},{"$f":"IF(OFFICIAL!J98>1,OFFICIAL!J98,99)","v":99},{"$f":"IF(OFFICIAL!K98>1,OFFICIAL!K98,99)","v":99},{"$f":"IF(OFFICIAL!L98>1,OFFICIAL!L98,99)","v":99},{"$f":"IF(OFFICIAL!M98>1,OFFICIAL!M98,99)","v":99},{"$f":"IF(OFFICIAL!N98>1,OFFICIAL!N98,99)","v":99}]
[{"$f":"IF(OFFICIAL!A99>1,OFFICIAL!A99,\" \")","v":" "},{"$f":"IF(OFFICIAL!B99>1,OFFICIAL!B99,\" \")","v":" "},{"$f":"IF(OFFICIAL!C99>0.01,OFFICIAL!C99, \"\")","v":""},{"$f":"IF(OFFICIAL!O99>0.1,OFFICIAL!O99,\"\")","v":""},{"$f":"IF(OFFICIAL!E99>1,OFFICIAL!E99,\" \")","v":" "},{"$f":"IF(OFFICIAL!F99>1,OFFICIAL!F99,\" \")","v":" "},{"$f":"IF(OFFICIAL!G99>1,OFFICIAL!G99,\" \")","v":" "},"","","","","","","",{"$f":"IF(OFFICIAL!H99>1,OFFICIAL!H99,99)","v":99},{"$f":"IF(OFFICIAL!I99>1,OFFICIAL!I99,99)","v":99},{"$f":"IF(OFFICIAL!J99>1,OFFICIAL!J99,99)","v":99},{"$f":"IF(OFFICIAL!K99>1,OFFICIAL!K99,99)","v":99},{"$f":"IF(OFFICIAL!L99>1,OFFICIAL!L99,99)","v":99},{"$f":"IF(OFFICIAL!M99>1,OFFICIAL!M99,99)","v":99},{"$f":"IF(OFFICIAL!N99>1,OFFICIAL!N99,99)","v":99}]
[{"$f":"IF(OFFICIAL!A100>1,OFFICIAL!A100,\" \")","v":" "},{"$f":"IF(OFFICIAL!B100>1,OFFICIAL!B100,\" \")","v":" "},{"$f":"IF(OFFICIAL!C100>0.01,OFFICIAL!C100, \"\")","v":""},{"$f":"IF(OFFICIAL!O100>0.1,OFFICIAL!O100,\"\")","v":""},{"$f":"IF(OFFICIAL!E100>1,OFFICIAL!E100,\" \")","v":" "},{"$f":"IF(OFFICIAL!F100>1,OFFICIAL!F100,\" \")","v":" "},{"$f":"IF(OFFICIAL!G100>1,OFFICIAL!G100,\" \")","v":" "},"","","","","","","",{"$f":"IF(OFFICIAL!H100>1,OFFICIAL!H100,99)","v":99},{"$f":"IF(OFFICIAL!I100>1,OFFICIAL!I100,99)","v":99},{"$f":"IF(OFFICIAL!J100>1,OFFICIAL!J100,99)","v":99},{"$f":"IF(OFFICIAL!K100>1,OFFICIAL!K100,99)","v":99},{"$f":"IF(OFFICIAL!L100>1,OFFICIAL!L100,99)","v":99},{"$f":"IF(OFFICIAL!M100>1,OFFICIAL!M100,99)","v":99},{"$f":"IF(OFFICIAL!N100>1,OFFICIAL!N100,99)","v":99}]
[{"$f":"IF(OFFICIAL!A101>1,OFFICIAL!A101,\" \")","v":" "},{"$f":"IF(OFFICIAL!B101>1,OFFICIAL!B101,\" \")","v":" "},{"$f":"IF(OFFICIAL!C101>0.01,OFFICIAL!C101, \"\")","v":""},{"$f":"IF(OFFICIAL!O101>0.1,OFFICIAL!O101,\"\")","v":""},{"$f":"IF(OFFICIAL!E101>1,OFFICIAL!E101,\" \")","v":" "},{"$f":"IF(OFFICIAL!F101>1,OFFICIAL!F101,\" \")","v":" "},{"$f":"IF(OFFICIAL!G101>1,OFFICIAL!G101,\" \")","v":" "},"","","","","","","",{"$f":"IF(OFFICIAL!H101>1,OFFICIAL!H101,99)","v":99},{"$f":"IF(OFFICIAL!I101>1,OFFICIAL!I101,99)","v":99},{"$f":"IF(OFFICIAL!J101>1,OFFICIAL!J101,99)","v":99},{"$f":"IF(OFFICIAL!K101>1,OFFICIAL!K101,99)","v":99},{"$f":"IF(OFFICIAL!L101>1,OFFICIAL!L101,99)","v":99},{"$f":"IF(OFFICIAL!M101>1,OFFICIAL!M101,99)","v":99},{"$f":"IF(OFFICIAL!N101>1,OFFICIAL!N101,99)","v":99}]
[{"$f":"IF(OFFICIAL!A102>1,OFFICIAL!A102,\" \")","v":" "},{"$f":"IF(OFFICIAL!B102>1,OFFICIAL!B102,\" \")","v":" "},{"$f":"IF(OFFICIAL!C102>0.01,OFFICIAL!C102, \"\")","v":""},{"$f":"IF(OFFICIAL!O102>0.1,OFFICIAL!O102,\"\")","v":""},{"$f":"IF(OFFICIAL!E102>1,OFFICIAL!E102,\" \")","v":" "},{"$f":"IF(OFFICIAL!F102>1,OFFICIAL!F102,\" \")","v":" "},{"$f":"IF(OFFICIAL!G102>1,OFFICIAL!G102,\" \")","v":" "},"","","","","","","",{"$f":"IF(OFFICIAL!H102>1,OFFICIAL!H102,99)","v":99},{"$f":"IF(OFFICIAL!I102>1,OFFICIAL!I102,99)","v":99},{"$f":"IF(OFFICIAL!J102>1,OFFICIAL!J102,99)","v":99},{"$f":"IF(OFFICIAL!K102>1,OFFICIAL!K102,99)","v":99},{"$f":"IF(OFFICIAL!L102>1,OFFICIAL!L102,99)","v":99},{"$f":"IF(OFFICIAL!M102>1,OFFICIAL!M102,99)","v":99},{"$f":"IF(OFFICIAL!N102>1,OFFICIAL!N102,99)","v":99}]
[{"$f":"IF(OFFICIAL!A103>1,OFFICIAL!A103,\" \")","v":" "},{"$f":"IF(OFFICIAL!B103>1,OFFICIAL!B103,\" \")","v":" "},{"$f":"IF(OFFICIAL!C103>0.01,OFFICIAL!C103, \"\")","v":""},{"$f":"IF(OFFICIAL!O103>0.1,OFFICIAL!O103,\"\")","v":""},{"$f":"IF(OFFICIAL!E103>1,OFFICIAL!E103,\" \")","v":" "},{"$f":"IF(OFFICIAL!F103>1,OFFICIAL!F103,\" \")","v":" "},{"$f":"IF(OFFICIAL!G103>1,OFFICIAL!G103,\" \")","v":" "},"","","","","","","",{"$f":"IF(OFFICIAL!H103>1,OFFICIAL!H103,99)","v":99},{"$f":"IF(OFFICIAL!I103>1,OFFICIAL!I103,99)","v":99},{"$f":"IF(OFFICIAL!J103>1,OFFICIAL!J103,99)","v":99},{"$f":"IF(OFFICIAL!K103>1,OFFICIAL!K103,99)","v":99},{"$f":"IF(OFFICIAL!L103>1,OFFICIAL!L103,99)","v":99},{"$f":"IF(OFFICIAL!M103>1,OFFICIAL!M103,99)","v":99},{"$f":"IF(OFFICIAL!N103>1,OFFICIAL!N103,99)","v":99}]
[{"$f":"IF(OFFICIAL!A104>1,OFFICIAL!A104,\" \")","v":" "},{"$f":"IF(OFFICIAL!B104>1,OFFICIAL!B104,\" \")","v":" "},{"$f":"IF(OFFICIAL!C104>0.01,OFFICIAL!C104, \"\")","v":""},{"$f":"IF(OFFICIAL!O104>0.1,OFFICIAL!O104,\"\")","v":""},{"$f":"IF(OFFICIAL!E104>1,OFFICIAL!E104,\" \")","v":" "},{"$f":"IF(OFFICIAL!F104>1,OFFICIAL!F104,\" \")","v":" "},{"$f":"IF(OFFICIAL!G104>1,OFFICIAL!G104,\" \")","v":" "},"","","","","","","",{"$f":"IF(OFFICIAL!H104>1,OFFICIAL!H104,99)","v":99},{"$f":"IF(OFFICIAL!I104>1,OFFICIAL!I104,99)","v":99},{"$f":"IF(OFFICIAL!J104>1,OFFICIAL!J104,99)","v":99},{"$f":"IF(OFFICIAL!K104>1,OFFICIAL!K104,99)","v":99},{"$f":"IF(OFFICIAL!L104>1,OFFICIAL!L104,99)","v":99},{"$f":"IF(OFFICIAL!M104>1,OFFICIAL!M104,99)","v":99},{"$f":"IF(OFFICIAL!N104>1,OFFICIAL!N104,99)","v":99}]
[{"$f":"IF(OFFICIAL!A105>1,OFFICIAL!A105,\" \")","v":" "},{"$f":"IF(OFFICIAL!B105>1,OFFICIAL!B105,\" \")","v":" "},{"$f":"IF(OFFICIAL!C105>0.01,OFFICIAL!C105, \"\")","v":""},{"$f":"IF(OFFICIAL!O105>0.1,OFFICIAL!O105,\"\")","v":""},{"$f":"IF(OFFICIAL!E105>1,OFFICIAL!E105,\" \")","v":" "},{"$f":"IF(OFFICIAL!F105>1,OFFICIAL!F105,\" \")","v":" "},{"$f":"IF(OFFICIAL!G105>1,OFFICIAL!G105,\" \")","v":" "},"","","","","","","",{"$f":"IF(OFFICIAL!H105>1,OFFICIAL!H105,99)","v":99},{"$f":"IF(OFFICIAL!I105>1,OFFICIAL!I105,99)","v":99},{"$f":"IF(OFFICIAL!J105>1,OFFICIAL!J105,99)","v":99},{"$f":"IF(OFFICIAL!K105>1,OFFICIAL!K105,99)","v":99},{"$f":"IF(OFFICIAL!L105>1,OFFICIAL!L105,99)","v":99},{"$f":"IF(OFFICIAL!M105>1,OFFICIAL!M105,99)","v":99},{"$f":"IF(OFFICIAL!N105>1,OFFICIAL!N105,99)","v":99}]
[{"$f":"IF(OFFICIAL!A106>1,OFFICIAL!A106,\" \")","v":" "},{"$f":"IF(OFFICIAL!B106>1,OFFICIAL!B106,\" \")","v":" "},{"$f":"IF(OFFICIAL!C106>0.01,OFFICIAL!C106, \"\")","v":""},{"$f":"IF(OFFICIAL!O106>0.1,OFFICIAL!O106,\"\")","v":""},{"$f":"IF(OFFICIAL!E106>1,OFFICIAL!E106,\" \")","v":" "},{"$f":"IF(OFFICIAL!F106>1,OFFICIAL!F106,\" \")","v":" "},{"$f":"IF(OFFICIAL!G106>1,OFFICIAL!G106,\" \")","v":" "},"","","","","","","",{"$f":"IF(OFFICIAL!H106>1,OFFICIAL!H106,99)","v":99},{"$f":"IF(OFFICIAL!I106>1,OFFICIAL!I106,99)","v":99},{"$f":"IF(OFFICIAL!J106>1,OFFICIAL!J106,99)","v":99},{"$f":"IF(OFFICIAL!K106>1,OFFICIAL!K106,99)","v":99},{"$f":"IF(OFFICIAL!L106>1,OFFICIAL!L106,99)","v":99},{"$f":"IF(OFFICIAL!M106>1,OFFICIAL!M106,99)","v":99},{"$f":"IF(OFFICIAL!N106>1,OFFICIAL!N106,99)","v":99}]
[{"$f":"IF(OFFICIAL!A107>1,OFFICIAL!A107,\" \")","v":" "},{"$f":"IF(OFFICIAL!B107>1,OFFICIAL!B107,\" \")","v":" "},{"$f":"IF(OFFICIAL!C107>0.01,OFFICIAL!C107, \"\")","v":""},{"$f":"IF(OFFICIAL!O107>0.1,OFFICIAL!O107,\"\")","v":""},{"$f":"IF(OFFICIAL!E107>1,OFFICIAL!E107,\" \")","v":" "},{"$f":"IF(OFFICIAL!F107>1,OFFICIAL!F107,\" \")","v":" "},{"$f":"IF(OFFICIAL!G107>1,OFFICIAL!G107,\" \")","v":" "},"","","","","","","",{"$f":"IF(OFFICIAL!H107>1,OFFICIAL!H107,99)","v":99},{"$f":"IF(OFFICIAL!I107>1,OFFICIAL!I107,99)","v":99},{"$f":"IF(OFFICIAL!J107>1,OFFICIAL!J107,99)","v":99},{"$f":"IF(OFFICIAL!K107>1,OFFICIAL!K107,99)","v":99},{"$f":"IF(OFFICIAL!L107>1,OFFICIAL!L107,99)","v":99},{"$f":"IF(OFFICIAL!M107>1,OFFICIAL!M107,99)","v":99},{"$f":"IF(OFFICIAL!N107>1,OFFICIAL!N107,99)","v":99}]
[{"$f":"IF(OFFICIAL!A108>1,OFFICIAL!A108,\" \")","v":" "},{"$f":"IF(OFFICIAL!B108>1,OFFICIAL!B108,\" \")","v":" "},{"$f":"IF(OFFICIAL!C108>0.01,OFFICIAL!C108, \"\")","v":""},{"$f":"IF(OFFICIAL!O108>0.1,OFFICIAL!O108,\"\")","v":""},{"$f":"IF(OFFICIAL!E108>1,OFFICIAL!E108,\" \")","v":" "},{"$f":"IF(OFFICIAL!F108>1,OFFICIAL!F108,\" \")","v":" "},{"$f":"IF(OFFICIAL!G108>1,OFFICIAL!G108,\" \")","v":" "},"","","","","","","",{"$f":"IF(OFFICIAL!H108>1,OFFICIAL!H108,99)","v":99},{"$f":"IF(OFFICIAL!I108>1,OFFICIAL!I108,99)","v":99},{"$f":"IF(OFFICIAL!J108>1,OFFICIAL!J108,99)","v":99},{"$f":"IF(OFFICIAL!K108>1,OFFICIAL!K108,99)","v":99},{"$f":"IF(OFFICIAL!L108>1,OFFICIAL!L108,99)","v":99},{"$f":"IF(OFFICIAL!M108>1,OFFICIAL!M108,99)","v":99},{"$f":"IF(OFFICIAL!N108>1,OFFICIAL!N108,99)","v":99}]
[{"$f":"IF(OFFICIAL!A109>1,OFFICIAL!A109,\" \")","v":" "},{"$f":"IF(OFFICIAL!B109>1,OFFICIAL!B109,\" \")","v":" "},{"$f":"IF(OFFICIAL!C109>0.01,OFFICIAL!C109, \"\")","v":""},{"$f":"IF(OFFICIAL!O109>0.1,OFFICIAL!O109,\"\")","v":""},{"$f":"IF(OFFICIAL!E109>1,OFFICIAL!E109,\" \")","v":" "},{"$f":"IF(OFFICIAL!F109>1,OFFICIAL!F109,\" \")","v":" "},{"$f":"IF(OFFICIAL!G109>1,OFFICIAL!G109,\" \")","v":" "},"","","","","","","",{"$f":"IF(OFFICIAL!H109>1,OFFICIAL!H109,99)","v":99},{"$f":"IF(OFFICIAL!I109>1,OFFICIAL!I109,99)","v":99},{"$f":"IF(OFFICIAL!J109>1,OFFICIAL!J109,99)","v":99},{"$f":"IF(OFFICIAL!K109>1,OFFICIAL!K109,99)","v":99},{"$f":"IF(OFFICIAL!L109>1,OFFICIAL!L109,99)","v":99},{"$f":"IF(OFFICIAL!M109>1,OFFICIAL!M109,99)","v":99},{"$f":"IF(OFFICIAL!N109>1,OFFICIAL!N109,99)","v":99}]
[{"$f":"IF(OFFICIAL!A110>1,OFFICIAL!A110,\" \")","v":" "},{"$f":"IF(OFFICIAL!B110>1,OFFICIAL!B110,\" \")","v":" "},{"$f":"IF(OFFICIAL!C110>0.01,OFFICIAL!C110, \"\")","v":""},{"$f":"IF(OFFICIAL!O110>0.1,OFFICIAL!O110,\"\")","v":""},{"$f":"IF(OFFICIAL!E110>1,OFFICIAL!E110,\" \")","v":" "},{"$f":"IF(OFFICIAL!F110>1,OFFICIAL!F110,\" \")","v":" "},{"$f":"IF(OFFICIAL!G110>1,OFFICIAL!G110,\" \")","v":" "},"","","","","","","",{"$f":"IF(OFFICIAL!H110>1,OFFICIAL!H110,99)","v":99},{"$f":"IF(OFFICIAL!I110>1,OFFICIAL!I110,99)","v":99},{"$f":"IF(OFFICIAL!J110>1,OFFICIAL!J110,99)","v":99},{"$f":"IF(OFFICIAL!K110>1,OFFICIAL!K110,99)","v":99},{"$f":"IF(OFFICIAL!L110>1,OFFICIAL!L110,99)","v":99},{"$f":"IF(OFFICIAL!M110>1,OFFICIAL!M110,99)","v":99},{"$f":"IF(OFFICIAL!N110>1,OFFICIAL!N110,99)","v":99}]
[{"$f":"IF(OFFICIAL!A111>1,OFFICIAL!A111,\" \")","v":" "},{"$f":"IF(OFFICIAL!B111>1,OFFICIAL!B111,\" \")","v":" "},{"$f":"IF(OFFICIAL!C111>0.01,OFFICIAL!C111, \"\")","v":""},{"$f":"IF(OFFICIAL!O111>0.1,OFFICIAL!O111,\"\")","v":""},{"$f":"IF(OFFICIAL!E111>1,OFFICIAL!E111,\" \")","v":" "},{"$f":"IF(OFFICIAL!F111>1,OFFICIAL!F111,\" \")","v":" "},{"$f":"IF(OFFICIAL!G111>1,OFFICIAL!G111,\" \")","v":" "},"","","","","","","",{"$f":"IF(OFFICIAL!H111>1,OFFICIAL!H111,99)","v":99},{"$f":"IF(OFFICIAL!I111>1,OFFICIAL!I111,99)","v":99},{"$f":"IF(OFFICIAL!J111>1,OFFICIAL!J111,99)","v":99},{"$f":"IF(OFFICIAL!K111>1,OFFICIAL!K111,99)","v":99},{"$f":"IF(OFFICIAL!L111>1,OFFICIAL!L111,99)","v":99},{"$f":"IF(OFFICIAL!M111>1,OFFICIAL!M111,99)","v":99},{"$f":"IF(OFFICIAL!N111>1,OFFICIAL!N111,99)","v":99}]